BEGIN:VCALENDAR
VERSION:2.0
PRODID:-//Börgerhus Rostock - Stadtteil- und Begegnungszentrum Groß Klein - ECPv6.15.20//NONSGML v1.0//EN
CALSCALE:GREGORIAN
METHOD:PUBLISH
X-ORIGINAL-URL:https://boergerhus.de
X-WR-CALDESC:Veranstaltungen für Börgerhus Rostock - Stadtteil- und Begegnungszentrum Groß Klein
REFRESH-INTERVAL;VALUE=DURATION:PT1H
X-Robots-Tag:noindex
X-PUBLISHED-TTL:PT1H
BEGIN:VTIMEZONE
TZID:Europe/Berlin
BEGIN:DAYLIGHT
TZOFFSETFROM:+0100
TZOFFSETTO:+0200
TZNAME:CEST
DTSTART:20250330T010000
END:DAYLIGHT
BEGIN:STANDARD
TZOFFSETFROM:+0200
TZOFFSETTO:+0100
TZNAME:CET
DTSTART:20251026T010000
END:STANDARD
BEGIN:DAYLIGHT
TZOFFSETFROM:+0100
TZOFFSETTO:+0200
TZNAME:CEST
DTSTART:20260329T010000
END:DAYLIGHT
BEGIN:STANDARD
TZOFFSETFROM:+0200
TZOFFSETTO:+0100
TZNAME:CET
DTSTART:20261025T010000
END:STANDARD
BEGIN:DAYLIGHT
TZOFFSETFROM:+0100
TZOFFSETTO:+0200
TZNAME:CEST
DTSTART:20270328T010000
END:DAYLIGHT
BEGIN:STANDARD
TZOFFSETFROM:+0200
TZOFFSETTO:+0100
TZNAME:CET
DTSTART:20271031T010000
END:STANDARD
BEGIN:DAYLIGHT
TZOFFSETFROM:+0100
TZOFFSETTO:+0200
TZNAME:CEST
DTSTART:20280326T010000
END:DAYLIGHT
BEGIN:STANDARD
TZOFFSETFROM:+0200
TZOFFSETTO:+0100
TZNAME:CET
DTSTART:20281029T010000
END:STANDARD
END:VTIMEZONE
BEGIN:VEVENT
DTSTART;TZID=Europe/Berlin:20261216T093000
DTEND;TZID=Europe/Berlin:20261216T120000
DTSTAMP:20260423T005133
CREATED:20220406T080820Z
LAST-MODIFIED:20220406T080820Z
UID:27216-1797413400-1797422400@boergerhus.de
SUMMARY:Korbflechten - Kreativraum
DESCRIPTION:Korbflechten Kreativraum Börgerhus
URL:https://boergerhus.de/event/korbflechten-kreativraum-boergerhus/2026-12-16/
LOCATION:Börgerhus\, Kreativraum
ATTACH;FMTTYPE=image/jpeg:https://boergerhus.de/wp-content/uploads/2022/04/Korbflechten.jpg
ORGANIZER;CN="AWO B%C3%B6rgerhus":MAILTO:boergerhus@awo-rostock.de
END:VEVENT
BEGIN:VEVENT
DTSTART;TZID=Europe/Berlin:20261216T143000
DTEND;TZID=Europe/Berlin:20261216T163000
DTSTAMP:20260423T005133
CREATED:20220406T081323Z
LAST-MODIFIED:20220406T081323Z
UID:31406-1797431400-1797438600@boergerhus.de
SUMMARY:Nähwerkstatt für jedes Alter - Kreativraum
DESCRIPTION:Nähwerkstatt für jedes Alter – Kreativraum
URL:https://boergerhus.de/event/naehwerkstatt-fuer-jedes-alter-kreativraum/2026-12-16/
LOCATION:Börgerhus\, Kreativraum
ATTACH;FMTTYPE=image/jpeg:https://boergerhus.de/wp-content/uploads/2022/04/thread-g6ab3db56b_1280.jpg
ORGANIZER;CN="AWO B%C3%B6rgerhus":MAILTO:boergerhus@awo-rostock.de
END:VEVENT
BEGIN:VEVENT
DTSTART;TZID=Europe/Berlin:20261221T100000
DTEND;TZID=Europe/Berlin:20261221T120000
DTSTAMP:20260423T005133
CREATED:20220404T111631Z
LAST-MODIFIED:20220404T111631Z
UID:27252-1797847200-1797854400@boergerhus.de
SUMMARY:Montagsmaler - Kreativraum
DESCRIPTION:Montagsmaler im Kreativraum Börgerhus
URL:https://boergerhus.de/event/montagsmaler-2/2026-12-21/
LOCATION:Börgerhus\, Kreativraum
ATTACH;FMTTYPE=image/jpeg:https://boergerhus.de/wp-content/uploads/2022/04/painting-g8b2f677c8_1280.jpg
ORGANIZER;CN="AWO B%C3%B6rgerhus":MAILTO:boergerhus@awo-rostock.de
END:VEVENT
BEGIN:VEVENT
DTSTART;TZID=Europe/Berlin:20261221T160000
DTEND;TZID=Europe/Berlin:20261221T180000
DTSTAMP:20260423T005133
CREATED:20220404T112835Z
LAST-MODIFIED:20220404T112835Z
UID:27253-1797868800-1797876000@boergerhus.de
SUMMARY:Nähzirkel - Kreativraum
DESCRIPTION:Nähzirkel- Kreativraum Börgerhus
URL:https://boergerhus.de/event/naehzirkel/2026-12-21/
LOCATION:Börgerhus\, Kreativraum
ATTACH;FMTTYPE=image/jpeg:https://boergerhus.de/wp-content/uploads/2022/04/thread-g6ab3db56b_1280.jpg
ORGANIZER;CN="AWO B%C3%B6rgerhus":MAILTO:boergerhus@awo-rostock.de
END:VEVENT
BEGIN:VEVENT
DTSTART;TZID=Europe/Berlin:20261222T100000
DTEND;TZID=Europe/Berlin:20261222T120000
DTSTAMP:20260423T005133
CREATED:20220406T072615Z
LAST-MODIFIED:20220406T072615Z
UID:27263-1797933600-1797940800@boergerhus.de
SUMMARY:Dienstagsmaler - Kreativraum
DESCRIPTION:Dienstagsmaler Kreativraum Börgerhus
URL:https://boergerhus.de/event/dienstagsmaler-kreativraum-boergerhus/2026-12-22/
LOCATION:Börgerhus\, Kreativraum
ATTACH;FMTTYPE=image/jpeg:https://boergerhus.de/wp-content/uploads/2022/04/painting-g8b2f677c8_1280.jpg
ORGANIZER;CN="AWO B%C3%B6rgerhus":MAILTO:boergerhus@awo-rostock.de
END:VEVENT
BEGIN:VEVENT
DTSTART;TZID=Europe/Berlin:20261223T093000
DTEND;TZID=Europe/Berlin:20261223T120000
DTSTAMP:20260423T005133
CREATED:20220406T080820Z
LAST-MODIFIED:20220406T080820Z
UID:27271-1798018200-1798027200@boergerhus.de
SUMMARY:Korbflechten - Kreativraum
DESCRIPTION:Korbflechten Kreativraum Börgerhus
URL:https://boergerhus.de/event/korbflechten-kreativraum-boergerhus/2026-12-23/
LOCATION:Börgerhus\, Kreativraum
ATTACH;FMTTYPE=image/jpeg:https://boergerhus.de/wp-content/uploads/2022/04/Korbflechten.jpg
ORGANIZER;CN="AWO B%C3%B6rgerhus":MAILTO:boergerhus@awo-rostock.de
END:VEVENT
BEGIN:VEVENT
DTSTART;TZID=Europe/Berlin:20261223T143000
DTEND;TZID=Europe/Berlin:20261223T163000
DTSTAMP:20260423T005133
CREATED:20220406T081323Z
LAST-MODIFIED:20220406T081323Z
UID:31407-1798036200-1798043400@boergerhus.de
SUMMARY:Nähwerkstatt für jedes Alter - Kreativraum
DESCRIPTION:Nähwerkstatt für jedes Alter – Kreativraum
URL:https://boergerhus.de/event/naehwerkstatt-fuer-jedes-alter-kreativraum/2026-12-23/
LOCATION:Börgerhus\, Kreativraum
ATTACH;FMTTYPE=image/jpeg:https://boergerhus.de/wp-content/uploads/2022/04/thread-g6ab3db56b_1280.jpg
ORGANIZER;CN="AWO B%C3%B6rgerhus":MAILTO:boergerhus@awo-rostock.de
END:VEVENT
BEGIN:VEVENT
DTSTART;TZID=Europe/Berlin:20261228T100000
DTEND;TZID=Europe/Berlin:20261228T120000
DTSTAMP:20260423T005133
CREATED:20220404T111631Z
LAST-MODIFIED:20220404T111631Z
UID:27298-1798452000-1798459200@boergerhus.de
SUMMARY:Montagsmaler - Kreativraum
DESCRIPTION:Montagsmaler im Kreativraum Börgerhus
URL:https://boergerhus.de/event/montagsmaler-2/2026-12-28/
LOCATION:Börgerhus\, Kreativraum
ATTACH;FMTTYPE=image/jpeg:https://boergerhus.de/wp-content/uploads/2022/04/painting-g8b2f677c8_1280.jpg
ORGANIZER;CN="AWO B%C3%B6rgerhus":MAILTO:boergerhus@awo-rostock.de
END:VEVENT
BEGIN:VEVENT
DTSTART;TZID=Europe/Berlin:20261228T160000
DTEND;TZID=Europe/Berlin:20261228T180000
DTSTAMP:20260423T005133
CREATED:20220404T112835Z
LAST-MODIFIED:20220404T112835Z
UID:27299-1798473600-1798480800@boergerhus.de
SUMMARY:Nähzirkel - Kreativraum
DESCRIPTION:Nähzirkel- Kreativraum Börgerhus
URL:https://boergerhus.de/event/naehzirkel/2026-12-28/
LOCATION:Börgerhus\, Kreativraum
ATTACH;FMTTYPE=image/jpeg:https://boergerhus.de/wp-content/uploads/2022/04/thread-g6ab3db56b_1280.jpg
ORGANIZER;CN="AWO B%C3%B6rgerhus":MAILTO:boergerhus@awo-rostock.de
END:VEVENT
BEGIN:VEVENT
DTSTART;TZID=Europe/Berlin:20261229T100000
DTEND;TZID=Europe/Berlin:20261229T120000
DTSTAMP:20260423T005133
CREATED:20220406T072615Z
LAST-MODIFIED:20220406T072615Z
UID:27307-1798538400-1798545600@boergerhus.de
SUMMARY:Dienstagsmaler - Kreativraum
DESCRIPTION:Dienstagsmaler Kreativraum Börgerhus
URL:https://boergerhus.de/event/dienstagsmaler-kreativraum-boergerhus/2026-12-29/
LOCATION:Börgerhus\, Kreativraum
ATTACH;FMTTYPE=image/jpeg:https://boergerhus.de/wp-content/uploads/2022/04/painting-g8b2f677c8_1280.jpg
ORGANIZER;CN="AWO B%C3%B6rgerhus":MAILTO:boergerhus@awo-rostock.de
END:VEVENT
BEGIN:VEVENT
DTSTART;TZID=Europe/Berlin:20261230T093000
DTEND;TZID=Europe/Berlin:20261230T120000
DTSTAMP:20260423T005133
CREATED:20220406T080820Z
LAST-MODIFIED:20220406T080820Z
UID:27314-1798623000-1798632000@boergerhus.de
SUMMARY:Korbflechten - Kreativraum
DESCRIPTION:Korbflechten Kreativraum Börgerhus
URL:https://boergerhus.de/event/korbflechten-kreativraum-boergerhus/2026-12-30/
LOCATION:Börgerhus\, Kreativraum
ATTACH;FMTTYPE=image/jpeg:https://boergerhus.de/wp-content/uploads/2022/04/Korbflechten.jpg
ORGANIZER;CN="AWO B%C3%B6rgerhus":MAILTO:boergerhus@awo-rostock.de
END:VEVENT
BEGIN:VEVENT
DTSTART;TZID=Europe/Berlin:20261230T143000
DTEND;TZID=Europe/Berlin:20261230T163000
DTSTAMP:20260423T005133
CREATED:20220406T081323Z
LAST-MODIFIED:20220406T081323Z
UID:31408-1798641000-1798648200@boergerhus.de
SUMMARY:Nähwerkstatt für jedes Alter - Kreativraum
DESCRIPTION:Nähwerkstatt für jedes Alter – Kreativraum
URL:https://boergerhus.de/event/naehwerkstatt-fuer-jedes-alter-kreativraum/2026-12-30/
LOCATION:Börgerhus\, Kreativraum
ATTACH;FMTTYPE=image/jpeg:https://boergerhus.de/wp-content/uploads/2022/04/thread-g6ab3db56b_1280.jpg
ORGANIZER;CN="AWO B%C3%B6rgerhus":MAILTO:boergerhus@awo-rostock.de
END:VEVENT
BEGIN:VEVENT
DTSTART;TZID=Europe/Berlin:20270104T100000
DTEND;TZID=Europe/Berlin:20270104T120000
DTSTAMP:20260423T005133
CREATED:20220404T111631Z
LAST-MODIFIED:20220404T111631Z
UID:27337-1799056800-1799064000@boergerhus.de
SUMMARY:Montagsmaler - Kreativraum
DESCRIPTION:Montagsmaler im Kreativraum Börgerhus
URL:https://boergerhus.de/event/montagsmaler-2/2027-01-04/
LOCATION:Börgerhus\, Kreativraum
ATTACH;FMTTYPE=image/jpeg:https://boergerhus.de/wp-content/uploads/2022/04/painting-g8b2f677c8_1280.jpg
ORGANIZER;CN="AWO B%C3%B6rgerhus":MAILTO:boergerhus@awo-rostock.de
END:VEVENT
BEGIN:VEVENT
DTSTART;TZID=Europe/Berlin:20270104T160000
DTEND;TZID=Europe/Berlin:20270104T180000
DTSTAMP:20260423T005133
CREATED:20220404T112835Z
LAST-MODIFIED:20220404T112835Z
UID:27338-1799078400-1799085600@boergerhus.de
SUMMARY:Nähzirkel - Kreativraum
DESCRIPTION:Nähzirkel- Kreativraum Börgerhus
URL:https://boergerhus.de/event/naehzirkel/2027-01-04/
LOCATION:Börgerhus\, Kreativraum
ATTACH;FMTTYPE=image/jpeg:https://boergerhus.de/wp-content/uploads/2022/04/thread-g6ab3db56b_1280.jpg
ORGANIZER;CN="AWO B%C3%B6rgerhus":MAILTO:boergerhus@awo-rostock.de
END:VEVENT
BEGIN:VEVENT
DTSTART;TZID=Europe/Berlin:20270105T100000
DTEND;TZID=Europe/Berlin:20270105T120000
DTSTAMP:20260423T005133
CREATED:20220406T072615Z
LAST-MODIFIED:20220406T072615Z
UID:27345-1799143200-1799150400@boergerhus.de
SUMMARY:Dienstagsmaler - Kreativraum
DESCRIPTION:Dienstagsmaler Kreativraum Börgerhus
URL:https://boergerhus.de/event/dienstagsmaler-kreativraum-boergerhus/2027-01-05/
LOCATION:Börgerhus\, Kreativraum
ATTACH;FMTTYPE=image/jpeg:https://boergerhus.de/wp-content/uploads/2022/04/painting-g8b2f677c8_1280.jpg
ORGANIZER;CN="AWO B%C3%B6rgerhus":MAILTO:boergerhus@awo-rostock.de
END:VEVENT
BEGIN:VEVENT
DTSTART;TZID=Europe/Berlin:20270106T093000
DTEND;TZID=Europe/Berlin:20270106T120000
DTSTAMP:20260423T005133
CREATED:20220406T080820Z
LAST-MODIFIED:20220406T080820Z
UID:27351-1799227800-1799236800@boergerhus.de
SUMMARY:Korbflechten - Kreativraum
DESCRIPTION:Korbflechten Kreativraum Börgerhus
URL:https://boergerhus.de/event/korbflechten-kreativraum-boergerhus/2027-01-06/
LOCATION:Börgerhus\, Kreativraum
ATTACH;FMTTYPE=image/jpeg:https://boergerhus.de/wp-content/uploads/2022/04/Korbflechten.jpg
ORGANIZER;CN="AWO B%C3%B6rgerhus":MAILTO:boergerhus@awo-rostock.de
END:VEVENT
BEGIN:VEVENT
DTSTART;TZID=Europe/Berlin:20270106T143000
DTEND;TZID=Europe/Berlin:20270106T163000
DTSTAMP:20260423T005133
CREATED:20220406T081323Z
LAST-MODIFIED:20220406T081323Z
UID:31409-1799245800-1799253000@boergerhus.de
SUMMARY:Nähwerkstatt für jedes Alter - Kreativraum
DESCRIPTION:Nähwerkstatt für jedes Alter – Kreativraum
URL:https://boergerhus.de/event/naehwerkstatt-fuer-jedes-alter-kreativraum/2027-01-06/
LOCATION:Börgerhus\, Kreativraum
ATTACH;FMTTYPE=image/jpeg:https://boergerhus.de/wp-content/uploads/2022/04/thread-g6ab3db56b_1280.jpg
ORGANIZER;CN="AWO B%C3%B6rgerhus":MAILTO:boergerhus@awo-rostock.de
END:VEVENT
BEGIN:VEVENT
DTSTART;TZID=Europe/Berlin:20270111T100000
DTEND;TZID=Europe/Berlin:20270111T120000
DTSTAMP:20260423T005133
CREATED:20220404T111631Z
LAST-MODIFIED:20220404T111631Z
UID:27380-1799661600-1799668800@boergerhus.de
SUMMARY:Montagsmaler - Kreativraum
DESCRIPTION:Montagsmaler im Kreativraum Börgerhus
URL:https://boergerhus.de/event/montagsmaler-2/2027-01-11/
LOCATION:Börgerhus\, Kreativraum
ATTACH;FMTTYPE=image/jpeg:https://boergerhus.de/wp-content/uploads/2022/04/painting-g8b2f677c8_1280.jpg
ORGANIZER;CN="AWO B%C3%B6rgerhus":MAILTO:boergerhus@awo-rostock.de
END:VEVENT
BEGIN:VEVENT
DTSTART;TZID=Europe/Berlin:20270111T160000
DTEND;TZID=Europe/Berlin:20270111T180000
DTSTAMP:20260423T005133
CREATED:20220404T112835Z
LAST-MODIFIED:20220404T112835Z
UID:27381-1799683200-1799690400@boergerhus.de
SUMMARY:Nähzirkel - Kreativraum
DESCRIPTION:Nähzirkel- Kreativraum Börgerhus
URL:https://boergerhus.de/event/naehzirkel/2027-01-11/
LOCATION:Börgerhus\, Kreativraum
ATTACH;FMTTYPE=image/jpeg:https://boergerhus.de/wp-content/uploads/2022/04/thread-g6ab3db56b_1280.jpg
ORGANIZER;CN="AWO B%C3%B6rgerhus":MAILTO:boergerhus@awo-rostock.de
END:VEVENT
BEGIN:VEVENT
DTSTART;TZID=Europe/Berlin:20270112T100000
DTEND;TZID=Europe/Berlin:20270112T120000
DTSTAMP:20260423T005133
CREATED:20220406T072615Z
LAST-MODIFIED:20220406T072615Z
UID:27393-1799748000-1799755200@boergerhus.de
SUMMARY:Dienstagsmaler - Kreativraum
DESCRIPTION:Dienstagsmaler Kreativraum Börgerhus
URL:https://boergerhus.de/event/dienstagsmaler-kreativraum-boergerhus/2027-01-12/
LOCATION:Börgerhus\, Kreativraum
ATTACH;FMTTYPE=image/jpeg:https://boergerhus.de/wp-content/uploads/2022/04/painting-g8b2f677c8_1280.jpg
ORGANIZER;CN="AWO B%C3%B6rgerhus":MAILTO:boergerhus@awo-rostock.de
END:VEVENT
BEGIN:VEVENT
DTSTART;TZID=Europe/Berlin:20270113T093000
DTEND;TZID=Europe/Berlin:20270113T120000
DTSTAMP:20260423T005133
CREATED:20220406T080820Z
LAST-MODIFIED:20220406T080820Z
UID:27402-1799832600-1799841600@boergerhus.de
SUMMARY:Korbflechten - Kreativraum
DESCRIPTION:Korbflechten Kreativraum Börgerhus
URL:https://boergerhus.de/event/korbflechten-kreativraum-boergerhus/2027-01-13/
LOCATION:Börgerhus\, Kreativraum
ATTACH;FMTTYPE=image/jpeg:https://boergerhus.de/wp-content/uploads/2022/04/Korbflechten.jpg
ORGANIZER;CN="AWO B%C3%B6rgerhus":MAILTO:boergerhus@awo-rostock.de
END:VEVENT
BEGIN:VEVENT
DTSTART;TZID=Europe/Berlin:20270113T143000
DTEND;TZID=Europe/Berlin:20270113T163000
DTSTAMP:20260423T005133
CREATED:20220406T081323Z
LAST-MODIFIED:20220406T081323Z
UID:31410-1799850600-1799857800@boergerhus.de
SUMMARY:Nähwerkstatt für jedes Alter - Kreativraum
DESCRIPTION:Nähwerkstatt für jedes Alter – Kreativraum
URL:https://boergerhus.de/event/naehwerkstatt-fuer-jedes-alter-kreativraum/2027-01-13/
LOCATION:Börgerhus\, Kreativraum
ATTACH;FMTTYPE=image/jpeg:https://boergerhus.de/wp-content/uploads/2022/04/thread-g6ab3db56b_1280.jpg
ORGANIZER;CN="AWO B%C3%B6rgerhus":MAILTO:boergerhus@awo-rostock.de
END:VEVENT
BEGIN:VEVENT
DTSTART;TZID=Europe/Berlin:20270118T100000
DTEND;TZID=Europe/Berlin:20270118T120000
DTSTAMP:20260423T005133
CREATED:20220404T111631Z
LAST-MODIFIED:20220404T111631Z
UID:27425-1800266400-1800273600@boergerhus.de
SUMMARY:Montagsmaler - Kreativraum
DESCRIPTION:Montagsmaler im Kreativraum Börgerhus
URL:https://boergerhus.de/event/montagsmaler-2/2027-01-18/
LOCATION:Börgerhus\, Kreativraum
ATTACH;FMTTYPE=image/jpeg:https://boergerhus.de/wp-content/uploads/2022/04/painting-g8b2f677c8_1280.jpg
ORGANIZER;CN="AWO B%C3%B6rgerhus":MAILTO:boergerhus@awo-rostock.de
END:VEVENT
BEGIN:VEVENT
DTSTART;TZID=Europe/Berlin:20270118T160000
DTEND;TZID=Europe/Berlin:20270118T180000
DTSTAMP:20260423T005133
CREATED:20220404T112835Z
LAST-MODIFIED:20220404T112835Z
UID:27426-1800288000-1800295200@boergerhus.de
SUMMARY:Nähzirkel - Kreativraum
DESCRIPTION:Nähzirkel- Kreativraum Börgerhus
URL:https://boergerhus.de/event/naehzirkel/2027-01-18/
LOCATION:Börgerhus\, Kreativraum
ATTACH;FMTTYPE=image/jpeg:https://boergerhus.de/wp-content/uploads/2022/04/thread-g6ab3db56b_1280.jpg
ORGANIZER;CN="AWO B%C3%B6rgerhus":MAILTO:boergerhus@awo-rostock.de
END:VEVENT
BEGIN:VEVENT
DTSTART;TZID=Europe/Berlin:20270119T100000
DTEND;TZID=Europe/Berlin:20270119T120000
DTSTAMP:20260423T005133
CREATED:20220406T072615Z
LAST-MODIFIED:20220406T072615Z
UID:27436-1800352800-1800360000@boergerhus.de
SUMMARY:Dienstagsmaler - Kreativraum
DESCRIPTION:Dienstagsmaler Kreativraum Börgerhus
URL:https://boergerhus.de/event/dienstagsmaler-kreativraum-boergerhus/2027-01-19/
LOCATION:Börgerhus\, Kreativraum
ATTACH;FMTTYPE=image/jpeg:https://boergerhus.de/wp-content/uploads/2022/04/painting-g8b2f677c8_1280.jpg
ORGANIZER;CN="AWO B%C3%B6rgerhus":MAILTO:boergerhus@awo-rostock.de
END:VEVENT
BEGIN:VEVENT
DTSTART;TZID=Europe/Berlin:20270120T093000
DTEND;TZID=Europe/Berlin:20270120T120000
DTSTAMP:20260423T005133
CREATED:20220406T080820Z
LAST-MODIFIED:20220406T080820Z
UID:27456-1800437400-1800446400@boergerhus.de
SUMMARY:Korbflechten - Kreativraum
DESCRIPTION:Korbflechten Kreativraum Börgerhus
URL:https://boergerhus.de/event/korbflechten-kreativraum-boergerhus/2027-01-20/
LOCATION:Börgerhus\, Kreativraum
ATTACH;FMTTYPE=image/jpeg:https://boergerhus.de/wp-content/uploads/2022/04/Korbflechten.jpg
ORGANIZER;CN="AWO B%C3%B6rgerhus":MAILTO:boergerhus@awo-rostock.de
END:VEVENT
BEGIN:VEVENT
DTSTART;TZID=Europe/Berlin:20270120T143000
DTEND;TZID=Europe/Berlin:20270120T163000
DTSTAMP:20260423T005133
CREATED:20220406T081323Z
LAST-MODIFIED:20220406T081323Z
UID:31411-1800455400-1800462600@boergerhus.de
SUMMARY:Nähwerkstatt für jedes Alter - Kreativraum
DESCRIPTION:Nähwerkstatt für jedes Alter – Kreativraum
URL:https://boergerhus.de/event/naehwerkstatt-fuer-jedes-alter-kreativraum/2027-01-20/
LOCATION:Börgerhus\, Kreativraum
ATTACH;FMTTYPE=image/jpeg:https://boergerhus.de/wp-content/uploads/2022/04/thread-g6ab3db56b_1280.jpg
ORGANIZER;CN="AWO B%C3%B6rgerhus":MAILTO:boergerhus@awo-rostock.de
END:VEVENT
BEGIN:VEVENT
DTSTART;TZID=Europe/Berlin:20270125T100000
DTEND;TZID=Europe/Berlin:20270125T120000
DTSTAMP:20260423T005133
CREATED:20220404T111631Z
LAST-MODIFIED:20220404T111631Z
UID:27500-1800871200-1800878400@boergerhus.de
SUMMARY:Montagsmaler - Kreativraum
DESCRIPTION:Montagsmaler im Kreativraum Börgerhus
URL:https://boergerhus.de/event/montagsmaler-2/2027-01-25/
LOCATION:Börgerhus\, Kreativraum
ATTACH;FMTTYPE=image/jpeg:https://boergerhus.de/wp-content/uploads/2022/04/painting-g8b2f677c8_1280.jpg
ORGANIZER;CN="AWO B%C3%B6rgerhus":MAILTO:boergerhus@awo-rostock.de
END:VEVENT
BEGIN:VEVENT
DTSTART;TZID=Europe/Berlin:20270125T160000
DTEND;TZID=Europe/Berlin:20270125T180000
DTSTAMP:20260423T005133
CREATED:20220404T112835Z
LAST-MODIFIED:20220404T112835Z
UID:27501-1800892800-1800900000@boergerhus.de
SUMMARY:Nähzirkel - Kreativraum
DESCRIPTION:Nähzirkel- Kreativraum Börgerhus
URL:https://boergerhus.de/event/naehzirkel/2027-01-25/
LOCATION:Börgerhus\, Kreativraum
ATTACH;FMTTYPE=image/jpeg:https://boergerhus.de/wp-content/uploads/2022/04/thread-g6ab3db56b_1280.jpg
ORGANIZER;CN="AWO B%C3%B6rgerhus":MAILTO:boergerhus@awo-rostock.de
END:VEVENT
BEGIN:VEVENT
DTSTART;TZID=Europe/Berlin:20270126T100000
DTEND;TZID=Europe/Berlin:20270126T120000
DTSTAMP:20260423T005133
CREATED:20220406T072615Z
LAST-MODIFIED:20220406T072615Z
UID:27510-1800957600-1800964800@boergerhus.de
SUMMARY:Dienstagsmaler - Kreativraum
DESCRIPTION:Dienstagsmaler Kreativraum Börgerhus
URL:https://boergerhus.de/event/dienstagsmaler-kreativraum-boergerhus/2027-01-26/
LOCATION:Börgerhus\, Kreativraum
ATTACH;FMTTYPE=image/jpeg:https://boergerhus.de/wp-content/uploads/2022/04/painting-g8b2f677c8_1280.jpg
ORGANIZER;CN="AWO B%C3%B6rgerhus":MAILTO:boergerhus@awo-rostock.de
END:VEVENT
END:VCALENDAR