BEGIN:VCALENDAR
VERSION:2.0
PRODID:-//Börgerhus Rostock - Stadtteil- und Begegnungszentrum Groß Klein - ECPv6.15.20//NONSGML v1.0//EN
CALSCALE:GREGORIAN
METHOD:PUBLISH
X-ORIGINAL-URL:https://boergerhus.de
X-WR-CALDESC:Veranstaltungen für Börgerhus Rostock - Stadtteil- und Begegnungszentrum Groß Klein
REFRESH-INTERVAL;VALUE=DURATION:PT1H
X-Robots-Tag:noindex
X-PUBLISHED-TTL:PT1H
BEGIN:VTIMEZONE
TZID:Europe/Berlin
BEGIN:DAYLIGHT
TZOFFSETFROM:+0100
TZOFFSETTO:+0200
TZNAME:CEST
DTSTART:20250330T010000
END:DAYLIGHT
BEGIN:STANDARD
TZOFFSETFROM:+0200
TZOFFSETTO:+0100
TZNAME:CET
DTSTART:20251026T010000
END:STANDARD
BEGIN:DAYLIGHT
TZOFFSETFROM:+0100
TZOFFSETTO:+0200
TZNAME:CEST
DTSTART:20260329T010000
END:DAYLIGHT
BEGIN:STANDARD
TZOFFSETFROM:+0200
TZOFFSETTO:+0100
TZNAME:CET
DTSTART:20261025T010000
END:STANDARD
BEGIN:DAYLIGHT
TZOFFSETFROM:+0100
TZOFFSETTO:+0200
TZNAME:CEST
DTSTART:20270328T010000
END:DAYLIGHT
BEGIN:STANDARD
TZOFFSETFROM:+0200
TZOFFSETTO:+0100
TZNAME:CET
DTSTART:20271031T010000
END:STANDARD
END:VTIMEZONE
BEGIN:VEVENT
DTSTART;TZID=Europe/Berlin:20260430T183000
DTEND;TZID=Europe/Berlin:20260430T200000
DTSTAMP:20260420T142950
CREATED:20220406T084222Z
LAST-MODIFIED:20220406T084222Z
UID:23199-1777573800-1777579200@boergerhus.de
SUMMARY:Salsa Tanzkurs - Bewegungsraum
DESCRIPTION:Salsa Tanzkurs – Bewegungsraum Börgerhus
URL:https://boergerhus.de/event/salsa-tanzkurs-bewegungsraum-boergerhus/2026-04-30/
LOCATION:Börgerhus\, Bewegungsraum
ATTACH;FMTTYPE=image/jpeg:https://boergerhus.de/wp-content/uploads/2022/04/latino-g9ad900576_640.jpg
ORGANIZER;CN="AWO B%C3%B6rgerhus":MAILTO:boergerhus@awo-rostock.de
END:VEVENT
BEGIN:VEVENT
DTSTART;TZID=Europe/Berlin:20260501T160000
DTEND;TZID=Europe/Berlin:20260501T180000
DTSTAMP:20260420T142950
CREATED:20220407T091509Z
LAST-MODIFIED:20220407T091509Z
UID:23210-1777651200-1777658400@boergerhus.de
SUMMARY:Ballettschule Fonett - Bewegungsraum
DESCRIPTION:Ballettschule Fonett – Bewegungsraum
URL:https://boergerhus.de/event/ballettschule-fonett-bewegungsraum/2026-05-01/
LOCATION:Börgerhus\, Bewegungsraum
ATTACH;FMTTYPE=image/jpeg:https://boergerhus.de/wp-content/uploads/2022/04/Ballett.jpg
ORGANIZER;CN="AWO B%C3%B6rgerhus":MAILTO:boergerhus@awo-rostock.de
END:VEVENT
BEGIN:VEVENT
DTSTART;TZID=Europe/Berlin:20260504T103000
DTEND;TZID=Europe/Berlin:20260504T113000
DTSTAMP:20260420T142950
CREATED:20220406T073709Z
LAST-MODIFIED:20220406T073709Z
UID:23710-1777890600-1777894200@boergerhus.de
SUMMARY:Gymnastik für Alle - Bewegungsraum
DESCRIPTION:Gymnastik für Alle Bewegungsraum Börgerhus \nKursleitung: Nadine Kühne
URL:https://boergerhus.de/event/gymnastik-fuer-alle-bewegungsraum-boergerhus/2026-05-04/
LOCATION:Börgerhus\, Bewegungsraum
ATTACH;FMTTYPE=image/jpeg:https://boergerhus.de/wp-content/uploads/2022/04/medicine-ball-g4e00851d0_1280.jpg
ORGANIZER;CN="AWO B%C3%B6rgerhus":MAILTO:boergerhus@awo-rostock.de
END:VEVENT
BEGIN:VEVENT
DTSTART;TZID=Europe/Berlin:20260505T090000
DTEND;TZID=Europe/Berlin:20260505T100000
DTSTAMP:20260420T142950
CREATED:20220406T072342Z
LAST-MODIFIED:20220406T072342Z
UID:23712-1777971600-1777975200@boergerhus.de
SUMMARY:Gesundheitssport draußen oder Bewegungsraum
DESCRIPTION:Gesundheitssport draußen oder Bewegungsraum
URL:https://boergerhus.de/event/gesundheitssport-draussen-oder-bewegungsraum/2026-05-05/
LOCATION:Börgerhus\, Bewegungsraum
ATTACH;FMTTYPE=image/jpeg:https://boergerhus.de/wp-content/uploads/2022/04/medicine-ball-g4e00851d0_1280.jpg
ORGANIZER;CN="AWO B%C3%B6rgerhus":MAILTO:boergerhus@awo-rostock.de
END:VEVENT
BEGIN:VEVENT
DTSTART;TZID=Europe/Berlin:20260505T160000
DTEND;TZID=Europe/Berlin:20260505T170000
DTSTAMP:20260420T142950
CREATED:20220406T073323Z
LAST-MODIFIED:20220406T073323Z
UID:23716-1777996800-1778000400@boergerhus.de
SUMMARY:Familien am Ball - Bewegungsraum
DESCRIPTION:Familien am Ball\nBewegungsraum Börgerhus
URL:https://boergerhus.de/event/familien-am-ball-bewegungsraum-boergerhus/2026-05-05/
LOCATION:Börgerhus\, Bewegungsraum
ATTACH;FMTTYPE=image/jpeg:https://boergerhus.de/wp-content/uploads/2022/04/family-gd49efca77_1280.jpg
ORGANIZER;CN="AWO B%C3%B6rgerhus":MAILTO:boergerhus@awo-rostock.de
END:VEVENT
BEGIN:VEVENT
DTSTART;TZID=Europe/Berlin:20260505T173000
DTEND;TZID=Europe/Berlin:20260505T183000
DTSTAMP:20260420T142950
CREATED:20220406T073555Z
LAST-MODIFIED:20220406T073555Z
UID:23714-1778002200-1778005800@boergerhus.de
SUMMARY:Reha-Sport - Bewegungsraum
DESCRIPTION:Reha-Sport Bewegungsraum Börgerhus
URL:https://boergerhus.de/event/reha-sport-bewegungsraum-boergerhus-2/2026-05-05/
LOCATION:Börgerhus\, Bewegungsraum
ATTACH;FMTTYPE=image/jpeg:https://boergerhus.de/wp-content/uploads/2022/04/medicine-ball-g4e00851d0_1280.jpg
ORGANIZER;CN="AWO B%C3%B6rgerhus":MAILTO:boergerhus@awo-rostock.de
END:VEVENT
BEGIN:VEVENT
DTSTART;TZID=Europe/Berlin:20260506T100000
DTEND;TZID=Europe/Berlin:20260506T110000
DTSTAMP:20260420T142950
CREATED:20220406T080934Z
LAST-MODIFIED:20220406T080934Z
UID:23725-1778061600-1778065200@boergerhus.de
SUMMARY:Bewegung und Entspannung für Senioren - Bewegungsraum
DESCRIPTION:Bewegung + Entspannung für Senioren im Bewegungsraum
URL:https://boergerhus.de/event/bewegung-entspannung-senioren-im-bewegungsraum/2026-05-06/
LOCATION:Börgerhus\, Bewegungsraum
ATTACH;FMTTYPE=image/jpeg:https://boergerhus.de/wp-content/uploads/2022/04/medicine-ball-g4e00851d0_1280.jpg
ORGANIZER;CN="AWO B%C3%B6rgerhus":MAILTO:boergerhus@awo-rostock.de
END:VEVENT
BEGIN:VEVENT
DTSTART;TZID=Europe/Berlin:20260506T150000
DTEND;TZID=Europe/Berlin:20260506T200000
DTSTAMP:20260420T142950
CREATED:20220406T081452Z
LAST-MODIFIED:20220406T081452Z
UID:23727-1778079600-1778097600@boergerhus.de
SUMMARY:Tanz und Aerobic für Kinder - Bewegungsraum
DESCRIPTION:Tanz und Aerobic für Kinder – Bewegungsraum
URL:https://boergerhus.de/event/tanz-und-aerobic-fuer-kinder-bewegungsraum/2026-05-06/
LOCATION:Börgerhus\, Bewegungsraum
ATTACH;FMTTYPE=image/jpeg:https://boergerhus.de/wp-content/uploads/2022/04/Tanz-Aerobic.jpg
ORGANIZER;CN="AWO B%C3%B6rgerhus":MAILTO:boergerhus@awo-rostock.de
END:VEVENT
BEGIN:VEVENT
DTSTART;TZID=Europe/Berlin:20260507T183000
DTEND;TZID=Europe/Berlin:20260507T200000
DTSTAMP:20260420T142950
CREATED:20220406T084222Z
LAST-MODIFIED:20220406T084222Z
UID:23735-1778178600-1778184000@boergerhus.de
SUMMARY:Salsa Tanzkurs - Bewegungsraum
DESCRIPTION:Salsa Tanzkurs – Bewegungsraum Börgerhus
URL:https://boergerhus.de/event/salsa-tanzkurs-bewegungsraum-boergerhus/2026-05-07/
LOCATION:Börgerhus\, Bewegungsraum
ATTACH;FMTTYPE=image/jpeg:https://boergerhus.de/wp-content/uploads/2022/04/latino-g9ad900576_640.jpg
ORGANIZER;CN="AWO B%C3%B6rgerhus":MAILTO:boergerhus@awo-rostock.de
END:VEVENT
BEGIN:VEVENT
DTSTART;TZID=Europe/Berlin:20260508T160000
DTEND;TZID=Europe/Berlin:20260508T180000
DTSTAMP:20260420T142950
CREATED:20220407T091509Z
LAST-MODIFIED:20220407T091509Z
UID:23741-1778256000-1778263200@boergerhus.de
SUMMARY:Ballettschule Fonett - Bewegungsraum
DESCRIPTION:Ballettschule Fonett – Bewegungsraum
URL:https://boergerhus.de/event/ballettschule-fonett-bewegungsraum/2026-05-08/
LOCATION:Börgerhus\, Bewegungsraum
ATTACH;FMTTYPE=image/jpeg:https://boergerhus.de/wp-content/uploads/2022/04/Ballett.jpg
ORGANIZER;CN="AWO B%C3%B6rgerhus":MAILTO:boergerhus@awo-rostock.de
END:VEVENT
BEGIN:VEVENT
DTSTART;TZID=Europe/Berlin:20260511T103000
DTEND;TZID=Europe/Berlin:20260511T113000
DTSTAMP:20260420T142950
CREATED:20220406T073709Z
LAST-MODIFIED:20220406T073709Z
UID:23749-1778495400-1778499000@boergerhus.de
SUMMARY:Gymnastik für Alle - Bewegungsraum
DESCRIPTION:Gymnastik für Alle Bewegungsraum Börgerhus \nKursleitung: Nadine Kühne
URL:https://boergerhus.de/event/gymnastik-fuer-alle-bewegungsraum-boergerhus/2026-05-11/
LOCATION:Börgerhus\, Bewegungsraum
ATTACH;FMTTYPE=image/jpeg:https://boergerhus.de/wp-content/uploads/2022/04/medicine-ball-g4e00851d0_1280.jpg
ORGANIZER;CN="AWO B%C3%B6rgerhus":MAILTO:boergerhus@awo-rostock.de
END:VEVENT
BEGIN:VEVENT
DTSTART;TZID=Europe/Berlin:20260512T090000
DTEND;TZID=Europe/Berlin:20260512T100000
DTSTAMP:20260420T142950
CREATED:20220406T072342Z
LAST-MODIFIED:20220406T072342Z
UID:23759-1778576400-1778580000@boergerhus.de
SUMMARY:Gesundheitssport draußen oder Bewegungsraum
DESCRIPTION:Gesundheitssport draußen oder Bewegungsraum
URL:https://boergerhus.de/event/gesundheitssport-draussen-oder-bewegungsraum/2026-05-12/
LOCATION:Börgerhus\, Bewegungsraum
ATTACH;FMTTYPE=image/jpeg:https://boergerhus.de/wp-content/uploads/2022/04/medicine-ball-g4e00851d0_1280.jpg
ORGANIZER;CN="AWO B%C3%B6rgerhus":MAILTO:boergerhus@awo-rostock.de
END:VEVENT
BEGIN:VEVENT
DTSTART;TZID=Europe/Berlin:20260512T160000
DTEND;TZID=Europe/Berlin:20260512T170000
DTSTAMP:20260420T142950
CREATED:20220406T073323Z
LAST-MODIFIED:20220406T073323Z
UID:23763-1778601600-1778605200@boergerhus.de
SUMMARY:Familien am Ball - Bewegungsraum
DESCRIPTION:Familien am Ball\nBewegungsraum Börgerhus
URL:https://boergerhus.de/event/familien-am-ball-bewegungsraum-boergerhus/2026-05-12/
LOCATION:Börgerhus\, Bewegungsraum
ATTACH;FMTTYPE=image/jpeg:https://boergerhus.de/wp-content/uploads/2022/04/family-gd49efca77_1280.jpg
ORGANIZER;CN="AWO B%C3%B6rgerhus":MAILTO:boergerhus@awo-rostock.de
END:VEVENT
BEGIN:VEVENT
DTSTART;TZID=Europe/Berlin:20260512T173000
DTEND;TZID=Europe/Berlin:20260512T183000
DTSTAMP:20260420T142950
CREATED:20220406T073555Z
LAST-MODIFIED:20220406T073555Z
UID:23761-1778607000-1778610600@boergerhus.de
SUMMARY:Reha-Sport - Bewegungsraum
DESCRIPTION:Reha-Sport Bewegungsraum Börgerhus
URL:https://boergerhus.de/event/reha-sport-bewegungsraum-boergerhus-2/2026-05-12/
LOCATION:Börgerhus\, Bewegungsraum
ATTACH;FMTTYPE=image/jpeg:https://boergerhus.de/wp-content/uploads/2022/04/medicine-ball-g4e00851d0_1280.jpg
ORGANIZER;CN="AWO B%C3%B6rgerhus":MAILTO:boergerhus@awo-rostock.de
END:VEVENT
BEGIN:VEVENT
DTSTART;TZID=Europe/Berlin:20260513T100000
DTEND;TZID=Europe/Berlin:20260513T110000
DTSTAMP:20260420T142950
CREATED:20220406T080934Z
LAST-MODIFIED:20220406T080934Z
UID:23769-1778666400-1778670000@boergerhus.de
SUMMARY:Bewegung und Entspannung für Senioren - Bewegungsraum
DESCRIPTION:Bewegung + Entspannung für Senioren im Bewegungsraum
URL:https://boergerhus.de/event/bewegung-entspannung-senioren-im-bewegungsraum/2026-05-13/
LOCATION:Börgerhus\, Bewegungsraum
ATTACH;FMTTYPE=image/jpeg:https://boergerhus.de/wp-content/uploads/2022/04/medicine-ball-g4e00851d0_1280.jpg
ORGANIZER;CN="AWO B%C3%B6rgerhus":MAILTO:boergerhus@awo-rostock.de
END:VEVENT
BEGIN:VEVENT
DTSTART;TZID=Europe/Berlin:20260513T150000
DTEND;TZID=Europe/Berlin:20260513T200000
DTSTAMP:20260420T142950
CREATED:20220406T081452Z
LAST-MODIFIED:20220406T081452Z
UID:23771-1778684400-1778702400@boergerhus.de
SUMMARY:Tanz und Aerobic für Kinder - Bewegungsraum
DESCRIPTION:Tanz und Aerobic für Kinder – Bewegungsraum
URL:https://boergerhus.de/event/tanz-und-aerobic-fuer-kinder-bewegungsraum/2026-05-13/
LOCATION:Börgerhus\, Bewegungsraum
ATTACH;FMTTYPE=image/jpeg:https://boergerhus.de/wp-content/uploads/2022/04/Tanz-Aerobic.jpg
ORGANIZER;CN="AWO B%C3%B6rgerhus":MAILTO:boergerhus@awo-rostock.de
END:VEVENT
BEGIN:VEVENT
DTSTART;TZID=Europe/Berlin:20260514T183000
DTEND;TZID=Europe/Berlin:20260514T200000
DTSTAMP:20260420T142950
CREATED:20220406T084222Z
LAST-MODIFIED:20220406T084222Z
UID:23780-1778783400-1778788800@boergerhus.de
SUMMARY:Salsa Tanzkurs - Bewegungsraum
DESCRIPTION:Salsa Tanzkurs – Bewegungsraum Börgerhus
URL:https://boergerhus.de/event/salsa-tanzkurs-bewegungsraum-boergerhus/2026-05-14/
LOCATION:Börgerhus\, Bewegungsraum
ATTACH;FMTTYPE=image/jpeg:https://boergerhus.de/wp-content/uploads/2022/04/latino-g9ad900576_640.jpg
ORGANIZER;CN="AWO B%C3%B6rgerhus":MAILTO:boergerhus@awo-rostock.de
END:VEVENT
BEGIN:VEVENT
DTSTART;TZID=Europe/Berlin:20260515T160000
DTEND;TZID=Europe/Berlin:20260515T180000
DTSTAMP:20260420T142950
CREATED:20220407T091509Z
LAST-MODIFIED:20220407T091509Z
UID:23787-1778860800-1778868000@boergerhus.de
SUMMARY:Ballettschule Fonett - Bewegungsraum
DESCRIPTION:Ballettschule Fonett – Bewegungsraum
URL:https://boergerhus.de/event/ballettschule-fonett-bewegungsraum/2026-05-15/
LOCATION:Börgerhus\, Bewegungsraum
ATTACH;FMTTYPE=image/jpeg:https://boergerhus.de/wp-content/uploads/2022/04/Ballett.jpg
ORGANIZER;CN="AWO B%C3%B6rgerhus":MAILTO:boergerhus@awo-rostock.de
END:VEVENT
BEGIN:VEVENT
DTSTART;TZID=Europe/Berlin:20260518T103000
DTEND;TZID=Europe/Berlin:20260518T113000
DTSTAMP:20260420T142950
CREATED:20220406T073709Z
LAST-MODIFIED:20220406T073709Z
UID:23794-1779100200-1779103800@boergerhus.de
SUMMARY:Gymnastik für Alle - Bewegungsraum
DESCRIPTION:Gymnastik für Alle Bewegungsraum Börgerhus \nKursleitung: Nadine Kühne
URL:https://boergerhus.de/event/gymnastik-fuer-alle-bewegungsraum-boergerhus/2026-05-18/
LOCATION:Börgerhus\, Bewegungsraum
ATTACH;FMTTYPE=image/jpeg:https://boergerhus.de/wp-content/uploads/2022/04/medicine-ball-g4e00851d0_1280.jpg
ORGANIZER;CN="AWO B%C3%B6rgerhus":MAILTO:boergerhus@awo-rostock.de
END:VEVENT
BEGIN:VEVENT
DTSTART;TZID=Europe/Berlin:20260519T090000
DTEND;TZID=Europe/Berlin:20260519T100000
DTSTAMP:20260420T142950
CREATED:20220406T072342Z
LAST-MODIFIED:20220406T072342Z
UID:23799-1779181200-1779184800@boergerhus.de
SUMMARY:Gesundheitssport draußen oder Bewegungsraum
DESCRIPTION:Gesundheitssport draußen oder Bewegungsraum
URL:https://boergerhus.de/event/gesundheitssport-draussen-oder-bewegungsraum/2026-05-19/
LOCATION:Börgerhus\, Bewegungsraum
ATTACH;FMTTYPE=image/jpeg:https://boergerhus.de/wp-content/uploads/2022/04/medicine-ball-g4e00851d0_1280.jpg
ORGANIZER;CN="AWO B%C3%B6rgerhus":MAILTO:boergerhus@awo-rostock.de
END:VEVENT
BEGIN:VEVENT
DTSTART;TZID=Europe/Berlin:20260519T160000
DTEND;TZID=Europe/Berlin:20260519T170000
DTSTAMP:20260420T142950
CREATED:20220406T073323Z
LAST-MODIFIED:20220406T073323Z
UID:23803-1779206400-1779210000@boergerhus.de
SUMMARY:Familien am Ball - Bewegungsraum
DESCRIPTION:Familien am Ball\nBewegungsraum Börgerhus
URL:https://boergerhus.de/event/familien-am-ball-bewegungsraum-boergerhus/2026-05-19/
LOCATION:Börgerhus\, Bewegungsraum
ATTACH;FMTTYPE=image/jpeg:https://boergerhus.de/wp-content/uploads/2022/04/family-gd49efca77_1280.jpg
ORGANIZER;CN="AWO B%C3%B6rgerhus":MAILTO:boergerhus@awo-rostock.de
END:VEVENT
BEGIN:VEVENT
DTSTART;TZID=Europe/Berlin:20260519T173000
DTEND;TZID=Europe/Berlin:20260519T183000
DTSTAMP:20260420T142950
CREATED:20220406T073555Z
LAST-MODIFIED:20220406T073555Z
UID:23801-1779211800-1779215400@boergerhus.de
SUMMARY:Reha-Sport - Bewegungsraum
DESCRIPTION:Reha-Sport Bewegungsraum Börgerhus
URL:https://boergerhus.de/event/reha-sport-bewegungsraum-boergerhus-2/2026-05-19/
LOCATION:Börgerhus\, Bewegungsraum
ATTACH;FMTTYPE=image/jpeg:https://boergerhus.de/wp-content/uploads/2022/04/medicine-ball-g4e00851d0_1280.jpg
ORGANIZER;CN="AWO B%C3%B6rgerhus":MAILTO:boergerhus@awo-rostock.de
END:VEVENT
BEGIN:VEVENT
DTSTART;TZID=Europe/Berlin:20260520T100000
DTEND;TZID=Europe/Berlin:20260520T110000
DTSTAMP:20260420T142950
CREATED:20220406T080934Z
LAST-MODIFIED:20220406T080934Z
UID:23808-1779271200-1779274800@boergerhus.de
SUMMARY:Bewegung und Entspannung für Senioren - Bewegungsraum
DESCRIPTION:Bewegung + Entspannung für Senioren im Bewegungsraum
URL:https://boergerhus.de/event/bewegung-entspannung-senioren-im-bewegungsraum/2026-05-20/
LOCATION:Börgerhus\, Bewegungsraum
ATTACH;FMTTYPE=image/jpeg:https://boergerhus.de/wp-content/uploads/2022/04/medicine-ball-g4e00851d0_1280.jpg
ORGANIZER;CN="AWO B%C3%B6rgerhus":MAILTO:boergerhus@awo-rostock.de
END:VEVENT
BEGIN:VEVENT
DTSTART;TZID=Europe/Berlin:20260520T150000
DTEND;TZID=Europe/Berlin:20260520T200000
DTSTAMP:20260420T142950
CREATED:20220406T081452Z
LAST-MODIFIED:20220406T081452Z
UID:23810-1779289200-1779307200@boergerhus.de
SUMMARY:Tanz und Aerobic für Kinder - Bewegungsraum
DESCRIPTION:Tanz und Aerobic für Kinder – Bewegungsraum
URL:https://boergerhus.de/event/tanz-und-aerobic-fuer-kinder-bewegungsraum/2026-05-20/
LOCATION:Börgerhus\, Bewegungsraum
ATTACH;FMTTYPE=image/jpeg:https://boergerhus.de/wp-content/uploads/2022/04/Tanz-Aerobic.jpg
ORGANIZER;CN="AWO B%C3%B6rgerhus":MAILTO:boergerhus@awo-rostock.de
END:VEVENT
BEGIN:VEVENT
DTSTART;TZID=Europe/Berlin:20260521T183000
DTEND;TZID=Europe/Berlin:20260521T200000
DTSTAMP:20260420T142950
CREATED:20220406T084222Z
LAST-MODIFIED:20220406T084222Z
UID:23819-1779388200-1779393600@boergerhus.de
SUMMARY:Salsa Tanzkurs - Bewegungsraum
DESCRIPTION:Salsa Tanzkurs – Bewegungsraum Börgerhus
URL:https://boergerhus.de/event/salsa-tanzkurs-bewegungsraum-boergerhus/2026-05-21/
LOCATION:Börgerhus\, Bewegungsraum
ATTACH;FMTTYPE=image/jpeg:https://boergerhus.de/wp-content/uploads/2022/04/latino-g9ad900576_640.jpg
ORGANIZER;CN="AWO B%C3%B6rgerhus":MAILTO:boergerhus@awo-rostock.de
END:VEVENT
BEGIN:VEVENT
DTSTART;TZID=Europe/Berlin:20260522T160000
DTEND;TZID=Europe/Berlin:20260522T180000
DTSTAMP:20260420T142950
CREATED:20220407T091509Z
LAST-MODIFIED:20220407T091509Z
UID:23825-1779465600-1779472800@boergerhus.de
SUMMARY:Ballettschule Fonett - Bewegungsraum
DESCRIPTION:Ballettschule Fonett – Bewegungsraum
URL:https://boergerhus.de/event/ballettschule-fonett-bewegungsraum/2026-05-22/
LOCATION:Börgerhus\, Bewegungsraum
ATTACH;FMTTYPE=image/jpeg:https://boergerhus.de/wp-content/uploads/2022/04/Ballett.jpg
ORGANIZER;CN="AWO B%C3%B6rgerhus":MAILTO:boergerhus@awo-rostock.de
END:VEVENT
BEGIN:VEVENT
DTSTART;TZID=Europe/Berlin:20260525T103000
DTEND;TZID=Europe/Berlin:20260525T113000
DTSTAMP:20260420T142950
CREATED:20220406T073709Z
LAST-MODIFIED:20220406T073709Z
UID:23834-1779705000-1779708600@boergerhus.de
SUMMARY:Gymnastik für Alle - Bewegungsraum
DESCRIPTION:Gymnastik für Alle Bewegungsraum Börgerhus \nKursleitung: Nadine Kühne
URL:https://boergerhus.de/event/gymnastik-fuer-alle-bewegungsraum-boergerhus/2026-05-25/
LOCATION:Börgerhus\, Bewegungsraum
ATTACH;FMTTYPE=image/jpeg:https://boergerhus.de/wp-content/uploads/2022/04/medicine-ball-g4e00851d0_1280.jpg
ORGANIZER;CN="AWO B%C3%B6rgerhus":MAILTO:boergerhus@awo-rostock.de
END:VEVENT
BEGIN:VEVENT
DTSTART;TZID=Europe/Berlin:20260526T090000
DTEND;TZID=Europe/Berlin:20260526T100000
DTSTAMP:20260420T142950
CREATED:20220406T072342Z
LAST-MODIFIED:20220406T072342Z
UID:23838-1779786000-1779789600@boergerhus.de
SUMMARY:Gesundheitssport draußen oder Bewegungsraum
DESCRIPTION:Gesundheitssport draußen oder Bewegungsraum
URL:https://boergerhus.de/event/gesundheitssport-draussen-oder-bewegungsraum/2026-05-26/
LOCATION:Börgerhus\, Bewegungsraum
ATTACH;FMTTYPE=image/jpeg:https://boergerhus.de/wp-content/uploads/2022/04/medicine-ball-g4e00851d0_1280.jpg
ORGANIZER;CN="AWO B%C3%B6rgerhus":MAILTO:boergerhus@awo-rostock.de
END:VEVENT
BEGIN:VEVENT
DTSTART;TZID=Europe/Berlin:20260526T160000
DTEND;TZID=Europe/Berlin:20260526T170000
DTSTAMP:20260420T142950
CREATED:20220406T073323Z
LAST-MODIFIED:20220406T073323Z
UID:23842-1779811200-1779814800@boergerhus.de
SUMMARY:Familien am Ball - Bewegungsraum
DESCRIPTION:Familien am Ball\nBewegungsraum Börgerhus
URL:https://boergerhus.de/event/familien-am-ball-bewegungsraum-boergerhus/2026-05-26/
LOCATION:Börgerhus\, Bewegungsraum
ATTACH;FMTTYPE=image/jpeg:https://boergerhus.de/wp-content/uploads/2022/04/family-gd49efca77_1280.jpg
ORGANIZER;CN="AWO B%C3%B6rgerhus":MAILTO:boergerhus@awo-rostock.de
END:VEVENT
BEGIN:VEVENT
DTSTART;TZID=Europe/Berlin:20260526T173000
DTEND;TZID=Europe/Berlin:20260526T183000
DTSTAMP:20260420T142950
CREATED:20220406T073555Z
LAST-MODIFIED:20220406T073555Z
UID:23840-1779816600-1779820200@boergerhus.de
SUMMARY:Reha-Sport - Bewegungsraum
DESCRIPTION:Reha-Sport Bewegungsraum Börgerhus
URL:https://boergerhus.de/event/reha-sport-bewegungsraum-boergerhus-2/2026-05-26/
LOCATION:Börgerhus\, Bewegungsraum
ATTACH;FMTTYPE=image/jpeg:https://boergerhus.de/wp-content/uploads/2022/04/medicine-ball-g4e00851d0_1280.jpg
ORGANIZER;CN="AWO B%C3%B6rgerhus":MAILTO:boergerhus@awo-rostock.de
END:VEVENT
END:VCALENDAR