BEGIN:VCALENDAR
VERSION:2.0
PRODID:-//Börgerhus Rostock - Stadtteil- und Begegnungszentrum Groß Klein - ECPv6.15.20//NONSGML v1.0//EN
CALSCALE:GREGORIAN
METHOD:PUBLISH
X-ORIGINAL-URL:https://boergerhus.de
X-WR-CALDESC:Veranstaltungen für Börgerhus Rostock - Stadtteil- und Begegnungszentrum Groß Klein
REFRESH-INTERVAL;VALUE=DURATION:PT1H
X-Robots-Tag:noindex
X-PUBLISHED-TTL:PT1H
BEGIN:VTIMEZONE
TZID:Europe/Berlin
BEGIN:DAYLIGHT
TZOFFSETFROM:+0100
TZOFFSETTO:+0200
TZNAME:CEST
DTSTART:20260329T010000
END:DAYLIGHT
BEGIN:STANDARD
TZOFFSETFROM:+0200
TZOFFSETTO:+0100
TZNAME:CET
DTSTART:20261025T010000
END:STANDARD
BEGIN:DAYLIGHT
TZOFFSETFROM:+0100
TZOFFSETTO:+0200
TZNAME:CEST
DTSTART:20270328T010000
END:DAYLIGHT
BEGIN:STANDARD
TZOFFSETFROM:+0200
TZOFFSETTO:+0100
TZNAME:CET
DTSTART:20271031T010000
END:STANDARD
BEGIN:DAYLIGHT
TZOFFSETFROM:+0100
TZOFFSETTO:+0200
TZNAME:CEST
DTSTART:20280326T010000
END:DAYLIGHT
BEGIN:STANDARD
TZOFFSETFROM:+0200
TZOFFSETTO:+0100
TZNAME:CET
DTSTART:20281029T010000
END:STANDARD
END:VTIMEZONE
BEGIN:VEVENT
DTSTART;TZID=Europe/Berlin:20271101T085500
DTEND;TZID=Europe/Berlin:20271101T095500
DTSTAMP:20260423T042953
CREATED:20250203T152746Z
LAST-MODIFIED:20250203T152746Z
UID:32789-1825059300-1825062900@boergerhus.de
SUMMARY:Sicher und aktiv im Alter\, Sturzprävention
DESCRIPTION:im Bewegungsraum\nKursleitung: Nadine Kühne\nKosten: keine\nAnmeldung über Börgerhus
URL:https://boergerhus.de/event/sicher-und-aktiv-im-alter-sturzpraevention-2/2027-11-01/
ATTACH;FMTTYPE=image/jpeg:https://boergerhus.de/wp-content/uploads/2022/04/medicine-ball-g4e00851d0_1280.jpg
END:VEVENT
BEGIN:VEVENT
DTSTART;TZID=Europe/Berlin:20271108T085500
DTEND;TZID=Europe/Berlin:20271108T095500
DTSTAMP:20260423T042953
CREATED:20250203T152746Z
LAST-MODIFIED:20250203T152746Z
UID:32850-1825664100-1825667700@boergerhus.de
SUMMARY:Sicher und aktiv im Alter\, Sturzprävention
DESCRIPTION:im Bewegungsraum\nKursleitung: Nadine Kühne\nKosten: keine\nAnmeldung über Börgerhus
URL:https://boergerhus.de/event/sicher-und-aktiv-im-alter-sturzpraevention-2/2027-11-08/
ATTACH;FMTTYPE=image/jpeg:https://boergerhus.de/wp-content/uploads/2022/04/medicine-ball-g4e00851d0_1280.jpg
END:VEVENT
BEGIN:VEVENT
DTSTART;TZID=Europe/Berlin:20271115T085500
DTEND;TZID=Europe/Berlin:20271115T095500
DTSTAMP:20260423T042953
CREATED:20250203T152746Z
LAST-MODIFIED:20250203T152746Z
UID:32897-1826268900-1826272500@boergerhus.de
SUMMARY:Sicher und aktiv im Alter\, Sturzprävention
DESCRIPTION:im Bewegungsraum\nKursleitung: Nadine Kühne\nKosten: keine\nAnmeldung über Börgerhus
URL:https://boergerhus.de/event/sicher-und-aktiv-im-alter-sturzpraevention-2/2027-11-15/
ATTACH;FMTTYPE=image/jpeg:https://boergerhus.de/wp-content/uploads/2022/04/medicine-ball-g4e00851d0_1280.jpg
END:VEVENT
BEGIN:VEVENT
DTSTART;TZID=Europe/Berlin:20271122T085500
DTEND;TZID=Europe/Berlin:20271122T095500
DTSTAMP:20260423T042953
CREATED:20250203T152746Z
LAST-MODIFIED:20250203T152746Z
UID:32945-1826873700-1826877300@boergerhus.de
SUMMARY:Sicher und aktiv im Alter\, Sturzprävention
DESCRIPTION:im Bewegungsraum\nKursleitung: Nadine Kühne\nKosten: keine\nAnmeldung über Börgerhus
URL:https://boergerhus.de/event/sicher-und-aktiv-im-alter-sturzpraevention-2/2027-11-22/
ATTACH;FMTTYPE=image/jpeg:https://boergerhus.de/wp-content/uploads/2022/04/medicine-ball-g4e00851d0_1280.jpg
END:VEVENT
BEGIN:VEVENT
DTSTART;TZID=Europe/Berlin:20271129T085500
DTEND;TZID=Europe/Berlin:20271129T095500
DTSTAMP:20260423T042953
CREATED:20250203T152746Z
LAST-MODIFIED:20250203T152746Z
UID:32987-1827478500-1827482100@boergerhus.de
SUMMARY:Sicher und aktiv im Alter\, Sturzprävention
DESCRIPTION:im Bewegungsraum\nKursleitung: Nadine Kühne\nKosten: keine\nAnmeldung über Börgerhus
URL:https://boergerhus.de/event/sicher-und-aktiv-im-alter-sturzpraevention-2/2027-11-29/
ATTACH;FMTTYPE=image/jpeg:https://boergerhus.de/wp-content/uploads/2022/04/medicine-ball-g4e00851d0_1280.jpg
END:VEVENT
END:VCALENDAR