BEGIN:VCALENDAR
VERSION:2.0
PRODID:-//Börgerhus Rostock - Stadtteil- und Begegnungszentrum Groß Klein - ECPv6.15.20//NONSGML v1.0//EN
CALSCALE:GREGORIAN
METHOD:PUBLISH
X-ORIGINAL-URL:https://boergerhus.de
X-WR-CALDESC:Veranstaltungen für Börgerhus Rostock - Stadtteil- und Begegnungszentrum Groß Klein
REFRESH-INTERVAL;VALUE=DURATION:PT1H
X-Robots-Tag:noindex
X-PUBLISHED-TTL:PT1H
BEGIN:VTIMEZONE
TZID:Europe/Berlin
BEGIN:DAYLIGHT
TZOFFSETFROM:+0100
TZOFFSETTO:+0200
TZNAME:CEST
DTSTART:20270328T010000
END:DAYLIGHT
BEGIN:STANDARD
TZOFFSETFROM:+0200
TZOFFSETTO:+0100
TZNAME:CET
DTSTART:20271031T010000
END:STANDARD
BEGIN:DAYLIGHT
TZOFFSETFROM:+0100
TZOFFSETTO:+0200
TZNAME:CEST
DTSTART:20280326T010000
END:DAYLIGHT
BEGIN:STANDARD
TZOFFSETFROM:+0200
TZOFFSETTO:+0100
TZNAME:CET
DTSTART:20281029T010000
END:STANDARD
BEGIN:DAYLIGHT
TZOFFSETFROM:+0100
TZOFFSETTO:+0200
TZNAME:CEST
DTSTART:20290325T010000
END:DAYLIGHT
BEGIN:STANDARD
TZOFFSETFROM:+0200
TZOFFSETTO:+0100
TZNAME:CET
DTSTART:20291028T010000
END:STANDARD
END:VTIMEZONE
BEGIN:VEVENT
DTSTART;TZID=Europe/Berlin:20280301T100000
DTEND;TZID=Europe/Berlin:20280301T110000
DTSTAMP:20260423T205818
CREATED:20220406T080934Z
LAST-MODIFIED:20220406T080934Z
UID:34553-1835517600-1835521200@boergerhus.de
SUMMARY:Bewegung und Entspannung für Senioren - Bewegungsraum
DESCRIPTION:Bewegung + Entspannung für Senioren im Bewegungsraum
URL:https://boergerhus.de/event/bewegung-entspannung-senioren-im-bewegungsraum/2028-03-01/
LOCATION:Börgerhus\, Bewegungsraum
ATTACH;FMTTYPE=image/jpeg:https://boergerhus.de/wp-content/uploads/2022/04/medicine-ball-g4e00851d0_1280.jpg
ORGANIZER;CN="AWO B%C3%B6rgerhus":MAILTO:boergerhus@awo-rostock.de
END:VEVENT
BEGIN:VEVENT
DTSTART;TZID=Europe/Berlin:20280302T160000
DTEND;TZID=Europe/Berlin:20280302T170000
DTSTAMP:20260423T205818
CREATED:20220915T100011Z
LAST-MODIFIED:20220915T100011Z
UID:34563-1835625600-1835629200@boergerhus.de
SUMMARY:Fit und beweglich im Alltag
DESCRIPTION:Angebot von Herrn Wolff \nim Bewegungsraum \n5€/Termin
URL:https://boergerhus.de/event/fit-und-beweglich-im-alltag/2028-03-02/
ATTACH;FMTTYPE=image/jpeg:https://boergerhus.de/wp-content/uploads/2022/04/medicine-ball-g4e00851d0_1280.jpg
END:VEVENT
BEGIN:VEVENT
DTSTART;TZID=Europe/Berlin:20280306T103000
DTEND;TZID=Europe/Berlin:20280306T113000
DTSTAMP:20260423T205818
CREATED:20220406T073709Z
LAST-MODIFIED:20220406T073709Z
UID:34584-1835951400-1835955000@boergerhus.de
SUMMARY:Gymnastik für Alle - Bewegungsraum
DESCRIPTION:Gymnastik für Alle Bewegungsraum Börgerhus \nKursleitung: Nadine Kühne
URL:https://boergerhus.de/event/gymnastik-fuer-alle-bewegungsraum-boergerhus/2028-03-06/
LOCATION:Börgerhus\, Bewegungsraum
ATTACH;FMTTYPE=image/jpeg:https://boergerhus.de/wp-content/uploads/2022/04/medicine-ball-g4e00851d0_1280.jpg
ORGANIZER;CN="AWO B%C3%B6rgerhus":MAILTO:boergerhus@awo-rostock.de
END:VEVENT
BEGIN:VEVENT
DTSTART;TZID=Europe/Berlin:20280307T090000
DTEND;TZID=Europe/Berlin:20280307T100000
DTSTAMP:20260423T205818
CREATED:20220406T072342Z
LAST-MODIFIED:20220406T072342Z
UID:34599-1836032400-1836036000@boergerhus.de
SUMMARY:Gesundheitssport draußen oder Bewegungsraum
DESCRIPTION:Gesundheitssport draußen oder Bewegungsraum \nKursleitung Christiane Labudde \nInfos und Anmeldung unter christiane212@freenet.de
URL:https://boergerhus.de/event/gesundheitssport-draussen-oder-bewegungsraum/2028-03-07/
LOCATION:Börgerhus\, Bewegungsraum
ATTACH;FMTTYPE=image/jpeg:https://boergerhus.de/wp-content/uploads/2022/04/medicine-ball-g4e00851d0_1280.jpg
ORGANIZER;CN="AWO B%C3%B6rgerhus":MAILTO:boergerhus@awo-rostock.de
END:VEVENT
BEGIN:VEVENT
DTSTART;TZID=Europe/Berlin:20280307T103000
DTEND;TZID=Europe/Berlin:20280307T113000
DTSTAMP:20260423T205818
CREATED:20220422T123110Z
LAST-MODIFIED:20220422T123110Z
UID:34603-1836037800-1836041400@boergerhus.de
SUMMARY:Reha-Sport - Bewegungsraum
DESCRIPTION:Reha-Sport – Bewegungsraum \nKursleitung Christiane Labudde \nInfos und Anmeldung unter christiane212@freenet.de
URL:https://boergerhus.de/event/reha-sport-bewegungsraum/2028-03-07/
ATTACH;FMTTYPE=image/jpeg:https://boergerhus.de/wp-content/uploads/2022/04/medicine-ball-g4e00851d0_1280.jpg
END:VEVENT
BEGIN:VEVENT
DTSTART;TZID=Europe/Berlin:20280307T160000
DTEND;TZID=Europe/Berlin:20280307T170000
DTSTAMP:20260423T205818
CREATED:20220406T073323Z
LAST-MODIFIED:20220406T073323Z
UID:34602-1836057600-1836061200@boergerhus.de
SUMMARY:Familien am Ball - Bewegungsraum
DESCRIPTION:Bewegungsraum Börgerhus \nKursleitung Christiane Labudde \nInfos und Anmeldung unter christiane212@freenet.de
URL:https://boergerhus.de/event/familien-am-ball-bewegungsraum-boergerhus/2028-03-07/
LOCATION:Börgerhus\, Bewegungsraum
ATTACH;FMTTYPE=image/jpeg:https://boergerhus.de/wp-content/uploads/2022/04/family-gd49efca77_1280.jpg
ORGANIZER;CN="AWO B%C3%B6rgerhus":MAILTO:boergerhus@awo-rostock.de
END:VEVENT
BEGIN:VEVENT
DTSTART;TZID=Europe/Berlin:20280307T173000
DTEND;TZID=Europe/Berlin:20280307T183000
DTSTAMP:20260423T205818
CREATED:20220406T073555Z
LAST-MODIFIED:20220406T073555Z
UID:34601-1836063000-1836066600@boergerhus.de
SUMMARY:Reha-Sport - Bewegungsraum
DESCRIPTION:Reha-Sport Bewegungsraum Börgerhus
URL:https://boergerhus.de/event/reha-sport-bewegungsraum-boergerhus-2/2028-03-07/
LOCATION:Börgerhus\, Bewegungsraum
ATTACH;FMTTYPE=image/jpeg:https://boergerhus.de/wp-content/uploads/2022/04/medicine-ball-g4e00851d0_1280.jpg
ORGANIZER;CN="AWO B%C3%B6rgerhus":MAILTO:boergerhus@awo-rostock.de
END:VEVENT
BEGIN:VEVENT
DTSTART;TZID=Europe/Berlin:20280308T100000
DTEND;TZID=Europe/Berlin:20280308T110000
DTSTAMP:20260423T205818
CREATED:20220406T080934Z
LAST-MODIFIED:20220406T080934Z
UID:34610-1836122400-1836126000@boergerhus.de
SUMMARY:Bewegung und Entspannung für Senioren - Bewegungsraum
DESCRIPTION:Bewegung + Entspannung für Senioren im Bewegungsraum
URL:https://boergerhus.de/event/bewegung-entspannung-senioren-im-bewegungsraum/2028-03-08/
LOCATION:Börgerhus\, Bewegungsraum
ATTACH;FMTTYPE=image/jpeg:https://boergerhus.de/wp-content/uploads/2022/04/medicine-ball-g4e00851d0_1280.jpg
ORGANIZER;CN="AWO B%C3%B6rgerhus":MAILTO:boergerhus@awo-rostock.de
END:VEVENT
BEGIN:VEVENT
DTSTART;TZID=Europe/Berlin:20280309T160000
DTEND;TZID=Europe/Berlin:20280309T170000
DTSTAMP:20260423T205818
CREATED:20220915T100011Z
LAST-MODIFIED:20220915T100011Z
UID:34639-1836230400-1836234000@boergerhus.de
SUMMARY:Fit und beweglich im Alltag
DESCRIPTION:Angebot von Herrn Wolff \nim Bewegungsraum \n5€/Termin
URL:https://boergerhus.de/event/fit-und-beweglich-im-alltag/2028-03-09/
ATTACH;FMTTYPE=image/jpeg:https://boergerhus.de/wp-content/uploads/2022/04/medicine-ball-g4e00851d0_1280.jpg
END:VEVENT
BEGIN:VEVENT
DTSTART;TZID=Europe/Berlin:20280313T103000
DTEND;TZID=Europe/Berlin:20280313T113000
DTSTAMP:20260423T205818
CREATED:20220406T073709Z
LAST-MODIFIED:20220406T073709Z
UID:34653-1836556200-1836559800@boergerhus.de
SUMMARY:Gymnastik für Alle - Bewegungsraum
DESCRIPTION:Gymnastik für Alle Bewegungsraum Börgerhus \nKursleitung: Nadine Kühne
URL:https://boergerhus.de/event/gymnastik-fuer-alle-bewegungsraum-boergerhus/2028-03-13/
LOCATION:Börgerhus\, Bewegungsraum
ATTACH;FMTTYPE=image/jpeg:https://boergerhus.de/wp-content/uploads/2022/04/medicine-ball-g4e00851d0_1280.jpg
ORGANIZER;CN="AWO B%C3%B6rgerhus":MAILTO:boergerhus@awo-rostock.de
END:VEVENT
BEGIN:VEVENT
DTSTART;TZID=Europe/Berlin:20280314T090000
DTEND;TZID=Europe/Berlin:20280314T100000
DTSTAMP:20260423T205818
CREATED:20220406T072342Z
LAST-MODIFIED:20220406T072342Z
UID:34671-1836637200-1836640800@boergerhus.de
SUMMARY:Gesundheitssport draußen oder Bewegungsraum
DESCRIPTION:Gesundheitssport draußen oder Bewegungsraum \nKursleitung Christiane Labudde \nInfos und Anmeldung unter christiane212@freenet.de
URL:https://boergerhus.de/event/gesundheitssport-draussen-oder-bewegungsraum/2028-03-14/
LOCATION:Börgerhus\, Bewegungsraum
ATTACH;FMTTYPE=image/jpeg:https://boergerhus.de/wp-content/uploads/2022/04/medicine-ball-g4e00851d0_1280.jpg
ORGANIZER;CN="AWO B%C3%B6rgerhus":MAILTO:boergerhus@awo-rostock.de
END:VEVENT
BEGIN:VEVENT
DTSTART;TZID=Europe/Berlin:20280314T103000
DTEND;TZID=Europe/Berlin:20280314T113000
DTSTAMP:20260423T205818
CREATED:20220422T123110Z
LAST-MODIFIED:20220422T123110Z
UID:34675-1836642600-1836646200@boergerhus.de
SUMMARY:Reha-Sport - Bewegungsraum
DESCRIPTION:Reha-Sport – Bewegungsraum \nKursleitung Christiane Labudde \nInfos und Anmeldung unter christiane212@freenet.de
URL:https://boergerhus.de/event/reha-sport-bewegungsraum/2028-03-14/
ATTACH;FMTTYPE=image/jpeg:https://boergerhus.de/wp-content/uploads/2022/04/medicine-ball-g4e00851d0_1280.jpg
END:VEVENT
BEGIN:VEVENT
DTSTART;TZID=Europe/Berlin:20280314T160000
DTEND;TZID=Europe/Berlin:20280314T170000
DTSTAMP:20260423T205818
CREATED:20220406T073323Z
LAST-MODIFIED:20220406T073323Z
UID:34674-1836662400-1836666000@boergerhus.de
SUMMARY:Familien am Ball - Bewegungsraum
DESCRIPTION:Bewegungsraum Börgerhus \nKursleitung Christiane Labudde \nInfos und Anmeldung unter christiane212@freenet.de
URL:https://boergerhus.de/event/familien-am-ball-bewegungsraum-boergerhus/2028-03-14/
LOCATION:Börgerhus\, Bewegungsraum
ATTACH;FMTTYPE=image/jpeg:https://boergerhus.de/wp-content/uploads/2022/04/family-gd49efca77_1280.jpg
ORGANIZER;CN="AWO B%C3%B6rgerhus":MAILTO:boergerhus@awo-rostock.de
END:VEVENT
BEGIN:VEVENT
DTSTART;TZID=Europe/Berlin:20280314T173000
DTEND;TZID=Europe/Berlin:20280314T183000
DTSTAMP:20260423T205818
CREATED:20220406T073555Z
LAST-MODIFIED:20220406T073555Z
UID:34673-1836667800-1836671400@boergerhus.de
SUMMARY:Reha-Sport - Bewegungsraum
DESCRIPTION:Reha-Sport Bewegungsraum Börgerhus
URL:https://boergerhus.de/event/reha-sport-bewegungsraum-boergerhus-2/2028-03-14/
LOCATION:Börgerhus\, Bewegungsraum
ATTACH;FMTTYPE=image/jpeg:https://boergerhus.de/wp-content/uploads/2022/04/medicine-ball-g4e00851d0_1280.jpg
ORGANIZER;CN="AWO B%C3%B6rgerhus":MAILTO:boergerhus@awo-rostock.de
END:VEVENT
BEGIN:VEVENT
DTSTART;TZID=Europe/Berlin:20280315T100000
DTEND;TZID=Europe/Berlin:20280315T110000
DTSTAMP:20260423T205818
CREATED:20220406T080934Z
LAST-MODIFIED:20220406T080934Z
UID:34680-1836727200-1836730800@boergerhus.de
SUMMARY:Bewegung und Entspannung für Senioren - Bewegungsraum
DESCRIPTION:Bewegung + Entspannung für Senioren im Bewegungsraum
URL:https://boergerhus.de/event/bewegung-entspannung-senioren-im-bewegungsraum/2028-03-15/
LOCATION:Börgerhus\, Bewegungsraum
ATTACH;FMTTYPE=image/jpeg:https://boergerhus.de/wp-content/uploads/2022/04/medicine-ball-g4e00851d0_1280.jpg
ORGANIZER;CN="AWO B%C3%B6rgerhus":MAILTO:boergerhus@awo-rostock.de
END:VEVENT
BEGIN:VEVENT
DTSTART;TZID=Europe/Berlin:20280316T160000
DTEND;TZID=Europe/Berlin:20280316T170000
DTSTAMP:20260423T205818
CREATED:20220915T100011Z
LAST-MODIFIED:20220915T100011Z
UID:34689-1836835200-1836838800@boergerhus.de
SUMMARY:Fit und beweglich im Alltag
DESCRIPTION:Angebot von Herrn Wolff \nim Bewegungsraum \n5€/Termin
URL:https://boergerhus.de/event/fit-und-beweglich-im-alltag/2028-03-16/
ATTACH;FMTTYPE=image/jpeg:https://boergerhus.de/wp-content/uploads/2022/04/medicine-ball-g4e00851d0_1280.jpg
END:VEVENT
BEGIN:VEVENT
DTSTART;TZID=Europe/Berlin:20280320T103000
DTEND;TZID=Europe/Berlin:20280320T113000
DTSTAMP:20260423T205818
CREATED:20220406T073709Z
LAST-MODIFIED:20220406T073709Z
UID:34720-1837161000-1837164600@boergerhus.de
SUMMARY:Gymnastik für Alle - Bewegungsraum
DESCRIPTION:Gymnastik für Alle Bewegungsraum Börgerhus \nKursleitung: Nadine Kühne
URL:https://boergerhus.de/event/gymnastik-fuer-alle-bewegungsraum-boergerhus/2028-03-20/
LOCATION:Börgerhus\, Bewegungsraum
ATTACH;FMTTYPE=image/jpeg:https://boergerhus.de/wp-content/uploads/2022/04/medicine-ball-g4e00851d0_1280.jpg
ORGANIZER;CN="AWO B%C3%B6rgerhus":MAILTO:boergerhus@awo-rostock.de
END:VEVENT
BEGIN:VEVENT
DTSTART;TZID=Europe/Berlin:20280321T090000
DTEND;TZID=Europe/Berlin:20280321T100000
DTSTAMP:20260423T205818
CREATED:20220406T072342Z
LAST-MODIFIED:20220406T072342Z
UID:34737-1837242000-1837245600@boergerhus.de
SUMMARY:Gesundheitssport draußen oder Bewegungsraum
DESCRIPTION:Gesundheitssport draußen oder Bewegungsraum \nKursleitung Christiane Labudde \nInfos und Anmeldung unter christiane212@freenet.de
URL:https://boergerhus.de/event/gesundheitssport-draussen-oder-bewegungsraum/2028-03-21/
LOCATION:Börgerhus\, Bewegungsraum
ATTACH;FMTTYPE=image/jpeg:https://boergerhus.de/wp-content/uploads/2022/04/medicine-ball-g4e00851d0_1280.jpg
ORGANIZER;CN="AWO B%C3%B6rgerhus":MAILTO:boergerhus@awo-rostock.de
END:VEVENT
BEGIN:VEVENT
DTSTART;TZID=Europe/Berlin:20280321T103000
DTEND;TZID=Europe/Berlin:20280321T113000
DTSTAMP:20260423T205818
CREATED:20220422T123110Z
LAST-MODIFIED:20220422T123110Z
UID:34741-1837247400-1837251000@boergerhus.de
SUMMARY:Reha-Sport - Bewegungsraum
DESCRIPTION:Reha-Sport – Bewegungsraum \nKursleitung Christiane Labudde \nInfos und Anmeldung unter christiane212@freenet.de
URL:https://boergerhus.de/event/reha-sport-bewegungsraum/2028-03-21/
ATTACH;FMTTYPE=image/jpeg:https://boergerhus.de/wp-content/uploads/2022/04/medicine-ball-g4e00851d0_1280.jpg
END:VEVENT
BEGIN:VEVENT
DTSTART;TZID=Europe/Berlin:20280321T160000
DTEND;TZID=Europe/Berlin:20280321T170000
DTSTAMP:20260423T205818
CREATED:20220406T073323Z
LAST-MODIFIED:20220406T073323Z
UID:34740-1837267200-1837270800@boergerhus.de
SUMMARY:Familien am Ball - Bewegungsraum
DESCRIPTION:Bewegungsraum Börgerhus \nKursleitung Christiane Labudde \nInfos und Anmeldung unter christiane212@freenet.de
URL:https://boergerhus.de/event/familien-am-ball-bewegungsraum-boergerhus/2028-03-21/
LOCATION:Börgerhus\, Bewegungsraum
ATTACH;FMTTYPE=image/jpeg:https://boergerhus.de/wp-content/uploads/2022/04/family-gd49efca77_1280.jpg
ORGANIZER;CN="AWO B%C3%B6rgerhus":MAILTO:boergerhus@awo-rostock.de
END:VEVENT
BEGIN:VEVENT
DTSTART;TZID=Europe/Berlin:20280321T173000
DTEND;TZID=Europe/Berlin:20280321T183000
DTSTAMP:20260423T205818
CREATED:20220406T073555Z
LAST-MODIFIED:20220406T073555Z
UID:34739-1837272600-1837276200@boergerhus.de
SUMMARY:Reha-Sport - Bewegungsraum
DESCRIPTION:Reha-Sport Bewegungsraum Börgerhus
URL:https://boergerhus.de/event/reha-sport-bewegungsraum-boergerhus-2/2028-03-21/
LOCATION:Börgerhus\, Bewegungsraum
ATTACH;FMTTYPE=image/jpeg:https://boergerhus.de/wp-content/uploads/2022/04/medicine-ball-g4e00851d0_1280.jpg
ORGANIZER;CN="AWO B%C3%B6rgerhus":MAILTO:boergerhus@awo-rostock.de
END:VEVENT
BEGIN:VEVENT
DTSTART;TZID=Europe/Berlin:20280322T100000
DTEND;TZID=Europe/Berlin:20280322T110000
DTSTAMP:20260423T205818
CREATED:20220406T080934Z
LAST-MODIFIED:20220406T080934Z
UID:34747-1837332000-1837335600@boergerhus.de
SUMMARY:Bewegung und Entspannung für Senioren - Bewegungsraum
DESCRIPTION:Bewegung + Entspannung für Senioren im Bewegungsraum
URL:https://boergerhus.de/event/bewegung-entspannung-senioren-im-bewegungsraum/2028-03-22/
LOCATION:Börgerhus\, Bewegungsraum
ATTACH;FMTTYPE=image/jpeg:https://boergerhus.de/wp-content/uploads/2022/04/medicine-ball-g4e00851d0_1280.jpg
ORGANIZER;CN="AWO B%C3%B6rgerhus":MAILTO:boergerhus@awo-rostock.de
END:VEVENT
BEGIN:VEVENT
DTSTART;TZID=Europe/Berlin:20280323T160000
DTEND;TZID=Europe/Berlin:20280323T170000
DTSTAMP:20260423T205818
CREATED:20220915T100011Z
LAST-MODIFIED:20220915T100011Z
UID:34760-1837440000-1837443600@boergerhus.de
SUMMARY:Fit und beweglich im Alltag
DESCRIPTION:Angebot von Herrn Wolff \nim Bewegungsraum \n5€/Termin
URL:https://boergerhus.de/event/fit-und-beweglich-im-alltag/2028-03-23/
ATTACH;FMTTYPE=image/jpeg:https://boergerhus.de/wp-content/uploads/2022/04/medicine-ball-g4e00851d0_1280.jpg
END:VEVENT
BEGIN:VEVENT
DTSTART;TZID=Europe/Berlin:20280327T103000
DTEND;TZID=Europe/Berlin:20280327T113000
DTSTAMP:20260423T205818
CREATED:20220406T073709Z
LAST-MODIFIED:20220406T073709Z
UID:34776-1837765800-1837769400@boergerhus.de
SUMMARY:Gymnastik für Alle - Bewegungsraum
DESCRIPTION:Gymnastik für Alle Bewegungsraum Börgerhus \nKursleitung: Nadine Kühne
URL:https://boergerhus.de/event/gymnastik-fuer-alle-bewegungsraum-boergerhus/2028-03-27/
LOCATION:Börgerhus\, Bewegungsraum
ATTACH;FMTTYPE=image/jpeg:https://boergerhus.de/wp-content/uploads/2022/04/medicine-ball-g4e00851d0_1280.jpg
ORGANIZER;CN="AWO B%C3%B6rgerhus":MAILTO:boergerhus@awo-rostock.de
END:VEVENT
BEGIN:VEVENT
DTSTART;TZID=Europe/Berlin:20280328T090000
DTEND;TZID=Europe/Berlin:20280328T100000
DTSTAMP:20260423T205818
CREATED:20220406T072342Z
LAST-MODIFIED:20220406T072342Z
UID:34794-1837846800-1837850400@boergerhus.de
SUMMARY:Gesundheitssport draußen oder Bewegungsraum
DESCRIPTION:Gesundheitssport draußen oder Bewegungsraum \nKursleitung Christiane Labudde \nInfos und Anmeldung unter christiane212@freenet.de
URL:https://boergerhus.de/event/gesundheitssport-draussen-oder-bewegungsraum/2028-03-28/
LOCATION:Börgerhus\, Bewegungsraum
ATTACH;FMTTYPE=image/jpeg:https://boergerhus.de/wp-content/uploads/2022/04/medicine-ball-g4e00851d0_1280.jpg
ORGANIZER;CN="AWO B%C3%B6rgerhus":MAILTO:boergerhus@awo-rostock.de
END:VEVENT
BEGIN:VEVENT
DTSTART;TZID=Europe/Berlin:20280328T103000
DTEND;TZID=Europe/Berlin:20280328T113000
DTSTAMP:20260423T205818
CREATED:20220422T123110Z
LAST-MODIFIED:20220422T123110Z
UID:34798-1837852200-1837855800@boergerhus.de
SUMMARY:Reha-Sport - Bewegungsraum
DESCRIPTION:Reha-Sport – Bewegungsraum \nKursleitung Christiane Labudde \nInfos und Anmeldung unter christiane212@freenet.de
URL:https://boergerhus.de/event/reha-sport-bewegungsraum/2028-03-28/
ATTACH;FMTTYPE=image/jpeg:https://boergerhus.de/wp-content/uploads/2022/04/medicine-ball-g4e00851d0_1280.jpg
END:VEVENT
BEGIN:VEVENT
DTSTART;TZID=Europe/Berlin:20280328T160000
DTEND;TZID=Europe/Berlin:20280328T170000
DTSTAMP:20260423T205818
CREATED:20220406T073323Z
LAST-MODIFIED:20220406T073323Z
UID:34797-1837872000-1837875600@boergerhus.de
SUMMARY:Familien am Ball - Bewegungsraum
DESCRIPTION:Bewegungsraum Börgerhus \nKursleitung Christiane Labudde \nInfos und Anmeldung unter christiane212@freenet.de
URL:https://boergerhus.de/event/familien-am-ball-bewegungsraum-boergerhus/2028-03-28/
LOCATION:Börgerhus\, Bewegungsraum
ATTACH;FMTTYPE=image/jpeg:https://boergerhus.de/wp-content/uploads/2022/04/family-gd49efca77_1280.jpg
ORGANIZER;CN="AWO B%C3%B6rgerhus":MAILTO:boergerhus@awo-rostock.de
END:VEVENT
BEGIN:VEVENT
DTSTART;TZID=Europe/Berlin:20280328T173000
DTEND;TZID=Europe/Berlin:20280328T183000
DTSTAMP:20260423T205818
CREATED:20220406T073555Z
LAST-MODIFIED:20220406T073555Z
UID:34796-1837877400-1837881000@boergerhus.de
SUMMARY:Reha-Sport - Bewegungsraum
DESCRIPTION:Reha-Sport Bewegungsraum Börgerhus
URL:https://boergerhus.de/event/reha-sport-bewegungsraum-boergerhus-2/2028-03-28/
LOCATION:Börgerhus\, Bewegungsraum
ATTACH;FMTTYPE=image/jpeg:https://boergerhus.de/wp-content/uploads/2022/04/medicine-ball-g4e00851d0_1280.jpg
ORGANIZER;CN="AWO B%C3%B6rgerhus":MAILTO:boergerhus@awo-rostock.de
END:VEVENT
BEGIN:VEVENT
DTSTART;TZID=Europe/Berlin:20280329T100000
DTEND;TZID=Europe/Berlin:20280329T110000
DTSTAMP:20260423T205818
CREATED:20220406T080934Z
LAST-MODIFIED:20220406T080934Z
UID:34803-1837936800-1837940400@boergerhus.de
SUMMARY:Bewegung und Entspannung für Senioren - Bewegungsraum
DESCRIPTION:Bewegung + Entspannung für Senioren im Bewegungsraum
URL:https://boergerhus.de/event/bewegung-entspannung-senioren-im-bewegungsraum/2028-03-29/
LOCATION:Börgerhus\, Bewegungsraum
ATTACH;FMTTYPE=image/jpeg:https://boergerhus.de/wp-content/uploads/2022/04/medicine-ball-g4e00851d0_1280.jpg
ORGANIZER;CN="AWO B%C3%B6rgerhus":MAILTO:boergerhus@awo-rostock.de
END:VEVENT
BEGIN:VEVENT
DTSTART;TZID=Europe/Berlin:20280330T160000
DTEND;TZID=Europe/Berlin:20280330T170000
DTSTAMP:20260423T205818
CREATED:20220915T100011Z
LAST-MODIFIED:20220915T100011Z
UID:34811-1838044800-1838048400@boergerhus.de
SUMMARY:Fit und beweglich im Alltag
DESCRIPTION:Angebot von Herrn Wolff \nim Bewegungsraum \n5€/Termin
URL:https://boergerhus.de/event/fit-und-beweglich-im-alltag/2028-03-30/
ATTACH;FMTTYPE=image/jpeg:https://boergerhus.de/wp-content/uploads/2022/04/medicine-ball-g4e00851d0_1280.jpg
END:VEVENT
END:VCALENDAR