BEGIN:VCALENDAR
VERSION:2.0
PRODID:-//Börgerhus Rostock - Stadtteil- und Begegnungszentrum Groß Klein - ECPv6.15.20//NONSGML v1.0//EN
CALSCALE:GREGORIAN
METHOD:PUBLISH
X-ORIGINAL-URL:https://boergerhus.de
X-WR-CALDESC:Veranstaltungen für Börgerhus Rostock - Stadtteil- und Begegnungszentrum Groß Klein
REFRESH-INTERVAL;VALUE=DURATION:PT1H
X-Robots-Tag:noindex
X-PUBLISHED-TTL:PT1H
BEGIN:VTIMEZONE
TZID:Europe/Berlin
BEGIN:DAYLIGHT
TZOFFSETFROM:+0100
TZOFFSETTO:+0200
TZNAME:CEST
DTSTART:20240331T010000
END:DAYLIGHT
BEGIN:STANDARD
TZOFFSETFROM:+0200
TZOFFSETTO:+0100
TZNAME:CET
DTSTART:20241027T010000
END:STANDARD
BEGIN:DAYLIGHT
TZOFFSETFROM:+0100
TZOFFSETTO:+0200
TZNAME:CEST
DTSTART:20250330T010000
END:DAYLIGHT
BEGIN:STANDARD
TZOFFSETFROM:+0200
TZOFFSETTO:+0100
TZNAME:CET
DTSTART:20251026T010000
END:STANDARD
BEGIN:DAYLIGHT
TZOFFSETFROM:+0100
TZOFFSETTO:+0200
TZNAME:CEST
DTSTART:20260329T010000
END:DAYLIGHT
BEGIN:STANDARD
TZOFFSETFROM:+0200
TZOFFSETTO:+0100
TZNAME:CET
DTSTART:20261025T010000
END:STANDARD
END:VTIMEZONE
BEGIN:VEVENT
DTSTART;TZID=Europe/Berlin:20250204T090000
DTEND;TZID=Europe/Berlin:20250204T100000
DTSTAMP:20260422T084351
CREATED:20220406T072342Z
LAST-MODIFIED:20230808T105558Z
UID:15109-1738659600-1738663200@boergerhus.de
SUMMARY:Gesundheitssport draußen oder Bewegungsraum
DESCRIPTION:Gesundheitssport draußen oder Bewegungsraum
URL:https://boergerhus.de/event/gesundheitssport-draussen-oder-bewegungsraum/2025-02-04/
LOCATION:Börgerhus\, Bewegungsraum
ATTACH;FMTTYPE=image/jpeg:https://boergerhus.de/wp-content/uploads/2022/04/medicine-ball-g4e00851d0_1280.jpg
ORGANIZER;CN="AWO B%C3%B6rgerhus":MAILTO:boergerhus@awo-rostock.de
END:VEVENT
BEGIN:VEVENT
DTSTART;TZID=Europe/Berlin:20250204T103000
DTEND;TZID=Europe/Berlin:20250204T113000
DTSTAMP:20260422T084351
CREATED:20220422T123110Z
LAST-MODIFIED:20220422T123110Z
UID:15115-1738665000-1738668600@boergerhus.de
SUMMARY:Reha-Sport - Bewegungsraum
DESCRIPTION:Reha-Sport – Bewegungsraum
URL:https://boergerhus.de/event/reha-sport-bewegungsraum/2025-02-04/
ATTACH;FMTTYPE=image/jpeg:https://boergerhus.de/wp-content/uploads/2022/04/medicine-ball-g4e00851d0_1280.jpg
END:VEVENT
BEGIN:VEVENT
DTSTART;TZID=Europe/Berlin:20250204T160000
DTEND;TZID=Europe/Berlin:20250204T170000
DTSTAMP:20260422T084351
CREATED:20220406T073323Z
LAST-MODIFIED:20220406T073323Z
UID:15113-1738684800-1738688400@boergerhus.de
SUMMARY:Familien am Ball - Bewegungsraum
DESCRIPTION:Familien am Ball Bewegungsraum Börgerhus
URL:https://boergerhus.de/event/familien-am-ball-bewegungsraum-boergerhus/2025-02-04/
LOCATION:Börgerhus\, Bewegungsraum
ATTACH;FMTTYPE=image/jpeg:https://boergerhus.de/wp-content/uploads/2022/04/family-gd49efca77_1280.jpg
ORGANIZER;CN="AWO B%C3%B6rgerhus":MAILTO:boergerhus@awo-rostock.de
END:VEVENT
BEGIN:VEVENT
DTSTART;TZID=Europe/Berlin:20250204T173000
DTEND;TZID=Europe/Berlin:20250204T183000
DTSTAMP:20260422T084351
CREATED:20220406T073555Z
LAST-MODIFIED:20220406T073555Z
UID:15111-1738690200-1738693800@boergerhus.de
SUMMARY:Reha-Sport - Bewegungsraum
DESCRIPTION:Reha-Sport Bewegungsraum Börgerhus
URL:https://boergerhus.de/event/reha-sport-bewegungsraum-boergerhus-2/2025-02-04/
LOCATION:Börgerhus\, Bewegungsraum
ATTACH;FMTTYPE=image/jpeg:https://boergerhus.de/wp-content/uploads/2022/04/medicine-ball-g4e00851d0_1280.jpg
ORGANIZER;CN="AWO B%C3%B6rgerhus":MAILTO:boergerhus@awo-rostock.de
END:VEVENT
BEGIN:VEVENT
DTSTART;TZID=Europe/Berlin:20250205T100000
DTEND;TZID=Europe/Berlin:20250205T110000
DTSTAMP:20260422T084351
CREATED:20220406T080934Z
LAST-MODIFIED:20220406T080934Z
UID:15119-1738749600-1738753200@boergerhus.de
SUMMARY:Bewegung und Entspannung für Senioren - Bewegungsraum
DESCRIPTION:Bewegung + Entspannung für Senioren im Bewegungsraum
URL:https://boergerhus.de/event/bewegung-entspannung-senioren-im-bewegungsraum/2025-02-05/
LOCATION:Börgerhus\, Bewegungsraum
ATTACH;FMTTYPE=image/jpeg:https://boergerhus.de/wp-content/uploads/2022/04/medicine-ball-g4e00851d0_1280.jpg
ORGANIZER;CN="AWO B%C3%B6rgerhus":MAILTO:boergerhus@awo-rostock.de
END:VEVENT
BEGIN:VEVENT
DTSTART;TZID=Europe/Berlin:20250206T160000
DTEND;TZID=Europe/Berlin:20250206T170000
DTSTAMP:20260422T084351
CREATED:20220915T100011Z
LAST-MODIFIED:20220915T100011Z
UID:21038-1738857600-1738861200@boergerhus.de
SUMMARY:Fit und beweglich im Alltag
DESCRIPTION:Angebot von Herrn Wolff \nim Bewegungsraum \n5€/Termin
URL:https://boergerhus.de/event/fit-und-beweglich-im-alltag/2025-02-06/
ATTACH;FMTTYPE=image/jpeg:https://boergerhus.de/wp-content/uploads/2022/04/medicine-ball-g4e00851d0_1280.jpg
END:VEVENT
BEGIN:VEVENT
DTSTART;TZID=Europe/Berlin:20250211T090000
DTEND;TZID=Europe/Berlin:20250211T100000
DTSTAMP:20260422T084351
CREATED:20220406T072342Z
LAST-MODIFIED:20230808T105558Z
UID:15151-1739264400-1739268000@boergerhus.de
SUMMARY:Gesundheitssport draußen oder Bewegungsraum
DESCRIPTION:Gesundheitssport draußen oder Bewegungsraum
URL:https://boergerhus.de/event/gesundheitssport-draussen-oder-bewegungsraum/2025-02-11/
LOCATION:Börgerhus\, Bewegungsraum
ATTACH;FMTTYPE=image/jpeg:https://boergerhus.de/wp-content/uploads/2022/04/medicine-ball-g4e00851d0_1280.jpg
ORGANIZER;CN="AWO B%C3%B6rgerhus":MAILTO:boergerhus@awo-rostock.de
END:VEVENT
BEGIN:VEVENT
DTSTART;TZID=Europe/Berlin:20250211T103000
DTEND;TZID=Europe/Berlin:20250211T113000
DTSTAMP:20260422T084351
CREATED:20220422T123110Z
LAST-MODIFIED:20220422T123110Z
UID:15157-1739269800-1739273400@boergerhus.de
SUMMARY:Reha-Sport - Bewegungsraum
DESCRIPTION:Reha-Sport – Bewegungsraum
URL:https://boergerhus.de/event/reha-sport-bewegungsraum/2025-02-11/
ATTACH;FMTTYPE=image/jpeg:https://boergerhus.de/wp-content/uploads/2022/04/medicine-ball-g4e00851d0_1280.jpg
END:VEVENT
BEGIN:VEVENT
DTSTART;TZID=Europe/Berlin:20250211T160000
DTEND;TZID=Europe/Berlin:20250211T170000
DTSTAMP:20260422T084351
CREATED:20220406T073323Z
LAST-MODIFIED:20220406T073323Z
UID:15155-1739289600-1739293200@boergerhus.de
SUMMARY:Familien am Ball - Bewegungsraum
DESCRIPTION:Familien am Ball Bewegungsraum Börgerhus
URL:https://boergerhus.de/event/familien-am-ball-bewegungsraum-boergerhus/2025-02-11/
LOCATION:Börgerhus\, Bewegungsraum
ATTACH;FMTTYPE=image/jpeg:https://boergerhus.de/wp-content/uploads/2022/04/family-gd49efca77_1280.jpg
ORGANIZER;CN="AWO B%C3%B6rgerhus":MAILTO:boergerhus@awo-rostock.de
END:VEVENT
BEGIN:VEVENT
DTSTART;TZID=Europe/Berlin:20250211T173000
DTEND;TZID=Europe/Berlin:20250211T183000
DTSTAMP:20260422T084351
CREATED:20220406T073555Z
LAST-MODIFIED:20220406T073555Z
UID:15153-1739295000-1739298600@boergerhus.de
SUMMARY:Reha-Sport - Bewegungsraum
DESCRIPTION:Reha-Sport Bewegungsraum Börgerhus
URL:https://boergerhus.de/event/reha-sport-bewegungsraum-boergerhus-2/2025-02-11/
LOCATION:Börgerhus\, Bewegungsraum
ATTACH;FMTTYPE=image/jpeg:https://boergerhus.de/wp-content/uploads/2022/04/medicine-ball-g4e00851d0_1280.jpg
ORGANIZER;CN="AWO B%C3%B6rgerhus":MAILTO:boergerhus@awo-rostock.de
END:VEVENT
BEGIN:VEVENT
DTSTART;TZID=Europe/Berlin:20250212T100000
DTEND;TZID=Europe/Berlin:20250212T110000
DTSTAMP:20260422T084351
CREATED:20220406T080934Z
LAST-MODIFIED:20220406T080934Z
UID:15162-1739354400-1739358000@boergerhus.de
SUMMARY:Bewegung und Entspannung für Senioren - Bewegungsraum
DESCRIPTION:Bewegung + Entspannung für Senioren im Bewegungsraum
URL:https://boergerhus.de/event/bewegung-entspannung-senioren-im-bewegungsraum/2025-02-12/
LOCATION:Börgerhus\, Bewegungsraum
ATTACH;FMTTYPE=image/jpeg:https://boergerhus.de/wp-content/uploads/2022/04/medicine-ball-g4e00851d0_1280.jpg
ORGANIZER;CN="AWO B%C3%B6rgerhus":MAILTO:boergerhus@awo-rostock.de
END:VEVENT
BEGIN:VEVENT
DTSTART;TZID=Europe/Berlin:20250213T160000
DTEND;TZID=Europe/Berlin:20250213T170000
DTSTAMP:20260422T084352
CREATED:20220915T100011Z
LAST-MODIFIED:20220915T100011Z
UID:21039-1739462400-1739466000@boergerhus.de
SUMMARY:Fit und beweglich im Alltag
DESCRIPTION:Angebot von Herrn Wolff \nim Bewegungsraum \n5€/Termin
URL:https://boergerhus.de/event/fit-und-beweglich-im-alltag/2025-02-13/
ATTACH;FMTTYPE=image/jpeg:https://boergerhus.de/wp-content/uploads/2022/04/medicine-ball-g4e00851d0_1280.jpg
END:VEVENT
BEGIN:VEVENT
DTSTART;TZID=Europe/Berlin:20250218T090000
DTEND;TZID=Europe/Berlin:20250218T100000
DTSTAMP:20260422T084352
CREATED:20220406T072342Z
LAST-MODIFIED:20230808T105558Z
UID:15241-1739869200-1739872800@boergerhus.de
SUMMARY:Gesundheitssport draußen oder Bewegungsraum
DESCRIPTION:Gesundheitssport draußen oder Bewegungsraum
URL:https://boergerhus.de/event/gesundheitssport-draussen-oder-bewegungsraum/2025-02-18/
LOCATION:Börgerhus\, Bewegungsraum
ATTACH;FMTTYPE=image/jpeg:https://boergerhus.de/wp-content/uploads/2022/04/medicine-ball-g4e00851d0_1280.jpg
ORGANIZER;CN="AWO B%C3%B6rgerhus":MAILTO:boergerhus@awo-rostock.de
END:VEVENT
BEGIN:VEVENT
DTSTART;TZID=Europe/Berlin:20250218T103000
DTEND;TZID=Europe/Berlin:20250218T113000
DTSTAMP:20260422T084352
CREATED:20220422T123110Z
LAST-MODIFIED:20220422T123110Z
UID:15247-1739874600-1739878200@boergerhus.de
SUMMARY:Reha-Sport - Bewegungsraum
DESCRIPTION:Reha-Sport – Bewegungsraum
URL:https://boergerhus.de/event/reha-sport-bewegungsraum/2025-02-18/
ATTACH;FMTTYPE=image/jpeg:https://boergerhus.de/wp-content/uploads/2022/04/medicine-ball-g4e00851d0_1280.jpg
END:VEVENT
BEGIN:VEVENT
DTSTART;TZID=Europe/Berlin:20250218T160000
DTEND;TZID=Europe/Berlin:20250218T170000
DTSTAMP:20260422T084352
CREATED:20220406T073323Z
LAST-MODIFIED:20220406T073323Z
UID:15245-1739894400-1739898000@boergerhus.de
SUMMARY:Familien am Ball - Bewegungsraum
DESCRIPTION:Familien am Ball Bewegungsraum Börgerhus
URL:https://boergerhus.de/event/familien-am-ball-bewegungsraum-boergerhus/2025-02-18/
LOCATION:Börgerhus\, Bewegungsraum
ATTACH;FMTTYPE=image/jpeg:https://boergerhus.de/wp-content/uploads/2022/04/family-gd49efca77_1280.jpg
ORGANIZER;CN="AWO B%C3%B6rgerhus":MAILTO:boergerhus@awo-rostock.de
END:VEVENT
BEGIN:VEVENT
DTSTART;TZID=Europe/Berlin:20250218T173000
DTEND;TZID=Europe/Berlin:20250218T183000
DTSTAMP:20260422T084352
CREATED:20220406T073555Z
LAST-MODIFIED:20220406T073555Z
UID:15243-1739899800-1739903400@boergerhus.de
SUMMARY:Reha-Sport - Bewegungsraum
DESCRIPTION:Reha-Sport Bewegungsraum Börgerhus
URL:https://boergerhus.de/event/reha-sport-bewegungsraum-boergerhus-2/2025-02-18/
LOCATION:Börgerhus\, Bewegungsraum
ATTACH;FMTTYPE=image/jpeg:https://boergerhus.de/wp-content/uploads/2022/04/medicine-ball-g4e00851d0_1280.jpg
ORGANIZER;CN="AWO B%C3%B6rgerhus":MAILTO:boergerhus@awo-rostock.de
END:VEVENT
BEGIN:VEVENT
DTSTART;TZID=Europe/Berlin:20250219T100000
DTEND;TZID=Europe/Berlin:20250219T110000
DTSTAMP:20260422T084352
CREATED:20220406T080934Z
LAST-MODIFIED:20220406T080934Z
UID:15257-1739959200-1739962800@boergerhus.de
SUMMARY:Bewegung und Entspannung für Senioren - Bewegungsraum
DESCRIPTION:Bewegung + Entspannung für Senioren im Bewegungsraum
URL:https://boergerhus.de/event/bewegung-entspannung-senioren-im-bewegungsraum/2025-02-19/
LOCATION:Börgerhus\, Bewegungsraum
ATTACH;FMTTYPE=image/jpeg:https://boergerhus.de/wp-content/uploads/2022/04/medicine-ball-g4e00851d0_1280.jpg
ORGANIZER;CN="AWO B%C3%B6rgerhus":MAILTO:boergerhus@awo-rostock.de
END:VEVENT
BEGIN:VEVENT
DTSTART;TZID=Europe/Berlin:20250220T160000
DTEND;TZID=Europe/Berlin:20250220T170000
DTSTAMP:20260422T084352
CREATED:20220915T100011Z
LAST-MODIFIED:20220915T100011Z
UID:21040-1740067200-1740070800@boergerhus.de
SUMMARY:Fit und beweglich im Alltag
DESCRIPTION:Angebot von Herrn Wolff \nim Bewegungsraum \n5€/Termin
URL:https://boergerhus.de/event/fit-und-beweglich-im-alltag/2025-02-20/
ATTACH;FMTTYPE=image/jpeg:https://boergerhus.de/wp-content/uploads/2022/04/medicine-ball-g4e00851d0_1280.jpg
END:VEVENT
BEGIN:VEVENT
DTSTART;TZID=Europe/Berlin:20250225T090000
DTEND;TZID=Europe/Berlin:20250225T100000
DTSTAMP:20260422T084352
CREATED:20220406T072342Z
LAST-MODIFIED:20230808T105558Z
UID:15317-1740474000-1740477600@boergerhus.de
SUMMARY:Gesundheitssport draußen oder Bewegungsraum
DESCRIPTION:Gesundheitssport draußen oder Bewegungsraum
URL:https://boergerhus.de/event/gesundheitssport-draussen-oder-bewegungsraum/2025-02-25/
LOCATION:Börgerhus\, Bewegungsraum
ATTACH;FMTTYPE=image/jpeg:https://boergerhus.de/wp-content/uploads/2022/04/medicine-ball-g4e00851d0_1280.jpg
ORGANIZER;CN="AWO B%C3%B6rgerhus":MAILTO:boergerhus@awo-rostock.de
END:VEVENT
BEGIN:VEVENT
DTSTART;TZID=Europe/Berlin:20250225T103000
DTEND;TZID=Europe/Berlin:20250225T113000
DTSTAMP:20260422T084352
CREATED:20220422T123110Z
LAST-MODIFIED:20220422T123110Z
UID:15323-1740479400-1740483000@boergerhus.de
SUMMARY:Reha-Sport - Bewegungsraum
DESCRIPTION:Reha-Sport – Bewegungsraum
URL:https://boergerhus.de/event/reha-sport-bewegungsraum/2025-02-25/
ATTACH;FMTTYPE=image/jpeg:https://boergerhus.de/wp-content/uploads/2022/04/medicine-ball-g4e00851d0_1280.jpg
END:VEVENT
BEGIN:VEVENT
DTSTART;TZID=Europe/Berlin:20250225T160000
DTEND;TZID=Europe/Berlin:20250225T170000
DTSTAMP:20260422T084352
CREATED:20220406T073323Z
LAST-MODIFIED:20220406T073323Z
UID:15321-1740499200-1740502800@boergerhus.de
SUMMARY:Familien am Ball - Bewegungsraum
DESCRIPTION:Familien am Ball Bewegungsraum Börgerhus
URL:https://boergerhus.de/event/familien-am-ball-bewegungsraum-boergerhus/2025-02-25/
LOCATION:Börgerhus\, Bewegungsraum
ATTACH;FMTTYPE=image/jpeg:https://boergerhus.de/wp-content/uploads/2022/04/family-gd49efca77_1280.jpg
ORGANIZER;CN="AWO B%C3%B6rgerhus":MAILTO:boergerhus@awo-rostock.de
END:VEVENT
BEGIN:VEVENT
DTSTART;TZID=Europe/Berlin:20250225T173000
DTEND;TZID=Europe/Berlin:20250225T183000
DTSTAMP:20260422T084352
CREATED:20220406T073555Z
LAST-MODIFIED:20220406T073555Z
UID:15319-1740504600-1740508200@boergerhus.de
SUMMARY:Reha-Sport - Bewegungsraum
DESCRIPTION:Reha-Sport Bewegungsraum Börgerhus
URL:https://boergerhus.de/event/reha-sport-bewegungsraum-boergerhus-2/2025-02-25/
LOCATION:Börgerhus\, Bewegungsraum
ATTACH;FMTTYPE=image/jpeg:https://boergerhus.de/wp-content/uploads/2022/04/medicine-ball-g4e00851d0_1280.jpg
ORGANIZER;CN="AWO B%C3%B6rgerhus":MAILTO:boergerhus@awo-rostock.de
END:VEVENT
BEGIN:VEVENT
DTSTART;TZID=Europe/Berlin:20250226T100000
DTEND;TZID=Europe/Berlin:20250226T110000
DTSTAMP:20260422T084352
CREATED:20220406T080934Z
LAST-MODIFIED:20220406T080934Z
UID:15326-1740564000-1740567600@boergerhus.de
SUMMARY:Bewegung und Entspannung für Senioren - Bewegungsraum
DESCRIPTION:Bewegung + Entspannung für Senioren im Bewegungsraum
URL:https://boergerhus.de/event/bewegung-entspannung-senioren-im-bewegungsraum/2025-02-26/
LOCATION:Börgerhus\, Bewegungsraum
ATTACH;FMTTYPE=image/jpeg:https://boergerhus.de/wp-content/uploads/2022/04/medicine-ball-g4e00851d0_1280.jpg
ORGANIZER;CN="AWO B%C3%B6rgerhus":MAILTO:boergerhus@awo-rostock.de
END:VEVENT
BEGIN:VEVENT
DTSTART;TZID=Europe/Berlin:20250227T160000
DTEND;TZID=Europe/Berlin:20250227T170000
DTSTAMP:20260422T084352
CREATED:20220915T100011Z
LAST-MODIFIED:20220915T100011Z
UID:21041-1740672000-1740675600@boergerhus.de
SUMMARY:Fit und beweglich im Alltag
DESCRIPTION:Angebot von Herrn Wolff \nim Bewegungsraum \n5€/Termin
URL:https://boergerhus.de/event/fit-und-beweglich-im-alltag/2025-02-27/
ATTACH;FMTTYPE=image/jpeg:https://boergerhus.de/wp-content/uploads/2022/04/medicine-ball-g4e00851d0_1280.jpg
END:VEVENT
END:VCALENDAR