BEGIN:VCALENDAR
VERSION:2.0
PRODID:-//Börgerhus Rostock - Stadtteil- und Begegnungszentrum Groß Klein - ECPv6.15.20//NONSGML v1.0//EN
CALSCALE:GREGORIAN
METHOD:PUBLISH
X-ORIGINAL-URL:https://boergerhus.de
X-WR-CALDESC:Veranstaltungen für Börgerhus Rostock - Stadtteil- und Begegnungszentrum Groß Klein
REFRESH-INTERVAL;VALUE=DURATION:PT1H
X-Robots-Tag:noindex
X-PUBLISHED-TTL:PT1H
BEGIN:VTIMEZONE
TZID:Europe/Berlin
BEGIN:DAYLIGHT
TZOFFSETFROM:+0100
TZOFFSETTO:+0200
TZNAME:CEST
DTSTART:20230326T010000
END:DAYLIGHT
BEGIN:STANDARD
TZOFFSETFROM:+0200
TZOFFSETTO:+0100
TZNAME:CET
DTSTART:20231029T010000
END:STANDARD
BEGIN:DAYLIGHT
TZOFFSETFROM:+0100
TZOFFSETTO:+0200
TZNAME:CEST
DTSTART:20240331T010000
END:DAYLIGHT
BEGIN:STANDARD
TZOFFSETFROM:+0200
TZOFFSETTO:+0100
TZNAME:CET
DTSTART:20241027T010000
END:STANDARD
BEGIN:DAYLIGHT
TZOFFSETFROM:+0100
TZOFFSETTO:+0200
TZNAME:CEST
DTSTART:20250330T010000
END:DAYLIGHT
BEGIN:STANDARD
TZOFFSETFROM:+0200
TZOFFSETTO:+0100
TZNAME:CET
DTSTART:20251026T010000
END:STANDARD
END:VTIMEZONE
BEGIN:VEVENT
DTSTART;TZID=Europe/Berlin:20240905T143000
DTEND;TZID=Europe/Berlin:20240905T160000
DTSTAMP:20260425T161315
CREATED:20230913T095818Z
LAST-MODIFIED:20230913T095818Z
UID:21448-1725546600-1725552000@boergerhus.de
SUMMARY:offenes Singen
DESCRIPTION:Wer Interesse und Spaß hat am Singen ist in dieser Gruppe herzlich willkommen! \nAnmeldung über Tel. 121 73 55
URL:https://boergerhus.de/event/offenes-singen/2024-09-05/
ATTACH;FMTTYPE=image/jpeg:https://boergerhus.de/wp-content/uploads/2022/09/Noten.jpg
END:VEVENT
BEGIN:VEVENT
DTSTART;TZID=Europe/Berlin:20240912T143000
DTEND;TZID=Europe/Berlin:20240912T160000
DTSTAMP:20260425T161315
CREATED:20230913T095818Z
LAST-MODIFIED:20230913T095818Z
UID:21449-1726151400-1726156800@boergerhus.de
SUMMARY:offenes Singen
DESCRIPTION:Wer Interesse und Spaß hat am Singen ist in dieser Gruppe herzlich willkommen! \nAnmeldung über Tel. 121 73 55
URL:https://boergerhus.de/event/offenes-singen/2024-09-12/
ATTACH;FMTTYPE=image/jpeg:https://boergerhus.de/wp-content/uploads/2022/09/Noten.jpg
END:VEVENT
BEGIN:VEVENT
DTSTART;TZID=Europe/Berlin:20240919T143000
DTEND;TZID=Europe/Berlin:20240919T160000
DTSTAMP:20260425T161315
CREATED:20230913T095818Z
LAST-MODIFIED:20230913T095818Z
UID:21450-1726756200-1726761600@boergerhus.de
SUMMARY:offenes Singen
DESCRIPTION:Wer Interesse und Spaß hat am Singen ist in dieser Gruppe herzlich willkommen! \nAnmeldung über Tel. 121 73 55
URL:https://boergerhus.de/event/offenes-singen/2024-09-19/
ATTACH;FMTTYPE=image/jpeg:https://boergerhus.de/wp-content/uploads/2022/09/Noten.jpg
END:VEVENT
BEGIN:VEVENT
DTSTART;TZID=Europe/Berlin:20240926T143000
DTEND;TZID=Europe/Berlin:20240926T160000
DTSTAMP:20260425T161315
CREATED:20230913T095818Z
LAST-MODIFIED:20230913T095818Z
UID:21451-1727361000-1727366400@boergerhus.de
SUMMARY:offenes Singen
DESCRIPTION:Wer Interesse und Spaß hat am Singen ist in dieser Gruppe herzlich willkommen! \nAnmeldung über Tel. 121 73 55
URL:https://boergerhus.de/event/offenes-singen/2024-09-26/
ATTACH;FMTTYPE=image/jpeg:https://boergerhus.de/wp-content/uploads/2022/09/Noten.jpg
END:VEVENT
END:VCALENDAR