BEGIN:VCALENDAR
VERSION:2.0
PRODID:-//Börgerhus Rostock - Stadtteil- und Begegnungszentrum Groß Klein - ECPv6.15.20//NONSGML v1.0//EN
CALSCALE:GREGORIAN
METHOD:PUBLISH
X-ORIGINAL-URL:https://boergerhus.de
X-WR-CALDESC:Veranstaltungen für Börgerhus Rostock - Stadtteil- und Begegnungszentrum Groß Klein
REFRESH-INTERVAL;VALUE=DURATION:PT1H
X-Robots-Tag:noindex
X-PUBLISHED-TTL:PT1H
BEGIN:VTIMEZONE
TZID:Europe/Berlin
BEGIN:DAYLIGHT
TZOFFSETFROM:+0100
TZOFFSETTO:+0200
TZNAME:CEST
DTSTART:20260329T010000
END:DAYLIGHT
BEGIN:STANDARD
TZOFFSETFROM:+0200
TZOFFSETTO:+0100
TZNAME:CET
DTSTART:20261025T010000
END:STANDARD
BEGIN:DAYLIGHT
TZOFFSETFROM:+0100
TZOFFSETTO:+0200
TZNAME:CEST
DTSTART:20270328T010000
END:DAYLIGHT
BEGIN:STANDARD
TZOFFSETFROM:+0200
TZOFFSETTO:+0100
TZNAME:CET
DTSTART:20271031T010000
END:STANDARD
BEGIN:DAYLIGHT
TZOFFSETFROM:+0100
TZOFFSETTO:+0200
TZNAME:CEST
DTSTART:20280326T010000
END:DAYLIGHT
BEGIN:STANDARD
TZOFFSETFROM:+0200
TZOFFSETTO:+0100
TZNAME:CET
DTSTART:20281029T010000
END:STANDARD
END:VTIMEZONE
BEGIN:VEVENT
DTSTART;TZID=Europe/Berlin:20271006T133000
DTEND;TZID=Europe/Berlin:20271006T160000
DTSTAMP:20260424T121044
CREATED:20220406T081222Z
LAST-MODIFIED:20220406T081222Z
UID:32562-1822829400-1822838400@boergerhus.de
SUMMARY:Seniorentreff - Multifunktionsraum
DESCRIPTION:Seniorentreff Börgerhus
URL:https://boergerhus.de/event/seniorentreff-multifunktionsraum-boergerhus/2027-10-06/
LOCATION:Börgerhus\, Multifunktionsraum
ATTACH;FMTTYPE=image/jpeg:https://boergerhus.de/wp-content/uploads/2022/04/Seniorentreff.jpg
ORGANIZER;CN="AWO B%C3%B6rgerhus":MAILTO:boergerhus@awo-rostock.de
END:VEVENT
BEGIN:VEVENT
DTSTART;TZID=Europe/Berlin:20271013T133000
DTEND;TZID=Europe/Berlin:20271013T160000
DTSTAMP:20260424T121044
CREATED:20220406T081222Z
LAST-MODIFIED:20220406T081222Z
UID:32654-1823434200-1823443200@boergerhus.de
SUMMARY:Seniorentreff - Multifunktionsraum
DESCRIPTION:Seniorentreff Börgerhus
URL:https://boergerhus.de/event/seniorentreff-multifunktionsraum-boergerhus/2027-10-13/
LOCATION:Börgerhus\, Multifunktionsraum
ATTACH;FMTTYPE=image/jpeg:https://boergerhus.de/wp-content/uploads/2022/04/Seniorentreff.jpg
ORGANIZER;CN="AWO B%C3%B6rgerhus":MAILTO:boergerhus@awo-rostock.de
END:VEVENT
BEGIN:VEVENT
DTSTART;TZID=Europe/Berlin:20271020T133000
DTEND;TZID=Europe/Berlin:20271020T160000
DTSTAMP:20260424T121044
CREATED:20220406T081222Z
LAST-MODIFIED:20220406T081222Z
UID:32706-1824039000-1824048000@boergerhus.de
SUMMARY:Seniorentreff - Multifunktionsraum
DESCRIPTION:Seniorentreff Börgerhus
URL:https://boergerhus.de/event/seniorentreff-multifunktionsraum-boergerhus/2027-10-20/
LOCATION:Börgerhus\, Multifunktionsraum
ATTACH;FMTTYPE=image/jpeg:https://boergerhus.de/wp-content/uploads/2022/04/Seniorentreff.jpg
ORGANIZER;CN="AWO B%C3%B6rgerhus":MAILTO:boergerhus@awo-rostock.de
END:VEVENT
BEGIN:VEVENT
DTSTART;TZID=Europe/Berlin:20271027T133000
DTEND;TZID=Europe/Berlin:20271027T160000
DTSTAMP:20260424T121044
CREATED:20220406T081222Z
LAST-MODIFIED:20220406T081222Z
UID:32758-1824643800-1824652800@boergerhus.de
SUMMARY:Seniorentreff - Multifunktionsraum
DESCRIPTION:Seniorentreff Börgerhus
URL:https://boergerhus.de/event/seniorentreff-multifunktionsraum-boergerhus/2027-10-27/
LOCATION:Börgerhus\, Multifunktionsraum
ATTACH;FMTTYPE=image/jpeg:https://boergerhus.de/wp-content/uploads/2022/04/Seniorentreff.jpg
ORGANIZER;CN="AWO B%C3%B6rgerhus":MAILTO:boergerhus@awo-rostock.de
END:VEVENT
END:VCALENDAR