BEGIN:VCALENDAR
VERSION:2.0
PRODID:-//Börgerhus Rostock - Stadtteil- und Begegnungszentrum Groß Klein - ECPv6.15.20//NONSGML v1.0//EN
CALSCALE:GREGORIAN
METHOD:PUBLISH
X-ORIGINAL-URL:https://boergerhus.de
X-WR-CALDESC:Veranstaltungen für Börgerhus Rostock - Stadtteil- und Begegnungszentrum Groß Klein
REFRESH-INTERVAL;VALUE=DURATION:PT1H
X-Robots-Tag:noindex
X-PUBLISHED-TTL:PT1H
BEGIN:VTIMEZONE
TZID:Europe/Berlin
BEGIN:DAYLIGHT
TZOFFSETFROM:+0100
TZOFFSETTO:+0200
TZNAME:CEST
DTSTART:20260329T010000
END:DAYLIGHT
BEGIN:STANDARD
TZOFFSETFROM:+0200
TZOFFSETTO:+0100
TZNAME:CET
DTSTART:20261025T010000
END:STANDARD
BEGIN:DAYLIGHT
TZOFFSETFROM:+0100
TZOFFSETTO:+0200
TZNAME:CEST
DTSTART:20270328T010000
END:DAYLIGHT
BEGIN:STANDARD
TZOFFSETFROM:+0200
TZOFFSETTO:+0100
TZNAME:CET
DTSTART:20271031T010000
END:STANDARD
BEGIN:DAYLIGHT
TZOFFSETFROM:+0100
TZOFFSETTO:+0200
TZNAME:CEST
DTSTART:20280326T010000
END:DAYLIGHT
BEGIN:STANDARD
TZOFFSETFROM:+0200
TZOFFSETTO:+0100
TZNAME:CET
DTSTART:20281029T010000
END:STANDARD
END:VTIMEZONE
BEGIN:VEVENT
DTSTART;TZID=Europe/Berlin:20270901T133000
DTEND;TZID=Europe/Berlin:20270901T160000
DTSTAMP:20260421T225712
CREATED:20220406T081222Z
LAST-MODIFIED:20220406T081222Z
UID:32286-1819805400-1819814400@boergerhus.de
SUMMARY:Seniorentreff - Multifunktionsraum
DESCRIPTION:Seniorentreff Börgerhus
URL:https://boergerhus.de/event/seniorentreff-multifunktionsraum-boergerhus/2027-09-01/
LOCATION:Börgerhus\, Multifunktionsraum
ATTACH;FMTTYPE=image/jpeg:https://boergerhus.de/wp-content/uploads/2022/04/Seniorentreff.jpg
ORGANIZER;CN="AWO B%C3%B6rgerhus":MAILTO:boergerhus@awo-rostock.de
END:VEVENT
BEGIN:VEVENT
DTSTART;TZID=Europe/Berlin:20270908T133000
DTEND;TZID=Europe/Berlin:20270908T160000
DTSTAMP:20260421T225712
CREATED:20220406T081222Z
LAST-MODIFIED:20220406T081222Z
UID:32355-1820410200-1820419200@boergerhus.de
SUMMARY:Seniorentreff - Multifunktionsraum
DESCRIPTION:Seniorentreff Börgerhus
URL:https://boergerhus.de/event/seniorentreff-multifunktionsraum-boergerhus/2027-09-08/
LOCATION:Börgerhus\, Multifunktionsraum
ATTACH;FMTTYPE=image/jpeg:https://boergerhus.de/wp-content/uploads/2022/04/Seniorentreff.jpg
ORGANIZER;CN="AWO B%C3%B6rgerhus":MAILTO:boergerhus@awo-rostock.de
END:VEVENT
BEGIN:VEVENT
DTSTART;TZID=Europe/Berlin:20270915T133000
DTEND;TZID=Europe/Berlin:20270915T160000
DTSTAMP:20260421T225712
CREATED:20220406T081222Z
LAST-MODIFIED:20220406T081222Z
UID:32414-1821015000-1821024000@boergerhus.de
SUMMARY:Seniorentreff - Multifunktionsraum
DESCRIPTION:Seniorentreff Börgerhus
URL:https://boergerhus.de/event/seniorentreff-multifunktionsraum-boergerhus/2027-09-15/
LOCATION:Börgerhus\, Multifunktionsraum
ATTACH;FMTTYPE=image/jpeg:https://boergerhus.de/wp-content/uploads/2022/04/Seniorentreff.jpg
ORGANIZER;CN="AWO B%C3%B6rgerhus":MAILTO:boergerhus@awo-rostock.de
END:VEVENT
BEGIN:VEVENT
DTSTART;TZID=Europe/Berlin:20270922T133000
DTEND;TZID=Europe/Berlin:20270922T160000
DTSTAMP:20260421T225712
CREATED:20220406T081222Z
LAST-MODIFIED:20220406T081222Z
UID:32474-1821619800-1821628800@boergerhus.de
SUMMARY:Seniorentreff - Multifunktionsraum
DESCRIPTION:Seniorentreff Börgerhus
URL:https://boergerhus.de/event/seniorentreff-multifunktionsraum-boergerhus/2027-09-22/
LOCATION:Börgerhus\, Multifunktionsraum
ATTACH;FMTTYPE=image/jpeg:https://boergerhus.de/wp-content/uploads/2022/04/Seniorentreff.jpg
ORGANIZER;CN="AWO B%C3%B6rgerhus":MAILTO:boergerhus@awo-rostock.de
END:VEVENT
BEGIN:VEVENT
DTSTART;TZID=Europe/Berlin:20270929T133000
DTEND;TZID=Europe/Berlin:20270929T160000
DTSTAMP:20260421T225712
CREATED:20220406T081222Z
LAST-MODIFIED:20220406T081222Z
UID:32520-1822224600-1822233600@boergerhus.de
SUMMARY:Seniorentreff - Multifunktionsraum
DESCRIPTION:Seniorentreff Börgerhus
URL:https://boergerhus.de/event/seniorentreff-multifunktionsraum-boergerhus/2027-09-29/
LOCATION:Börgerhus\, Multifunktionsraum
ATTACH;FMTTYPE=image/jpeg:https://boergerhus.de/wp-content/uploads/2022/04/Seniorentreff.jpg
ORGANIZER;CN="AWO B%C3%B6rgerhus":MAILTO:boergerhus@awo-rostock.de
END:VEVENT
END:VCALENDAR