BEGIN:VCALENDAR
VERSION:2.0
PRODID:-//Börgerhus Rostock - Stadtteil- und Begegnungszentrum Groß Klein - ECPv6.15.20//NONSGML v1.0//EN
CALSCALE:GREGORIAN
METHOD:PUBLISH
X-ORIGINAL-URL:https://boergerhus.de
X-WR-CALDESC:Veranstaltungen für Börgerhus Rostock - Stadtteil- und Begegnungszentrum Groß Klein
REFRESH-INTERVAL;VALUE=DURATION:PT1H
X-Robots-Tag:noindex
X-PUBLISHED-TTL:PT1H
BEGIN:VTIMEZONE
TZID:Europe/Berlin
BEGIN:DAYLIGHT
TZOFFSETFROM:+0100
TZOFFSETTO:+0200
TZNAME:CEST
DTSTART:20260329T010000
END:DAYLIGHT
BEGIN:STANDARD
TZOFFSETFROM:+0200
TZOFFSETTO:+0100
TZNAME:CET
DTSTART:20261025T010000
END:STANDARD
BEGIN:DAYLIGHT
TZOFFSETFROM:+0100
TZOFFSETTO:+0200
TZNAME:CEST
DTSTART:20270328T010000
END:DAYLIGHT
BEGIN:STANDARD
TZOFFSETFROM:+0200
TZOFFSETTO:+0100
TZNAME:CET
DTSTART:20271031T010000
END:STANDARD
BEGIN:DAYLIGHT
TZOFFSETFROM:+0100
TZOFFSETTO:+0200
TZNAME:CEST
DTSTART:20280326T010000
END:DAYLIGHT
BEGIN:STANDARD
TZOFFSETFROM:+0200
TZOFFSETTO:+0100
TZNAME:CET
DTSTART:20281029T010000
END:STANDARD
END:VTIMEZONE
BEGIN:VEVENT
DTSTART;TZID=Europe/Berlin:20270107T173000
DTEND;TZID=Europe/Berlin:20270107T193000
DTSTAMP:20260424T182942
CREATED:20220406T083624Z
LAST-MODIFIED:20220406T083624Z
UID:27363-1799343000-1799350200@boergerhus.de
SUMMARY:Schach für Jedermann im Saal
DESCRIPTION:Schach für Jedermann
URL:https://boergerhus.de/event/schach-fuer-jedermann-2/2027-01-07/
LOCATION:Börgerhus\, Saal
ATTACH;FMTTYPE=image/jpeg:https://boergerhus.de/wp-content/uploads/2022/02/Bilder-Boergerhus-und-JZ224-18.02.22-36-von-65-scaled.jpg
ORGANIZER;CN="AWO B%C3%B6rgerhus":MAILTO:boergerhus@awo-rostock.de
END:VEVENT
BEGIN:VEVENT
DTSTART;TZID=Europe/Berlin:20270114T173000
DTEND;TZID=Europe/Berlin:20270114T193000
DTSTAMP:20260424T182942
CREATED:20220406T083624Z
LAST-MODIFIED:20220406T083624Z
UID:27411-1799947800-1799955000@boergerhus.de
SUMMARY:Schach für Jedermann im Saal
DESCRIPTION:Schach für Jedermann
URL:https://boergerhus.de/event/schach-fuer-jedermann-2/2027-01-14/
LOCATION:Börgerhus\, Saal
ATTACH;FMTTYPE=image/jpeg:https://boergerhus.de/wp-content/uploads/2022/02/Bilder-Boergerhus-und-JZ224-18.02.22-36-von-65-scaled.jpg
ORGANIZER;CN="AWO B%C3%B6rgerhus":MAILTO:boergerhus@awo-rostock.de
END:VEVENT
BEGIN:VEVENT
DTSTART;TZID=Europe/Berlin:20270121T173000
DTEND;TZID=Europe/Berlin:20270121T193000
DTSTAMP:20260424T182942
CREATED:20220406T083624Z
LAST-MODIFIED:20220406T083624Z
UID:27475-1800552600-1800559800@boergerhus.de
SUMMARY:Schach für Jedermann im Saal
DESCRIPTION:Schach für Jedermann
URL:https://boergerhus.de/event/schach-fuer-jedermann-2/2027-01-21/
LOCATION:Börgerhus\, Saal
ATTACH;FMTTYPE=image/jpeg:https://boergerhus.de/wp-content/uploads/2022/02/Bilder-Boergerhus-und-JZ224-18.02.22-36-von-65-scaled.jpg
ORGANIZER;CN="AWO B%C3%B6rgerhus":MAILTO:boergerhus@awo-rostock.de
END:VEVENT
BEGIN:VEVENT
DTSTART;TZID=Europe/Berlin:20270128T173000
DTEND;TZID=Europe/Berlin:20270128T193000
DTSTAMP:20260424T182942
CREATED:20220406T083624Z
LAST-MODIFIED:20220406T083624Z
UID:27531-1801157400-1801164600@boergerhus.de
SUMMARY:Schach für Jedermann im Saal
DESCRIPTION:Schach für Jedermann
URL:https://boergerhus.de/event/schach-fuer-jedermann-2/2027-01-28/
LOCATION:Börgerhus\, Saal
ATTACH;FMTTYPE=image/jpeg:https://boergerhus.de/wp-content/uploads/2022/02/Bilder-Boergerhus-und-JZ224-18.02.22-36-von-65-scaled.jpg
ORGANIZER;CN="AWO B%C3%B6rgerhus":MAILTO:boergerhus@awo-rostock.de
END:VEVENT
END:VCALENDAR