BEGIN:VCALENDAR
VERSION:2.0
PRODID:-//Börgerhus Rostock - Stadtteil- und Begegnungszentrum Groß Klein - ECPv6.15.20//NONSGML v1.0//EN
CALSCALE:GREGORIAN
METHOD:PUBLISH
X-WR-CALNAME:Börgerhus Rostock - Stadtteil- und Begegnungszentrum Groß Klein
X-ORIGINAL-URL:https://boergerhus.de
X-WR-CALDESC:Veranstaltungen für Börgerhus Rostock - Stadtteil- und Begegnungszentrum Groß Klein
REFRESH-INTERVAL;VALUE=DURATION:PT1H
X-Robots-Tag:noindex
X-PUBLISHED-TTL:PT1H
BEGIN:VTIMEZONE
TZID:Europe/Berlin
BEGIN:DAYLIGHT
TZOFFSETFROM:+0100
TZOFFSETTO:+0200
TZNAME:CEST
DTSTART:20260329T010000
END:DAYLIGHT
BEGIN:STANDARD
TZOFFSETFROM:+0200
TZOFFSETTO:+0100
TZNAME:CET
DTSTART:20261025T010000
END:STANDARD
BEGIN:DAYLIGHT
TZOFFSETFROM:+0100
TZOFFSETTO:+0200
TZNAME:CEST
DTSTART:20270328T010000
END:DAYLIGHT
BEGIN:STANDARD
TZOFFSETFROM:+0200
TZOFFSETTO:+0100
TZNAME:CET
DTSTART:20271031T010000
END:STANDARD
BEGIN:DAYLIGHT
TZOFFSETFROM:+0100
TZOFFSETTO:+0200
TZNAME:CEST
DTSTART:20280326T010000
END:DAYLIGHT
BEGIN:STANDARD
TZOFFSETFROM:+0200
TZOFFSETTO:+0100
TZNAME:CET
DTSTART:20281029T010000
END:STANDARD
END:VTIMEZONE
BEGIN:VEVENT
DTSTART;TZID=Europe/Berlin:20271202T173000
DTEND;TZID=Europe/Berlin:20271202T203000
DTSTAMP:20260420T181455
CREATED:20220406T084222Z
LAST-MODIFIED:20220406T084222Z
UID:33014-1827768600-1827779400@boergerhus.de
SUMMARY:Salsa Tanzkurs - Bewegungsraum
DESCRIPTION:Salsa Tanzkurs – Bewegungsraum Börgerhus
URL:https://boergerhus.de/event/salsa-tanzkurs-bewegungsraum-boergerhus/2027-12-02/
LOCATION:Börgerhus\, Bewegungsraum
ATTACH;FMTTYPE=image/jpeg:https://boergerhus.de/wp-content/uploads/2022/04/latino-g9ad900576_640.jpg
ORGANIZER;CN="AWO B%C3%B6rgerhus":MAILTO:boergerhus@awo-rostock.de
END:VEVENT
BEGIN:VEVENT
DTSTART;TZID=Europe/Berlin:20271209T173000
DTEND;TZID=Europe/Berlin:20271209T203000
DTSTAMP:20260420T181455
CREATED:20220406T084222Z
LAST-MODIFIED:20220406T084222Z
UID:33066-1828373400-1828384200@boergerhus.de
SUMMARY:Salsa Tanzkurs - Bewegungsraum
DESCRIPTION:Salsa Tanzkurs – Bewegungsraum Börgerhus
URL:https://boergerhus.de/event/salsa-tanzkurs-bewegungsraum-boergerhus/2027-12-09/
LOCATION:Börgerhus\, Bewegungsraum
ATTACH;FMTTYPE=image/jpeg:https://boergerhus.de/wp-content/uploads/2022/04/latino-g9ad900576_640.jpg
ORGANIZER;CN="AWO B%C3%B6rgerhus":MAILTO:boergerhus@awo-rostock.de
END:VEVENT
BEGIN:VEVENT
DTSTART;TZID=Europe/Berlin:20271216T173000
DTEND;TZID=Europe/Berlin:20271216T203000
DTSTAMP:20260420T181455
CREATED:20220406T084222Z
LAST-MODIFIED:20220406T084222Z
UID:33134-1828978200-1828989000@boergerhus.de
SUMMARY:Salsa Tanzkurs - Bewegungsraum
DESCRIPTION:Salsa Tanzkurs – Bewegungsraum Börgerhus
URL:https://boergerhus.de/event/salsa-tanzkurs-bewegungsraum-boergerhus/2027-12-16/
LOCATION:Börgerhus\, Bewegungsraum
ATTACH;FMTTYPE=image/jpeg:https://boergerhus.de/wp-content/uploads/2022/04/latino-g9ad900576_640.jpg
ORGANIZER;CN="AWO B%C3%B6rgerhus":MAILTO:boergerhus@awo-rostock.de
END:VEVENT
BEGIN:VEVENT
DTSTART;TZID=Europe/Berlin:20271223T173000
DTEND;TZID=Europe/Berlin:20271223T203000
DTSTAMP:20260420T181455
CREATED:20220406T084222Z
LAST-MODIFIED:20220406T084222Z
UID:33200-1829583000-1829593800@boergerhus.de
SUMMARY:Salsa Tanzkurs - Bewegungsraum
DESCRIPTION:Salsa Tanzkurs – Bewegungsraum Börgerhus
URL:https://boergerhus.de/event/salsa-tanzkurs-bewegungsraum-boergerhus/2027-12-23/
LOCATION:Börgerhus\, Bewegungsraum
ATTACH;FMTTYPE=image/jpeg:https://boergerhus.de/wp-content/uploads/2022/04/latino-g9ad900576_640.jpg
ORGANIZER;CN="AWO B%C3%B6rgerhus":MAILTO:boergerhus@awo-rostock.de
END:VEVENT
BEGIN:VEVENT
DTSTART;TZID=Europe/Berlin:20271230T173000
DTEND;TZID=Europe/Berlin:20271230T203000
DTSTAMP:20260420T181455
CREATED:20220406T084222Z
LAST-MODIFIED:20220406T084222Z
UID:33243-1830187800-1830198600@boergerhus.de
SUMMARY:Salsa Tanzkurs - Bewegungsraum
DESCRIPTION:Salsa Tanzkurs – Bewegungsraum Börgerhus
URL:https://boergerhus.de/event/salsa-tanzkurs-bewegungsraum-boergerhus/2027-12-30/
LOCATION:Börgerhus\, Bewegungsraum
ATTACH;FMTTYPE=image/jpeg:https://boergerhus.de/wp-content/uploads/2022/04/latino-g9ad900576_640.jpg
ORGANIZER;CN="AWO B%C3%B6rgerhus":MAILTO:boergerhus@awo-rostock.de
END:VEVENT
END:VCALENDAR