BEGIN:VCALENDAR
VERSION:2.0
PRODID:-//Börgerhus Rostock - Stadtteil- und Begegnungszentrum Groß Klein - ECPv6.15.20//NONSGML v1.0//EN
CALSCALE:GREGORIAN
METHOD:PUBLISH
X-WR-CALNAME:Börgerhus Rostock - Stadtteil- und Begegnungszentrum Groß Klein
X-ORIGINAL-URL:https://boergerhus.de
X-WR-CALDESC:Veranstaltungen für Börgerhus Rostock - Stadtteil- und Begegnungszentrum Groß Klein
REFRESH-INTERVAL;VALUE=DURATION:PT1H
X-Robots-Tag:noindex
X-PUBLISHED-TTL:PT1H
BEGIN:VTIMEZONE
TZID:Europe/Berlin
BEGIN:DAYLIGHT
TZOFFSETFROM:+0100
TZOFFSETTO:+0200
TZNAME:CEST
DTSTART:20260329T010000
END:DAYLIGHT
BEGIN:STANDARD
TZOFFSETFROM:+0200
TZOFFSETTO:+0100
TZNAME:CET
DTSTART:20261025T010000
END:STANDARD
BEGIN:DAYLIGHT
TZOFFSETFROM:+0100
TZOFFSETTO:+0200
TZNAME:CEST
DTSTART:20270328T010000
END:DAYLIGHT
BEGIN:STANDARD
TZOFFSETFROM:+0200
TZOFFSETTO:+0100
TZNAME:CET
DTSTART:20271031T010000
END:STANDARD
BEGIN:DAYLIGHT
TZOFFSETFROM:+0100
TZOFFSETTO:+0200
TZNAME:CEST
DTSTART:20280326T010000
END:DAYLIGHT
BEGIN:STANDARD
TZOFFSETFROM:+0200
TZOFFSETTO:+0100
TZNAME:CET
DTSTART:20281029T010000
END:STANDARD
END:VTIMEZONE
BEGIN:VEVENT
DTSTART;TZID=Europe/Berlin:20270607T160000
DTEND;TZID=Europe/Berlin:20270607T180000
DTSTAMP:20260425T193605
CREATED:20220404T112835Z
LAST-MODIFIED:20220404T112835Z
UID:30166-1812384000-1812391200@boergerhus.de
SUMMARY:Nähzirkel - Kreativraum
DESCRIPTION:Nähzirkel- Kreativraum Börgerhus
URL:https://boergerhus.de/event/naehzirkel/2027-06-07/
LOCATION:Börgerhus\, Kreativraum
ATTACH;FMTTYPE=image/jpeg:https://boergerhus.de/wp-content/uploads/2022/04/thread-g6ab3db56b_1280.jpg
ORGANIZER;CN="AWO B%C3%B6rgerhus":MAILTO:boergerhus@awo-rostock.de
END:VEVENT
BEGIN:VEVENT
DTSTART;TZID=Europe/Berlin:20270614T160000
DTEND;TZID=Europe/Berlin:20270614T180000
DTSTAMP:20260425T193605
CREATED:20220404T112835Z
LAST-MODIFIED:20220404T112835Z
UID:30217-1812988800-1812996000@boergerhus.de
SUMMARY:Nähzirkel - Kreativraum
DESCRIPTION:Nähzirkel- Kreativraum Börgerhus
URL:https://boergerhus.de/event/naehzirkel/2027-06-14/
LOCATION:Börgerhus\, Kreativraum
ATTACH;FMTTYPE=image/jpeg:https://boergerhus.de/wp-content/uploads/2022/04/thread-g6ab3db56b_1280.jpg
ORGANIZER;CN="AWO B%C3%B6rgerhus":MAILTO:boergerhus@awo-rostock.de
END:VEVENT
BEGIN:VEVENT
DTSTART;TZID=Europe/Berlin:20270621T160000
DTEND;TZID=Europe/Berlin:20270621T180000
DTSTAMP:20260425T193605
CREATED:20220404T112835Z
LAST-MODIFIED:20220404T112835Z
UID:30266-1813593600-1813600800@boergerhus.de
SUMMARY:Nähzirkel - Kreativraum
DESCRIPTION:Nähzirkel- Kreativraum Börgerhus
URL:https://boergerhus.de/event/naehzirkel/2027-06-21/
LOCATION:Börgerhus\, Kreativraum
ATTACH;FMTTYPE=image/jpeg:https://boergerhus.de/wp-content/uploads/2022/04/thread-g6ab3db56b_1280.jpg
ORGANIZER;CN="AWO B%C3%B6rgerhus":MAILTO:boergerhus@awo-rostock.de
END:VEVENT
BEGIN:VEVENT
DTSTART;TZID=Europe/Berlin:20270628T160000
DTEND;TZID=Europe/Berlin:20270628T180000
DTSTAMP:20260425T193605
CREATED:20220404T112835Z
LAST-MODIFIED:20220404T112835Z
UID:30317-1814198400-1814205600@boergerhus.de
SUMMARY:Nähzirkel - Kreativraum
DESCRIPTION:Nähzirkel- Kreativraum Börgerhus
URL:https://boergerhus.de/event/naehzirkel/2027-06-28/
LOCATION:Börgerhus\, Kreativraum
ATTACH;FMTTYPE=image/jpeg:https://boergerhus.de/wp-content/uploads/2022/04/thread-g6ab3db56b_1280.jpg
ORGANIZER;CN="AWO B%C3%B6rgerhus":MAILTO:boergerhus@awo-rostock.de
END:VEVENT
END:VCALENDAR