BEGIN:VCALENDAR
VERSION:2.0
PRODID:-//Börgerhus Rostock - Stadtteil- und Begegnungszentrum Groß Klein - ECPv6.15.20//NONSGML v1.0//EN
CALSCALE:GREGORIAN
METHOD:PUBLISH
X-WR-CALNAME:Börgerhus Rostock - Stadtteil- und Begegnungszentrum Groß Klein
X-ORIGINAL-URL:https://boergerhus.de
X-WR-CALDESC:Veranstaltungen für Börgerhus Rostock - Stadtteil- und Begegnungszentrum Groß Klein
REFRESH-INTERVAL;VALUE=DURATION:PT1H
X-Robots-Tag:noindex
X-PUBLISHED-TTL:PT1H
BEGIN:VTIMEZONE
TZID:Europe/Berlin
BEGIN:DAYLIGHT
TZOFFSETFROM:+0100
TZOFFSETTO:+0200
TZNAME:CEST
DTSTART:20230326T010000
END:DAYLIGHT
BEGIN:STANDARD
TZOFFSETFROM:+0200
TZOFFSETTO:+0100
TZNAME:CET
DTSTART:20231029T010000
END:STANDARD
BEGIN:DAYLIGHT
TZOFFSETFROM:+0100
TZOFFSETTO:+0200
TZNAME:CEST
DTSTART:20240331T010000
END:DAYLIGHT
BEGIN:STANDARD
TZOFFSETFROM:+0200
TZOFFSETTO:+0100
TZNAME:CET
DTSTART:20241027T010000
END:STANDARD
BEGIN:DAYLIGHT
TZOFFSETFROM:+0100
TZOFFSETTO:+0200
TZNAME:CEST
DTSTART:20250330T010000
END:DAYLIGHT
BEGIN:STANDARD
TZOFFSETFROM:+0200
TZOFFSETTO:+0100
TZNAME:CET
DTSTART:20251026T010000
END:STANDARD
END:VTIMEZONE
BEGIN:VEVENT
DTSTART;TZID=Europe/Berlin:20240902T160000
DTEND;TZID=Europe/Berlin:20240902T180000
DTSTAMP:20260421T143758
CREATED:20220404T112835Z
LAST-MODIFIED:20250805T150550Z
UID:25401-1725292800-1725300000@boergerhus.de
SUMMARY:Nähzirkel - Kreativraum
DESCRIPTION:Nähzirkel- Kreativraum Börgerhus
URL:https://boergerhus.de/event/naehzirkel/2024-09-02/
LOCATION:Börgerhus\, Kreativraum
ATTACH;FMTTYPE=image/jpeg:https://boergerhus.de/wp-content/uploads/2022/04/thread-g6ab3db56b_1280.jpg
ORGANIZER;CN="AWO B%C3%B6rgerhus":MAILTO:boergerhus@awo-rostock.de
END:VEVENT
BEGIN:VEVENT
DTSTART;TZID=Europe/Berlin:20240909T160000
DTEND;TZID=Europe/Berlin:20240909T180000
DTSTAMP:20260421T143758
CREATED:20220404T112835Z
LAST-MODIFIED:20250805T150550Z
UID:25402-1725897600-1725904800@boergerhus.de
SUMMARY:Nähzirkel - Kreativraum
DESCRIPTION:Nähzirkel- Kreativraum Börgerhus
URL:https://boergerhus.de/event/naehzirkel/2024-09-09/
LOCATION:Börgerhus\, Kreativraum
ATTACH;FMTTYPE=image/jpeg:https://boergerhus.de/wp-content/uploads/2022/04/thread-g6ab3db56b_1280.jpg
ORGANIZER;CN="AWO B%C3%B6rgerhus":MAILTO:boergerhus@awo-rostock.de
END:VEVENT
BEGIN:VEVENT
DTSTART;TZID=Europe/Berlin:20240916T160000
DTEND;TZID=Europe/Berlin:20240916T180000
DTSTAMP:20260421T143758
CREATED:20220404T112835Z
LAST-MODIFIED:20250805T150550Z
UID:25403-1726502400-1726509600@boergerhus.de
SUMMARY:Nähzirkel - Kreativraum
DESCRIPTION:Nähzirkel- Kreativraum Börgerhus
URL:https://boergerhus.de/event/naehzirkel/2024-09-16/
LOCATION:Börgerhus\, Kreativraum
ATTACH;FMTTYPE=image/jpeg:https://boergerhus.de/wp-content/uploads/2022/04/thread-g6ab3db56b_1280.jpg
ORGANIZER;CN="AWO B%C3%B6rgerhus":MAILTO:boergerhus@awo-rostock.de
END:VEVENT
BEGIN:VEVENT
DTSTART;TZID=Europe/Berlin:20240923T160000
DTEND;TZID=Europe/Berlin:20240923T180000
DTSTAMP:20260421T143758
CREATED:20220404T112835Z
LAST-MODIFIED:20250805T150550Z
UID:25404-1727107200-1727114400@boergerhus.de
SUMMARY:Nähzirkel - Kreativraum
DESCRIPTION:Nähzirkel- Kreativraum Börgerhus
URL:https://boergerhus.de/event/naehzirkel/2024-09-23/
LOCATION:Börgerhus\, Kreativraum
ATTACH;FMTTYPE=image/jpeg:https://boergerhus.de/wp-content/uploads/2022/04/thread-g6ab3db56b_1280.jpg
ORGANIZER;CN="AWO B%C3%B6rgerhus":MAILTO:boergerhus@awo-rostock.de
END:VEVENT
BEGIN:VEVENT
DTSTART;TZID=Europe/Berlin:20240930T160000
DTEND;TZID=Europe/Berlin:20240930T180000
DTSTAMP:20260421T143758
CREATED:20220404T112835Z
LAST-MODIFIED:20250805T150550Z
UID:25405-1727712000-1727719200@boergerhus.de
SUMMARY:Nähzirkel - Kreativraum
DESCRIPTION:Nähzirkel- Kreativraum Börgerhus
URL:https://boergerhus.de/event/naehzirkel/2024-09-30/
LOCATION:Börgerhus\, Kreativraum
ATTACH;FMTTYPE=image/jpeg:https://boergerhus.de/wp-content/uploads/2022/04/thread-g6ab3db56b_1280.jpg
ORGANIZER;CN="AWO B%C3%B6rgerhus":MAILTO:boergerhus@awo-rostock.de
END:VEVENT
END:VCALENDAR