BEGIN:VCALENDAR
VERSION:2.0
PRODID:-//Börgerhus Rostock - Stadtteil- und Begegnungszentrum Groß Klein - ECPv6.15.20//NONSGML v1.0//EN
CALSCALE:GREGORIAN
METHOD:PUBLISH
X-ORIGINAL-URL:https://boergerhus.de
X-WR-CALDESC:Veranstaltungen für Börgerhus Rostock - Stadtteil- und Begegnungszentrum Groß Klein
REFRESH-INTERVAL;VALUE=DURATION:PT1H
X-Robots-Tag:noindex
X-PUBLISHED-TTL:PT1H
BEGIN:VTIMEZONE
TZID:Europe/Berlin
BEGIN:DAYLIGHT
TZOFFSETFROM:+0100
TZOFFSETTO:+0200
TZNAME:CEST
DTSTART:20230326T010000
END:DAYLIGHT
BEGIN:STANDARD
TZOFFSETFROM:+0200
TZOFFSETTO:+0100
TZNAME:CET
DTSTART:20231029T010000
END:STANDARD
BEGIN:DAYLIGHT
TZOFFSETFROM:+0100
TZOFFSETTO:+0200
TZNAME:CEST
DTSTART:20240331T010000
END:DAYLIGHT
BEGIN:STANDARD
TZOFFSETFROM:+0200
TZOFFSETTO:+0100
TZNAME:CET
DTSTART:20241027T010000
END:STANDARD
BEGIN:DAYLIGHT
TZOFFSETFROM:+0100
TZOFFSETTO:+0200
TZNAME:CEST
DTSTART:20250330T010000
END:DAYLIGHT
BEGIN:STANDARD
TZOFFSETFROM:+0200
TZOFFSETTO:+0100
TZNAME:CET
DTSTART:20251026T010000
END:STANDARD
END:VTIMEZONE
BEGIN:VEVENT
DTSTART;TZID=Europe/Berlin:20241129T150000
DTEND;TZID=Europe/Berlin:20241129T160000
DTSTAMP:20260423T000544
CREATED:20240202T102323Z
LAST-MODIFIED:20240202T102323Z
UID:22539-1732892400-1732896000@boergerhus.de
SUMMARY:Kulturnachmittag im Saal
DESCRIPTION:wechselndes Programm mit Konzert\, Lesung und Kabarett \nEintritt: 3\,50 € \nInformationen und Anmeldung im Info-Punkt erforderlich \nBitte beachten Sie die Aushänge im Börgerhus und „Aktuelles“ auf der Homepage!
URL:https://boergerhus.de/event/kulturnachmittag-im-saal-2/2024-11-29/
ATTACH;FMTTYPE=image/jpeg:https://boergerhus.de/wp-content/uploads/2022/02/Bilder-Boergerhus-und-JZ224-18.02.22-39-von-65-scaled.jpg
END:VEVENT
BEGIN:VEVENT
DTSTART;TZID=Europe/Berlin:20241129T150000
DTEND;TZID=Europe/Berlin:20241129T160000
DTSTAMP:20260423T000544
CREATED:20240503T114200Z
LAST-MODIFIED:20240503T114200Z
UID:23465-1732892400-1732896000@boergerhus.de
SUMMARY:Kulturnachmittag im Saal
DESCRIPTION:Wechselndes musikalisches Programm (siehe Aktuelles)
URL:https://boergerhus.de/event/kulturnachmittag-im-saal-3/2024-11-29/
ATTACH;FMTTYPE=image/jpeg:https://boergerhus.de/wp-content/uploads/2022/09/Noten.jpg
END:VEVENT
END:VCALENDAR