BEGIN:VCALENDAR
VERSION:2.0
PRODID:-//Börgerhus Rostock - Stadtteil- und Begegnungszentrum Groß Klein - ECPv6.15.20//NONSGML v1.0//EN
CALSCALE:GREGORIAN
METHOD:PUBLISH
X-WR-CALNAME:Börgerhus Rostock - Stadtteil- und Begegnungszentrum Groß Klein
X-ORIGINAL-URL:https://boergerhus.de
X-WR-CALDESC:Veranstaltungen für Börgerhus Rostock - Stadtteil- und Begegnungszentrum Groß Klein
REFRESH-INTERVAL;VALUE=DURATION:PT1H
X-Robots-Tag:noindex
X-PUBLISHED-TTL:PT1H
BEGIN:VTIMEZONE
TZID:Europe/Berlin
BEGIN:DAYLIGHT
TZOFFSETFROM:+0100
TZOFFSETTO:+0200
TZNAME:CEST
DTSTART:20270328T010000
END:DAYLIGHT
BEGIN:STANDARD
TZOFFSETFROM:+0200
TZOFFSETTO:+0100
TZNAME:CET
DTSTART:20271031T010000
END:STANDARD
BEGIN:DAYLIGHT
TZOFFSETFROM:+0100
TZOFFSETTO:+0200
TZNAME:CEST
DTSTART:20280326T010000
END:DAYLIGHT
BEGIN:STANDARD
TZOFFSETFROM:+0200
TZOFFSETTO:+0100
TZNAME:CET
DTSTART:20281029T010000
END:STANDARD
BEGIN:DAYLIGHT
TZOFFSETFROM:+0100
TZOFFSETTO:+0200
TZNAME:CEST
DTSTART:20290325T010000
END:DAYLIGHT
BEGIN:STANDARD
TZOFFSETFROM:+0200
TZOFFSETTO:+0100
TZNAME:CET
DTSTART:20291028T010000
END:STANDARD
END:VTIMEZONE
BEGIN:VEVENT
DTSTART;TZID=Europe/Berlin:20280306T160000
DTEND;TZID=Europe/Berlin:20280306T170000
DTSTAMP:20260421T043634
CREATED:20260109T083854Z
LAST-MODIFIED:20260109T083854Z
UID:34592-1835971200-1835974800@boergerhus.de
SUMMARY:Entdeckerkinder
DESCRIPTION:Kreativangebote\, Experimente und Bewegung für Kinder im Alter von 3-6 Jahren \nim Multifunktionsraum \ndas Angebot findet alle 2 Wochen statt (in den ungeraden Kalenderwochen) \nLeitung: Franka Herfurth \nAnmeldung über Börgerhus
URL:https://boergerhus.de/event/entdeckerkinder/2028-03-06/
ATTACH;FMTTYPE=image/png:https://boergerhus.de/wp-content/uploads/2026/01/Kinder.png
END:VEVENT
BEGIN:VEVENT
DTSTART;TZID=Europe/Berlin:20280313T160000
DTEND;TZID=Europe/Berlin:20280313T170000
DTSTAMP:20260421T043634
CREATED:20260109T083854Z
LAST-MODIFIED:20260109T083854Z
UID:34661-1836576000-1836579600@boergerhus.de
SUMMARY:Entdeckerkinder
DESCRIPTION:Kreativangebote\, Experimente und Bewegung für Kinder im Alter von 3-6 Jahren \nim Multifunktionsraum \ndas Angebot findet alle 2 Wochen statt (in den ungeraden Kalenderwochen) \nLeitung: Franka Herfurth \nAnmeldung über Börgerhus
URL:https://boergerhus.de/event/entdeckerkinder/2028-03-13/
ATTACH;FMTTYPE=image/png:https://boergerhus.de/wp-content/uploads/2026/01/Kinder.png
END:VEVENT
BEGIN:VEVENT
DTSTART;TZID=Europe/Berlin:20280320T160000
DTEND;TZID=Europe/Berlin:20280320T170000
DTSTAMP:20260421T043634
CREATED:20260109T083854Z
LAST-MODIFIED:20260109T083854Z
UID:34728-1837180800-1837184400@boergerhus.de
SUMMARY:Entdeckerkinder
DESCRIPTION:Kreativangebote\, Experimente und Bewegung für Kinder im Alter von 3-6 Jahren \nim Multifunktionsraum \ndas Angebot findet alle 2 Wochen statt (in den ungeraden Kalenderwochen) \nLeitung: Franka Herfurth \nAnmeldung über Börgerhus
URL:https://boergerhus.de/event/entdeckerkinder/2028-03-20/
ATTACH;FMTTYPE=image/png:https://boergerhus.de/wp-content/uploads/2026/01/Kinder.png
END:VEVENT
BEGIN:VEVENT
DTSTART;TZID=Europe/Berlin:20280327T160000
DTEND;TZID=Europe/Berlin:20280327T170000
DTSTAMP:20260421T043634
CREATED:20260109T083854Z
LAST-MODIFIED:20260109T083854Z
UID:34784-1837785600-1837789200@boergerhus.de
SUMMARY:Entdeckerkinder
DESCRIPTION:Kreativangebote\, Experimente und Bewegung für Kinder im Alter von 3-6 Jahren \nim Multifunktionsraum \ndas Angebot findet alle 2 Wochen statt (in den ungeraden Kalenderwochen) \nLeitung: Franka Herfurth \nAnmeldung über Börgerhus
URL:https://boergerhus.de/event/entdeckerkinder/2028-03-27/
ATTACH;FMTTYPE=image/png:https://boergerhus.de/wp-content/uploads/2026/01/Kinder.png
END:VEVENT
BEGIN:VEVENT
DTSTART;TZID=Europe/Berlin:20280403T160000
DTEND;TZID=Europe/Berlin:20280403T170000
DTSTAMP:20260421T043634
CREATED:20260109T083854Z
LAST-MODIFIED:20260109T083854Z
UID:34836-1838390400-1838394000@boergerhus.de
SUMMARY:Entdeckerkinder
DESCRIPTION:Kreativangebote\, Experimente und Bewegung für Kinder im Alter von 3-6 Jahren \nim Multifunktionsraum \ndas Angebot findet alle 2 Wochen statt (in den ungeraden Kalenderwochen) \nLeitung: Franka Herfurth \nAnmeldung über Börgerhus
URL:https://boergerhus.de/event/entdeckerkinder/2028-04-03/
ATTACH;FMTTYPE=image/png:https://boergerhus.de/wp-content/uploads/2026/01/Kinder.png
END:VEVENT
BEGIN:VEVENT
DTSTART;TZID=Europe/Berlin:20280410T160000
DTEND;TZID=Europe/Berlin:20280410T170000
DTSTAMP:20260421T043634
CREATED:20260109T083854Z
LAST-MODIFIED:20260109T083854Z
UID:34891-1838995200-1838998800@boergerhus.de
SUMMARY:Entdeckerkinder
DESCRIPTION:Kreativangebote\, Experimente und Bewegung für Kinder im Alter von 3-6 Jahren \nim Multifunktionsraum \ndas Angebot findet alle 2 Wochen statt (in den ungeraden Kalenderwochen) \nLeitung: Franka Herfurth \nAnmeldung über Börgerhus
URL:https://boergerhus.de/event/entdeckerkinder/2028-04-10/
ATTACH;FMTTYPE=image/png:https://boergerhus.de/wp-content/uploads/2026/01/Kinder.png
END:VEVENT
BEGIN:VEVENT
DTSTART;TZID=Europe/Berlin:20280417T160000
DTEND;TZID=Europe/Berlin:20280417T170000
DTSTAMP:20260421T043634
CREATED:20260109T083854Z
LAST-MODIFIED:20260109T083854Z
UID:34941-1839600000-1839603600@boergerhus.de
SUMMARY:Entdeckerkinder
DESCRIPTION:Kreativangebote\, Experimente und Bewegung für Kinder im Alter von 3-6 Jahren \nim Multifunktionsraum \ndas Angebot findet alle 2 Wochen statt (in den ungeraden Kalenderwochen) \nLeitung: Franka Herfurth \nAnmeldung über Börgerhus
URL:https://boergerhus.de/event/entdeckerkinder/2028-04-17/
ATTACH;FMTTYPE=image/png:https://boergerhus.de/wp-content/uploads/2026/01/Kinder.png
END:VEVENT
END:VCALENDAR