BEGIN:VCALENDAR
VERSION:2.0
PRODID:-//Börgerhus Rostock - Stadtteil- und Begegnungszentrum Groß Klein - ECPv6.15.20//NONSGML v1.0//EN
CALSCALE:GREGORIAN
METHOD:PUBLISH
X-WR-CALNAME:Börgerhus Rostock - Stadtteil- und Begegnungszentrum Groß Klein
X-ORIGINAL-URL:https://boergerhus.de
X-WR-CALDESC:Veranstaltungen für Börgerhus Rostock - Stadtteil- und Begegnungszentrum Groß Klein
REFRESH-INTERVAL;VALUE=DURATION:PT1H
X-Robots-Tag:noindex
X-PUBLISHED-TTL:PT1H
BEGIN:VTIMEZONE
TZID:Europe/Berlin
BEGIN:DAYLIGHT
TZOFFSETFROM:+0100
TZOFFSETTO:+0200
TZNAME:CEST
DTSTART:20270328T010000
END:DAYLIGHT
BEGIN:STANDARD
TZOFFSETFROM:+0200
TZOFFSETTO:+0100
TZNAME:CET
DTSTART:20271031T010000
END:STANDARD
BEGIN:DAYLIGHT
TZOFFSETFROM:+0100
TZOFFSETTO:+0200
TZNAME:CEST
DTSTART:20280326T010000
END:DAYLIGHT
BEGIN:STANDARD
TZOFFSETFROM:+0200
TZOFFSETTO:+0100
TZNAME:CET
DTSTART:20281029T010000
END:STANDARD
BEGIN:DAYLIGHT
TZOFFSETFROM:+0100
TZOFFSETTO:+0200
TZNAME:CEST
DTSTART:20290325T010000
END:DAYLIGHT
BEGIN:STANDARD
TZOFFSETFROM:+0200
TZOFFSETTO:+0100
TZNAME:CET
DTSTART:20291028T010000
END:STANDARD
END:VTIMEZONE
BEGIN:VEVENT
DTSTART;TZID=Europe/Berlin:20280207T160000
DTEND;TZID=Europe/Berlin:20280207T170000
DTSTAMP:20260420T232147
CREATED:20260109T083854Z
LAST-MODIFIED:20260109T083854Z
UID:34369-1833552000-1833555600@boergerhus.de
SUMMARY:Entdeckerkinder
DESCRIPTION:Kreativangebote\, Experimente und Bewegung für Kinder im Alter von 3-6 Jahren \nim Multifunktionsraum \ndas Angebot findet alle 2 Wochen statt (in den ungeraden Kalenderwochen) \nLeitung: Franka Herfurth \nAnmeldung über Börgerhus
URL:https://boergerhus.de/event/entdeckerkinder/2028-02-07/
ATTACH;FMTTYPE=image/png:https://boergerhus.de/wp-content/uploads/2026/01/Kinder.png
END:VEVENT
BEGIN:VEVENT
DTSTART;TZID=Europe/Berlin:20280214T160000
DTEND;TZID=Europe/Berlin:20280214T170000
DTSTAMP:20260420T232147
CREATED:20260109T083854Z
LAST-MODIFIED:20260109T083854Z
UID:34424-1834156800-1834160400@boergerhus.de
SUMMARY:Entdeckerkinder
DESCRIPTION:Kreativangebote\, Experimente und Bewegung für Kinder im Alter von 3-6 Jahren \nim Multifunktionsraum \ndas Angebot findet alle 2 Wochen statt (in den ungeraden Kalenderwochen) \nLeitung: Franka Herfurth \nAnmeldung über Börgerhus
URL:https://boergerhus.de/event/entdeckerkinder/2028-02-14/
ATTACH;FMTTYPE=image/png:https://boergerhus.de/wp-content/uploads/2026/01/Kinder.png
END:VEVENT
BEGIN:VEVENT
DTSTART;TZID=Europe/Berlin:20280221T160000
DTEND;TZID=Europe/Berlin:20280221T170000
DTSTAMP:20260420T232147
CREATED:20260109T083854Z
LAST-MODIFIED:20260109T083854Z
UID:34474-1834761600-1834765200@boergerhus.de
SUMMARY:Entdeckerkinder
DESCRIPTION:Kreativangebote\, Experimente und Bewegung für Kinder im Alter von 3-6 Jahren \nim Multifunktionsraum \ndas Angebot findet alle 2 Wochen statt (in den ungeraden Kalenderwochen) \nLeitung: Franka Herfurth \nAnmeldung über Börgerhus
URL:https://boergerhus.de/event/entdeckerkinder/2028-02-21/
ATTACH;FMTTYPE=image/png:https://boergerhus.de/wp-content/uploads/2026/01/Kinder.png
END:VEVENT
BEGIN:VEVENT
DTSTART;TZID=Europe/Berlin:20280228T160000
DTEND;TZID=Europe/Berlin:20280228T170000
DTSTAMP:20260420T232147
CREATED:20260109T083854Z
LAST-MODIFIED:20260109T083854Z
UID:34537-1835366400-1835370000@boergerhus.de
SUMMARY:Entdeckerkinder
DESCRIPTION:Kreativangebote\, Experimente und Bewegung für Kinder im Alter von 3-6 Jahren \nim Multifunktionsraum \ndas Angebot findet alle 2 Wochen statt (in den ungeraden Kalenderwochen) \nLeitung: Franka Herfurth \nAnmeldung über Börgerhus
URL:https://boergerhus.de/event/entdeckerkinder/2028-02-28/
ATTACH;FMTTYPE=image/png:https://boergerhus.de/wp-content/uploads/2026/01/Kinder.png
END:VEVENT
END:VCALENDAR