BEGIN:VCALENDAR
VERSION:2.0
PRODID:-//Börgerhus Rostock - Stadtteil- und Begegnungszentrum Groß Klein - ECPv6.15.20//NONSGML v1.0//EN
CALSCALE:GREGORIAN
METHOD:PUBLISH
X-WR-CALNAME:Börgerhus Rostock - Stadtteil- und Begegnungszentrum Groß Klein
X-ORIGINAL-URL:https://boergerhus.de
X-WR-CALDESC:Veranstaltungen für Börgerhus Rostock - Stadtteil- und Begegnungszentrum Groß Klein
REFRESH-INTERVAL;VALUE=DURATION:PT1H
X-Robots-Tag:noindex
X-PUBLISHED-TTL:PT1H
BEGIN:VTIMEZONE
TZID:Europe/Berlin
BEGIN:DAYLIGHT
TZOFFSETFROM:+0100
TZOFFSETTO:+0200
TZNAME:CEST
DTSTART:20270328T010000
END:DAYLIGHT
BEGIN:STANDARD
TZOFFSETFROM:+0200
TZOFFSETTO:+0100
TZNAME:CET
DTSTART:20271031T010000
END:STANDARD
BEGIN:DAYLIGHT
TZOFFSETFROM:+0100
TZOFFSETTO:+0200
TZNAME:CEST
DTSTART:20280326T010000
END:DAYLIGHT
BEGIN:STANDARD
TZOFFSETFROM:+0200
TZOFFSETTO:+0100
TZNAME:CET
DTSTART:20281029T010000
END:STANDARD
BEGIN:DAYLIGHT
TZOFFSETFROM:+0100
TZOFFSETTO:+0200
TZNAME:CEST
DTSTART:20290325T010000
END:DAYLIGHT
BEGIN:STANDARD
TZOFFSETFROM:+0200
TZOFFSETTO:+0100
TZNAME:CET
DTSTART:20291028T010000
END:STANDARD
END:VTIMEZONE
BEGIN:VEVENT
DTSTART;TZID=Europe/Berlin:20280103T160000
DTEND;TZID=Europe/Berlin:20280103T170000
DTSTAMP:20260419T235656
CREATED:20260109T083854Z
LAST-MODIFIED:20260109T083854Z
UID:33406-1830528000-1830531600@boergerhus.de
SUMMARY:Entdeckerkinder
DESCRIPTION:Kreativangebote\, Experimente und Bewegung für Kinder im Alter von 3-6 Jahren \nim Multifunktionsraum \ndas Angebot findet alle 2 Wochen statt (in den ungeraden Kalenderwochen) \nLeitung: Franka Herfurth \nAnmeldung über Börgerhus
URL:https://boergerhus.de/event/entdeckerkinder/2028-01-03/
ATTACH;FMTTYPE=image/png:https://boergerhus.de/wp-content/uploads/2026/01/Kinder.png
END:VEVENT
BEGIN:VEVENT
DTSTART;TZID=Europe/Berlin:20280110T160000
DTEND;TZID=Europe/Berlin:20280110T170000
DTSTAMP:20260419T235656
CREATED:20260109T083854Z
LAST-MODIFIED:20260109T083854Z
UID:33421-1831132800-1831136400@boergerhus.de
SUMMARY:Entdeckerkinder
DESCRIPTION:Kreativangebote\, Experimente und Bewegung für Kinder im Alter von 3-6 Jahren \nim Multifunktionsraum \ndas Angebot findet alle 2 Wochen statt (in den ungeraden Kalenderwochen) \nLeitung: Franka Herfurth \nAnmeldung über Börgerhus
URL:https://boergerhus.de/event/entdeckerkinder/2028-01-10/
ATTACH;FMTTYPE=image/png:https://boergerhus.de/wp-content/uploads/2026/01/Kinder.png
END:VEVENT
BEGIN:VEVENT
DTSTART;TZID=Europe/Berlin:20280117T160000
DTEND;TZID=Europe/Berlin:20280117T170000
DTSTAMP:20260419T235656
CREATED:20260109T083854Z
LAST-MODIFIED:20260109T083854Z
UID:33480-1831737600-1831741200@boergerhus.de
SUMMARY:Entdeckerkinder
DESCRIPTION:Kreativangebote\, Experimente und Bewegung für Kinder im Alter von 3-6 Jahren \nim Multifunktionsraum \ndas Angebot findet alle 2 Wochen statt (in den ungeraden Kalenderwochen) \nLeitung: Franka Herfurth \nAnmeldung über Börgerhus
URL:https://boergerhus.de/event/entdeckerkinder/2028-01-17/
ATTACH;FMTTYPE=image/png:https://boergerhus.de/wp-content/uploads/2026/01/Kinder.png
END:VEVENT
BEGIN:VEVENT
DTSTART;TZID=Europe/Berlin:20280124T160000
DTEND;TZID=Europe/Berlin:20280124T170000
DTSTAMP:20260419T235656
CREATED:20260109T083854Z
LAST-MODIFIED:20260109T083854Z
UID:33529-1832342400-1832346000@boergerhus.de
SUMMARY:Entdeckerkinder
DESCRIPTION:Kreativangebote\, Experimente und Bewegung für Kinder im Alter von 3-6 Jahren \nim Multifunktionsraum \ndas Angebot findet alle 2 Wochen statt (in den ungeraden Kalenderwochen) \nLeitung: Franka Herfurth \nAnmeldung über Börgerhus
URL:https://boergerhus.de/event/entdeckerkinder/2028-01-24/
ATTACH;FMTTYPE=image/png:https://boergerhus.de/wp-content/uploads/2026/01/Kinder.png
END:VEVENT
BEGIN:VEVENT
DTSTART;TZID=Europe/Berlin:20280131T160000
DTEND;TZID=Europe/Berlin:20280131T170000
DTSTAMP:20260419T235656
CREATED:20260109T083854Z
LAST-MODIFIED:20260109T083854Z
UID:34204-1832947200-1832950800@boergerhus.de
SUMMARY:Entdeckerkinder
DESCRIPTION:Kreativangebote\, Experimente und Bewegung für Kinder im Alter von 3-6 Jahren \nim Multifunktionsraum \ndas Angebot findet alle 2 Wochen statt (in den ungeraden Kalenderwochen) \nLeitung: Franka Herfurth \nAnmeldung über Börgerhus
URL:https://boergerhus.de/event/entdeckerkinder/2028-01-31/
ATTACH;FMTTYPE=image/png:https://boergerhus.de/wp-content/uploads/2026/01/Kinder.png
END:VEVENT
END:VCALENDAR