BEGIN:VCALENDAR
VERSION:2.0
PRODID:-//Börgerhus Rostock - Stadtteil- und Begegnungszentrum Groß Klein - ECPv6.15.20//NONSGML v1.0//EN
CALSCALE:GREGORIAN
METHOD:PUBLISH
X-WR-CALNAME:Börgerhus Rostock - Stadtteil- und Begegnungszentrum Groß Klein
X-ORIGINAL-URL:https://boergerhus.de
X-WR-CALDESC:Veranstaltungen für Börgerhus Rostock - Stadtteil- und Begegnungszentrum Groß Klein
REFRESH-INTERVAL;VALUE=DURATION:PT1H
X-Robots-Tag:noindex
X-PUBLISHED-TTL:PT1H
BEGIN:VTIMEZONE
TZID:Europe/Berlin
BEGIN:DAYLIGHT
TZOFFSETFROM:+0100
TZOFFSETTO:+0200
TZNAME:CEST
DTSTART:20260329T010000
END:DAYLIGHT
BEGIN:STANDARD
TZOFFSETFROM:+0200
TZOFFSETTO:+0100
TZNAME:CET
DTSTART:20261025T010000
END:STANDARD
BEGIN:DAYLIGHT
TZOFFSETFROM:+0100
TZOFFSETTO:+0200
TZNAME:CEST
DTSTART:20270328T010000
END:DAYLIGHT
BEGIN:STANDARD
TZOFFSETFROM:+0200
TZOFFSETTO:+0100
TZNAME:CET
DTSTART:20271031T010000
END:STANDARD
BEGIN:DAYLIGHT
TZOFFSETFROM:+0100
TZOFFSETTO:+0200
TZNAME:CEST
DTSTART:20280326T010000
END:DAYLIGHT
BEGIN:STANDARD
TZOFFSETFROM:+0200
TZOFFSETTO:+0100
TZNAME:CET
DTSTART:20281029T010000
END:STANDARD
END:VTIMEZONE
BEGIN:VEVENT
DTSTART;TZID=Europe/Berlin:20271102T163000
DTEND;TZID=Europe/Berlin:20271102T190000
DTSTAMP:20260420T095802
CREATED:20240802T080015Z
LAST-MODIFIED:20240802T080015Z
UID:32799-1825173000-1825182000@boergerhus.de
SUMMARY:Kochen und  Backen im "224"
DESCRIPTION:offenes Angebot für Kinder und Jugendliche im Jugendclub „224“ \ndas Angebot findet nicht während der Ferienzeiten statt
URL:https://boergerhus.de/event/kochen-und-backen-im-224/2027-11-02/
ATTACH;FMTTYPE=image/png:https://boergerhus.de/wp-content/uploads/2023/12/Vorlage-Header-mit-Logo-Boergerhus_JZ224.png
END:VEVENT
BEGIN:VEVENT
DTSTART;TZID=Europe/Berlin:20271109T163000
DTEND;TZID=Europe/Berlin:20271109T190000
DTSTAMP:20260420T095802
CREATED:20240802T080015Z
LAST-MODIFIED:20240802T080015Z
UID:32863-1825777800-1825786800@boergerhus.de
SUMMARY:Kochen und  Backen im "224"
DESCRIPTION:offenes Angebot für Kinder und Jugendliche im Jugendclub „224“ \ndas Angebot findet nicht während der Ferienzeiten statt
URL:https://boergerhus.de/event/kochen-und-backen-im-224/2027-11-09/
ATTACH;FMTTYPE=image/png:https://boergerhus.de/wp-content/uploads/2023/12/Vorlage-Header-mit-Logo-Boergerhus_JZ224.png
END:VEVENT
BEGIN:VEVENT
DTSTART;TZID=Europe/Berlin:20271116T163000
DTEND;TZID=Europe/Berlin:20271116T190000
DTSTAMP:20260420T095802
CREATED:20240802T080015Z
LAST-MODIFIED:20240802T080015Z
UID:32910-1826382600-1826391600@boergerhus.de
SUMMARY:Kochen und  Backen im "224"
DESCRIPTION:offenes Angebot für Kinder und Jugendliche im Jugendclub „224“ \ndas Angebot findet nicht während der Ferienzeiten statt
URL:https://boergerhus.de/event/kochen-und-backen-im-224/2027-11-16/
ATTACH;FMTTYPE=image/png:https://boergerhus.de/wp-content/uploads/2023/12/Vorlage-Header-mit-Logo-Boergerhus_JZ224.png
END:VEVENT
BEGIN:VEVENT
DTSTART;TZID=Europe/Berlin:20271123T163000
DTEND;TZID=Europe/Berlin:20271123T190000
DTSTAMP:20260420T095802
CREATED:20240802T080015Z
LAST-MODIFIED:20240802T080015Z
UID:32958-1826987400-1826996400@boergerhus.de
SUMMARY:Kochen und  Backen im "224"
DESCRIPTION:offenes Angebot für Kinder und Jugendliche im Jugendclub „224“ \ndas Angebot findet nicht während der Ferienzeiten statt
URL:https://boergerhus.de/event/kochen-und-backen-im-224/2027-11-23/
ATTACH;FMTTYPE=image/png:https://boergerhus.de/wp-content/uploads/2023/12/Vorlage-Header-mit-Logo-Boergerhus_JZ224.png
END:VEVENT
BEGIN:VEVENT
DTSTART;TZID=Europe/Berlin:20271130T163000
DTEND;TZID=Europe/Berlin:20271130T190000
DTSTAMP:20260420T095802
CREATED:20240802T080015Z
LAST-MODIFIED:20240802T080015Z
UID:32999-1827592200-1827601200@boergerhus.de
SUMMARY:Kochen und  Backen im "224"
DESCRIPTION:offenes Angebot für Kinder und Jugendliche im Jugendclub „224“ \ndas Angebot findet nicht während der Ferienzeiten statt
URL:https://boergerhus.de/event/kochen-und-backen-im-224/2027-11-30/
ATTACH;FMTTYPE=image/png:https://boergerhus.de/wp-content/uploads/2023/12/Vorlage-Header-mit-Logo-Boergerhus_JZ224.png
END:VEVENT
END:VCALENDAR