BEGIN:VCALENDAR
VERSION:2.0
PRODID:-//Börgerhus Rostock - Stadtteil- und Begegnungszentrum Groß Klein - ECPv6.15.20//NONSGML v1.0//EN
CALSCALE:GREGORIAN
METHOD:PUBLISH
X-ORIGINAL-URL:https://boergerhus.de
X-WR-CALDESC:Veranstaltungen für Börgerhus Rostock - Stadtteil- und Begegnungszentrum Groß Klein
REFRESH-INTERVAL;VALUE=DURATION:PT1H
X-Robots-Tag:noindex
X-PUBLISHED-TTL:PT1H
BEGIN:VTIMEZONE
TZID:Europe/Berlin
BEGIN:DAYLIGHT
TZOFFSETFROM:+0100
TZOFFSETTO:+0200
TZNAME:CEST
DTSTART:20250330T010000
END:DAYLIGHT
BEGIN:STANDARD
TZOFFSETFROM:+0200
TZOFFSETTO:+0100
TZNAME:CET
DTSTART:20251026T010000
END:STANDARD
BEGIN:DAYLIGHT
TZOFFSETFROM:+0100
TZOFFSETTO:+0200
TZNAME:CEST
DTSTART:20260329T010000
END:DAYLIGHT
BEGIN:STANDARD
TZOFFSETFROM:+0200
TZOFFSETTO:+0100
TZNAME:CET
DTSTART:20261025T010000
END:STANDARD
BEGIN:DAYLIGHT
TZOFFSETFROM:+0100
TZOFFSETTO:+0200
TZNAME:CEST
DTSTART:20270328T010000
END:DAYLIGHT
BEGIN:STANDARD
TZOFFSETFROM:+0200
TZOFFSETTO:+0100
TZNAME:CET
DTSTART:20271031T010000
END:STANDARD
END:VTIMEZONE
BEGIN:VEVENT
DTSTART;TZID=Europe/Berlin:20261105T160000
DTEND;TZID=Europe/Berlin:20261105T170000
DTSTAMP:20260420T080242
CREATED:20220915T100011Z
LAST-MODIFIED:20220915T100011Z
UID:26417-1793894400-1793898000@boergerhus.de
SUMMARY:Fit und beweglich im Alltag
DESCRIPTION:Angebot von Herrn Wolff \nim Bewegungsraum \n5€/Termin
URL:https://boergerhus.de/event/fit-und-beweglich-im-alltag/2026-11-05/
ATTACH;FMTTYPE=image/jpeg:https://boergerhus.de/wp-content/uploads/2022/04/medicine-ball-g4e00851d0_1280.jpg
END:VEVENT
BEGIN:VEVENT
DTSTART;TZID=Europe/Berlin:20261112T160000
DTEND;TZID=Europe/Berlin:20261112T170000
DTSTAMP:20260420T080242
CREATED:20220915T100011Z
LAST-MODIFIED:20220915T100011Z
UID:26467-1794499200-1794502800@boergerhus.de
SUMMARY:Fit und beweglich im Alltag
DESCRIPTION:Angebot von Herrn Wolff \nim Bewegungsraum \n5€/Termin
URL:https://boergerhus.de/event/fit-und-beweglich-im-alltag/2026-11-12/
ATTACH;FMTTYPE=image/jpeg:https://boergerhus.de/wp-content/uploads/2022/04/medicine-ball-g4e00851d0_1280.jpg
END:VEVENT
BEGIN:VEVENT
DTSTART;TZID=Europe/Berlin:20261119T160000
DTEND;TZID=Europe/Berlin:20261119T170000
DTSTAMP:20260420T080242
CREATED:20220915T100011Z
LAST-MODIFIED:20220915T100011Z
UID:27015-1795104000-1795107600@boergerhus.de
SUMMARY:Fit und beweglich im Alltag
DESCRIPTION:Angebot von Herrn Wolff \nim Bewegungsraum \n5€/Termin
URL:https://boergerhus.de/event/fit-und-beweglich-im-alltag/2026-11-19/
ATTACH;FMTTYPE=image/jpeg:https://boergerhus.de/wp-content/uploads/2022/04/medicine-ball-g4e00851d0_1280.jpg
END:VEVENT
BEGIN:VEVENT
DTSTART;TZID=Europe/Berlin:20261126T160000
DTEND;TZID=Europe/Berlin:20261126T170000
DTSTAMP:20260420T080242
CREATED:20220915T100011Z
LAST-MODIFIED:20220915T100011Z
UID:27079-1795708800-1795712400@boergerhus.de
SUMMARY:Fit und beweglich im Alltag
DESCRIPTION:Angebot von Herrn Wolff \nim Bewegungsraum \n5€/Termin
URL:https://boergerhus.de/event/fit-und-beweglich-im-alltag/2026-11-26/
ATTACH;FMTTYPE=image/jpeg:https://boergerhus.de/wp-content/uploads/2022/04/medicine-ball-g4e00851d0_1280.jpg
END:VEVENT
END:VCALENDAR