BEGIN:VCALENDAR
VERSION:2.0
PRODID:-//Börgerhus Rostock - Stadtteil- und Begegnungszentrum Groß Klein - ECPv6.15.20//NONSGML v1.0//EN
CALSCALE:GREGORIAN
METHOD:PUBLISH
X-ORIGINAL-URL:https://boergerhus.de
X-WR-CALDESC:Veranstaltungen für Börgerhus Rostock - Stadtteil- und Begegnungszentrum Groß Klein
REFRESH-INTERVAL;VALUE=DURATION:PT1H
X-Robots-Tag:noindex
X-PUBLISHED-TTL:PT1H
BEGIN:VTIMEZONE
TZID:Europe/Berlin
BEGIN:DAYLIGHT
TZOFFSETFROM:+0100
TZOFFSETTO:+0200
TZNAME:CEST
DTSTART:20240331T010000
END:DAYLIGHT
BEGIN:STANDARD
TZOFFSETFROM:+0200
TZOFFSETTO:+0100
TZNAME:CET
DTSTART:20241027T010000
END:STANDARD
BEGIN:DAYLIGHT
TZOFFSETFROM:+0100
TZOFFSETTO:+0200
TZNAME:CEST
DTSTART:20250330T010000
END:DAYLIGHT
BEGIN:STANDARD
TZOFFSETFROM:+0200
TZOFFSETTO:+0100
TZNAME:CET
DTSTART:20251026T010000
END:STANDARD
BEGIN:DAYLIGHT
TZOFFSETFROM:+0100
TZOFFSETTO:+0200
TZNAME:CEST
DTSTART:20260329T010000
END:DAYLIGHT
BEGIN:STANDARD
TZOFFSETFROM:+0200
TZOFFSETTO:+0100
TZNAME:CET
DTSTART:20261025T010000
END:STANDARD
BEGIN:DAYLIGHT
TZOFFSETFROM:+0100
TZOFFSETTO:+0200
TZNAME:CEST
DTSTART:20270328T010000
END:DAYLIGHT
BEGIN:STANDARD
TZOFFSETFROM:+0200
TZOFFSETTO:+0100
TZNAME:CET
DTSTART:20271031T010000
END:STANDARD
END:VTIMEZONE
BEGIN:VEVENT
DTSTART;TZID=Europe/Berlin:20250902T160000
DTEND;TZID=Europe/Berlin:20250902T170000
DTSTAMP:20260422T000524
CREATED:20220406T073323Z
LAST-MODIFIED:20220406T073323Z
UID:21310-1756828800-1756832400@boergerhus.de
SUMMARY:Familien am Ball - Bewegungsraum
DESCRIPTION:Familien am Ball\nBewegungsraum Börgerhus
URL:https://boergerhus.de/event/familien-am-ball-bewegungsraum-boergerhus/2025-09-02/
LOCATION:Börgerhus\, Bewegungsraum
ATTACH;FMTTYPE=image/jpeg:https://boergerhus.de/wp-content/uploads/2022/04/family-gd49efca77_1280.jpg
ORGANIZER;CN="AWO B%C3%B6rgerhus":MAILTO:boergerhus@awo-rostock.de
END:VEVENT
BEGIN:VEVENT
DTSTART;TZID=Europe/Berlin:20250909T160000
DTEND;TZID=Europe/Berlin:20250909T170000
DTSTAMP:20260422T000524
CREATED:20220406T073323Z
LAST-MODIFIED:20220406T073323Z
UID:21356-1757433600-1757437200@boergerhus.de
SUMMARY:Familien am Ball - Bewegungsraum
DESCRIPTION:Familien am Ball\nBewegungsraum Börgerhus
URL:https://boergerhus.de/event/familien-am-ball-bewegungsraum-boergerhus/2025-09-09/
LOCATION:Börgerhus\, Bewegungsraum
ATTACH;FMTTYPE=image/jpeg:https://boergerhus.de/wp-content/uploads/2022/04/family-gd49efca77_1280.jpg
ORGANIZER;CN="AWO B%C3%B6rgerhus":MAILTO:boergerhus@awo-rostock.de
END:VEVENT
BEGIN:VEVENT
DTSTART;TZID=Europe/Berlin:20250916T160000
DTEND;TZID=Europe/Berlin:20250916T170000
DTSTAMP:20260422T000524
CREATED:20220406T073323Z
LAST-MODIFIED:20220406T073323Z
UID:21527-1758038400-1758042000@boergerhus.de
SUMMARY:Familien am Ball - Bewegungsraum
DESCRIPTION:Familien am Ball\nBewegungsraum Börgerhus
URL:https://boergerhus.de/event/familien-am-ball-bewegungsraum-boergerhus/2025-09-16/
LOCATION:Börgerhus\, Bewegungsraum
ATTACH;FMTTYPE=image/jpeg:https://boergerhus.de/wp-content/uploads/2022/04/family-gd49efca77_1280.jpg
ORGANIZER;CN="AWO B%C3%B6rgerhus":MAILTO:boergerhus@awo-rostock.de
END:VEVENT
BEGIN:VEVENT
DTSTART;TZID=Europe/Berlin:20250923T160000
DTEND;TZID=Europe/Berlin:20250923T170000
DTSTAMP:20260422T000524
CREATED:20220406T073323Z
LAST-MODIFIED:20220406T073323Z
UID:21578-1758643200-1758646800@boergerhus.de
SUMMARY:Familien am Ball - Bewegungsraum
DESCRIPTION:Familien am Ball\nBewegungsraum Börgerhus
URL:https://boergerhus.de/event/familien-am-ball-bewegungsraum-boergerhus/2025-09-23/
LOCATION:Börgerhus\, Bewegungsraum
ATTACH;FMTTYPE=image/jpeg:https://boergerhus.de/wp-content/uploads/2022/04/family-gd49efca77_1280.jpg
ORGANIZER;CN="AWO B%C3%B6rgerhus":MAILTO:boergerhus@awo-rostock.de
END:VEVENT
BEGIN:VEVENT
DTSTART;TZID=Europe/Berlin:20250930T160000
DTEND;TZID=Europe/Berlin:20250930T170000
DTSTAMP:20260422T000524
CREATED:20220406T073323Z
LAST-MODIFIED:20220406T073323Z
UID:21623-1759248000-1759251600@boergerhus.de
SUMMARY:Familien am Ball - Bewegungsraum
DESCRIPTION:Familien am Ball\nBewegungsraum Börgerhus
URL:https://boergerhus.de/event/familien-am-ball-bewegungsraum-boergerhus/2025-09-30/
LOCATION:Börgerhus\, Bewegungsraum
ATTACH;FMTTYPE=image/jpeg:https://boergerhus.de/wp-content/uploads/2022/04/family-gd49efca77_1280.jpg
ORGANIZER;CN="AWO B%C3%B6rgerhus":MAILTO:boergerhus@awo-rostock.de
END:VEVENT
BEGIN:VEVENT
DTSTART;TZID=Europe/Berlin:20251007T160000
DTEND;TZID=Europe/Berlin:20251007T170000
DTSTAMP:20260422T000524
CREATED:20220406T073323Z
LAST-MODIFIED:20220406T073323Z
UID:21689-1759852800-1759856400@boergerhus.de
SUMMARY:Familien am Ball - Bewegungsraum
DESCRIPTION:Familien am Ball\nBewegungsraum Börgerhus
URL:https://boergerhus.de/event/familien-am-ball-bewegungsraum-boergerhus/2025-10-07/
LOCATION:Börgerhus\, Bewegungsraum
ATTACH;FMTTYPE=image/jpeg:https://boergerhus.de/wp-content/uploads/2022/04/family-gd49efca77_1280.jpg
ORGANIZER;CN="AWO B%C3%B6rgerhus":MAILTO:boergerhus@awo-rostock.de
END:VEVENT
BEGIN:VEVENT
DTSTART;TZID=Europe/Berlin:20251014T160000
DTEND;TZID=Europe/Berlin:20251014T170000
DTSTAMP:20260422T000524
CREATED:20220406T073323Z
LAST-MODIFIED:20220406T073323Z
UID:21750-1760457600-1760461200@boergerhus.de
SUMMARY:Familien am Ball - Bewegungsraum
DESCRIPTION:Familien am Ball\nBewegungsraum Börgerhus
URL:https://boergerhus.de/event/familien-am-ball-bewegungsraum-boergerhus/2025-10-14/
LOCATION:Börgerhus\, Bewegungsraum
ATTACH;FMTTYPE=image/jpeg:https://boergerhus.de/wp-content/uploads/2022/04/family-gd49efca77_1280.jpg
ORGANIZER;CN="AWO B%C3%B6rgerhus":MAILTO:boergerhus@awo-rostock.de
END:VEVENT
BEGIN:VEVENT
DTSTART;TZID=Europe/Berlin:20251021T160000
DTEND;TZID=Europe/Berlin:20251021T170000
DTSTAMP:20260422T000524
CREATED:20220406T073323Z
LAST-MODIFIED:20220406T073323Z
UID:21795-1761062400-1761066000@boergerhus.de
SUMMARY:Familien am Ball - Bewegungsraum
DESCRIPTION:Familien am Ball\nBewegungsraum Börgerhus
URL:https://boergerhus.de/event/familien-am-ball-bewegungsraum-boergerhus/2025-10-21/
LOCATION:Börgerhus\, Bewegungsraum
ATTACH;FMTTYPE=image/jpeg:https://boergerhus.de/wp-content/uploads/2022/04/family-gd49efca77_1280.jpg
ORGANIZER;CN="AWO B%C3%B6rgerhus":MAILTO:boergerhus@awo-rostock.de
END:VEVENT
BEGIN:VEVENT
DTSTART;TZID=Europe/Berlin:20251028T160000
DTEND;TZID=Europe/Berlin:20251028T170000
DTSTAMP:20260422T000524
CREATED:20220406T073323Z
LAST-MODIFIED:20220406T073323Z
UID:21851-1761667200-1761670800@boergerhus.de
SUMMARY:Familien am Ball - Bewegungsraum
DESCRIPTION:Familien am Ball\nBewegungsraum Börgerhus
URL:https://boergerhus.de/event/familien-am-ball-bewegungsraum-boergerhus/2025-10-28/
LOCATION:Börgerhus\, Bewegungsraum
ATTACH;FMTTYPE=image/jpeg:https://boergerhus.de/wp-content/uploads/2022/04/family-gd49efca77_1280.jpg
ORGANIZER;CN="AWO B%C3%B6rgerhus":MAILTO:boergerhus@awo-rostock.de
END:VEVENT
BEGIN:VEVENT
DTSTART;TZID=Europe/Berlin:20251104T160000
DTEND;TZID=Europe/Berlin:20251104T170000
DTSTAMP:20260422T000524
CREATED:20220406T073323Z
LAST-MODIFIED:20220406T073323Z
UID:21892-1762272000-1762275600@boergerhus.de
SUMMARY:Familien am Ball - Bewegungsraum
DESCRIPTION:Familien am Ball\nBewegungsraum Börgerhus
URL:https://boergerhus.de/event/familien-am-ball-bewegungsraum-boergerhus/2025-11-04/
LOCATION:Börgerhus\, Bewegungsraum
ATTACH;FMTTYPE=image/jpeg:https://boergerhus.de/wp-content/uploads/2022/04/family-gd49efca77_1280.jpg
ORGANIZER;CN="AWO B%C3%B6rgerhus":MAILTO:boergerhus@awo-rostock.de
END:VEVENT
BEGIN:VEVENT
DTSTART;TZID=Europe/Berlin:20251111T160000
DTEND;TZID=Europe/Berlin:20251111T170000
DTSTAMP:20260422T000524
CREATED:20220406T073323Z
LAST-MODIFIED:20220406T073323Z
UID:21936-1762876800-1762880400@boergerhus.de
SUMMARY:Familien am Ball - Bewegungsraum
DESCRIPTION:Familien am Ball\nBewegungsraum Börgerhus
URL:https://boergerhus.de/event/familien-am-ball-bewegungsraum-boergerhus/2025-11-11/
LOCATION:Börgerhus\, Bewegungsraum
ATTACH;FMTTYPE=image/jpeg:https://boergerhus.de/wp-content/uploads/2022/04/family-gd49efca77_1280.jpg
ORGANIZER;CN="AWO B%C3%B6rgerhus":MAILTO:boergerhus@awo-rostock.de
END:VEVENT
BEGIN:VEVENT
DTSTART;TZID=Europe/Berlin:20251118T160000
DTEND;TZID=Europe/Berlin:20251118T170000
DTSTAMP:20260422T000525
CREATED:20220406T073323Z
LAST-MODIFIED:20220406T073323Z
UID:21988-1763481600-1763485200@boergerhus.de
SUMMARY:Familien am Ball - Bewegungsraum
DESCRIPTION:Familien am Ball\nBewegungsraum Börgerhus
URL:https://boergerhus.de/event/familien-am-ball-bewegungsraum-boergerhus/2025-11-18/
LOCATION:Börgerhus\, Bewegungsraum
ATTACH;FMTTYPE=image/jpeg:https://boergerhus.de/wp-content/uploads/2022/04/family-gd49efca77_1280.jpg
ORGANIZER;CN="AWO B%C3%B6rgerhus":MAILTO:boergerhus@awo-rostock.de
END:VEVENT
BEGIN:VEVENT
DTSTART;TZID=Europe/Berlin:20251125T160000
DTEND;TZID=Europe/Berlin:20251125T170000
DTSTAMP:20260422T000525
CREATED:20220406T073323Z
LAST-MODIFIED:20220406T073323Z
UID:22061-1764086400-1764090000@boergerhus.de
SUMMARY:Familien am Ball - Bewegungsraum
DESCRIPTION:Familien am Ball\nBewegungsraum Börgerhus
URL:https://boergerhus.de/event/familien-am-ball-bewegungsraum-boergerhus/2025-11-25/
LOCATION:Börgerhus\, Bewegungsraum
ATTACH;FMTTYPE=image/jpeg:https://boergerhus.de/wp-content/uploads/2022/04/family-gd49efca77_1280.jpg
ORGANIZER;CN="AWO B%C3%B6rgerhus":MAILTO:boergerhus@awo-rostock.de
END:VEVENT
BEGIN:VEVENT
DTSTART;TZID=Europe/Berlin:20251202T160000
DTEND;TZID=Europe/Berlin:20251202T170000
DTSTAMP:20260422T000525
CREATED:20220406T073323Z
LAST-MODIFIED:20220406T073323Z
UID:22103-1764691200-1764694800@boergerhus.de
SUMMARY:Familien am Ball - Bewegungsraum
DESCRIPTION:Familien am Ball\nBewegungsraum Börgerhus
URL:https://boergerhus.de/event/familien-am-ball-bewegungsraum-boergerhus/2025-12-02/
LOCATION:Börgerhus\, Bewegungsraum
ATTACH;FMTTYPE=image/jpeg:https://boergerhus.de/wp-content/uploads/2022/04/family-gd49efca77_1280.jpg
ORGANIZER;CN="AWO B%C3%B6rgerhus":MAILTO:boergerhus@awo-rostock.de
END:VEVENT
BEGIN:VEVENT
DTSTART;TZID=Europe/Berlin:20251209T160000
DTEND;TZID=Europe/Berlin:20251209T170000
DTSTAMP:20260422T000525
CREATED:20220406T073323Z
LAST-MODIFIED:20220406T073323Z
UID:22149-1765296000-1765299600@boergerhus.de
SUMMARY:Familien am Ball - Bewegungsraum
DESCRIPTION:Familien am Ball\nBewegungsraum Börgerhus
URL:https://boergerhus.de/event/familien-am-ball-bewegungsraum-boergerhus/2025-12-09/
LOCATION:Börgerhus\, Bewegungsraum
ATTACH;FMTTYPE=image/jpeg:https://boergerhus.de/wp-content/uploads/2022/04/family-gd49efca77_1280.jpg
ORGANIZER;CN="AWO B%C3%B6rgerhus":MAILTO:boergerhus@awo-rostock.de
END:VEVENT
BEGIN:VEVENT
DTSTART;TZID=Europe/Berlin:20251216T160000
DTEND;TZID=Europe/Berlin:20251216T170000
DTSTAMP:20260422T000525
CREATED:20220406T073323Z
LAST-MODIFIED:20220406T073323Z
UID:22192-1765900800-1765904400@boergerhus.de
SUMMARY:Familien am Ball - Bewegungsraum
DESCRIPTION:Familien am Ball\nBewegungsraum Börgerhus
URL:https://boergerhus.de/event/familien-am-ball-bewegungsraum-boergerhus/2025-12-16/
LOCATION:Börgerhus\, Bewegungsraum
ATTACH;FMTTYPE=image/jpeg:https://boergerhus.de/wp-content/uploads/2022/04/family-gd49efca77_1280.jpg
ORGANIZER;CN="AWO B%C3%B6rgerhus":MAILTO:boergerhus@awo-rostock.de
END:VEVENT
BEGIN:VEVENT
DTSTART;TZID=Europe/Berlin:20251223T160000
DTEND;TZID=Europe/Berlin:20251223T170000
DTSTAMP:20260422T000525
CREATED:20220406T073323Z
LAST-MODIFIED:20220406T073323Z
UID:22243-1766505600-1766509200@boergerhus.de
SUMMARY:Familien am Ball - Bewegungsraum
DESCRIPTION:Familien am Ball\nBewegungsraum Börgerhus
URL:https://boergerhus.de/event/familien-am-ball-bewegungsraum-boergerhus/2025-12-23/
LOCATION:Börgerhus\, Bewegungsraum
ATTACH;FMTTYPE=image/jpeg:https://boergerhus.de/wp-content/uploads/2022/04/family-gd49efca77_1280.jpg
ORGANIZER;CN="AWO B%C3%B6rgerhus":MAILTO:boergerhus@awo-rostock.de
END:VEVENT
BEGIN:VEVENT
DTSTART;TZID=Europe/Berlin:20251230T160000
DTEND;TZID=Europe/Berlin:20251230T170000
DTSTAMP:20260422T000525
CREATED:20220406T073323Z
LAST-MODIFIED:20220406T073323Z
UID:22282-1767110400-1767114000@boergerhus.de
SUMMARY:Familien am Ball - Bewegungsraum
DESCRIPTION:Familien am Ball\nBewegungsraum Börgerhus
URL:https://boergerhus.de/event/familien-am-ball-bewegungsraum-boergerhus/2025-12-30/
LOCATION:Börgerhus\, Bewegungsraum
ATTACH;FMTTYPE=image/jpeg:https://boergerhus.de/wp-content/uploads/2022/04/family-gd49efca77_1280.jpg
ORGANIZER;CN="AWO B%C3%B6rgerhus":MAILTO:boergerhus@awo-rostock.de
END:VEVENT
BEGIN:VEVENT
DTSTART;TZID=Europe/Berlin:20260106T160000
DTEND;TZID=Europe/Berlin:20260106T170000
DTSTAMP:20260422T000525
CREATED:20220406T073323Z
LAST-MODIFIED:20220406T073323Z
UID:22327-1767715200-1767718800@boergerhus.de
SUMMARY:Familien am Ball - Bewegungsraum
DESCRIPTION:Familien am Ball\nBewegungsraum Börgerhus
URL:https://boergerhus.de/event/familien-am-ball-bewegungsraum-boergerhus/2026-01-06/
LOCATION:Börgerhus\, Bewegungsraum
ATTACH;FMTTYPE=image/jpeg:https://boergerhus.de/wp-content/uploads/2022/04/family-gd49efca77_1280.jpg
ORGANIZER;CN="AWO B%C3%B6rgerhus":MAILTO:boergerhus@awo-rostock.de
END:VEVENT
BEGIN:VEVENT
DTSTART;TZID=Europe/Berlin:20260113T160000
DTEND;TZID=Europe/Berlin:20260113T170000
DTSTAMP:20260422T000525
CREATED:20220406T073323Z
LAST-MODIFIED:20220406T073323Z
UID:22372-1768320000-1768323600@boergerhus.de
SUMMARY:Familien am Ball - Bewegungsraum
DESCRIPTION:Familien am Ball\nBewegungsraum Börgerhus
URL:https://boergerhus.de/event/familien-am-ball-bewegungsraum-boergerhus/2026-01-13/
LOCATION:Börgerhus\, Bewegungsraum
ATTACH;FMTTYPE=image/jpeg:https://boergerhus.de/wp-content/uploads/2022/04/family-gd49efca77_1280.jpg
ORGANIZER;CN="AWO B%C3%B6rgerhus":MAILTO:boergerhus@awo-rostock.de
END:VEVENT
BEGIN:VEVENT
DTSTART;TZID=Europe/Berlin:20260120T160000
DTEND;TZID=Europe/Berlin:20260120T170000
DTSTAMP:20260422T000525
CREATED:20220406T073323Z
LAST-MODIFIED:20220406T073323Z
UID:22442-1768924800-1768928400@boergerhus.de
SUMMARY:Familien am Ball - Bewegungsraum
DESCRIPTION:Familien am Ball\nBewegungsraum Börgerhus
URL:https://boergerhus.de/event/familien-am-ball-bewegungsraum-boergerhus/2026-01-20/
LOCATION:Börgerhus\, Bewegungsraum
ATTACH;FMTTYPE=image/jpeg:https://boergerhus.de/wp-content/uploads/2022/04/family-gd49efca77_1280.jpg
ORGANIZER;CN="AWO B%C3%B6rgerhus":MAILTO:boergerhus@awo-rostock.de
END:VEVENT
BEGIN:VEVENT
DTSTART;TZID=Europe/Berlin:20260127T160000
DTEND;TZID=Europe/Berlin:20260127T170000
DTSTAMP:20260422T000525
CREATED:20220406T073323Z
LAST-MODIFIED:20220406T073323Z
UID:22486-1769529600-1769533200@boergerhus.de
SUMMARY:Familien am Ball - Bewegungsraum
DESCRIPTION:Familien am Ball\nBewegungsraum Börgerhus
URL:https://boergerhus.de/event/familien-am-ball-bewegungsraum-boergerhus/2026-01-27/
LOCATION:Börgerhus\, Bewegungsraum
ATTACH;FMTTYPE=image/jpeg:https://boergerhus.de/wp-content/uploads/2022/04/family-gd49efca77_1280.jpg
ORGANIZER;CN="AWO B%C3%B6rgerhus":MAILTO:boergerhus@awo-rostock.de
END:VEVENT
BEGIN:VEVENT
DTSTART;TZID=Europe/Berlin:20260203T160000
DTEND;TZID=Europe/Berlin:20260203T170000
DTSTAMP:20260422T000525
CREATED:20220406T073323Z
LAST-MODIFIED:20220406T073323Z
UID:22583-1770134400-1770138000@boergerhus.de
SUMMARY:Familien am Ball - Bewegungsraum
DESCRIPTION:Familien am Ball\nBewegungsraum Börgerhus
URL:https://boergerhus.de/event/familien-am-ball-bewegungsraum-boergerhus/2026-02-03/
LOCATION:Börgerhus\, Bewegungsraum
ATTACH;FMTTYPE=image/jpeg:https://boergerhus.de/wp-content/uploads/2022/04/family-gd49efca77_1280.jpg
ORGANIZER;CN="AWO B%C3%B6rgerhus":MAILTO:boergerhus@awo-rostock.de
END:VEVENT
BEGIN:VEVENT
DTSTART;TZID=Europe/Berlin:20260210T160000
DTEND;TZID=Europe/Berlin:20260210T170000
DTSTAMP:20260422T000525
CREATED:20220406T073323Z
LAST-MODIFIED:20220406T073323Z
UID:22634-1770739200-1770742800@boergerhus.de
SUMMARY:Familien am Ball - Bewegungsraum
DESCRIPTION:Familien am Ball\nBewegungsraum Börgerhus
URL:https://boergerhus.de/event/familien-am-ball-bewegungsraum-boergerhus/2026-02-10/
LOCATION:Börgerhus\, Bewegungsraum
ATTACH;FMTTYPE=image/jpeg:https://boergerhus.de/wp-content/uploads/2022/04/family-gd49efca77_1280.jpg
ORGANIZER;CN="AWO B%C3%B6rgerhus":MAILTO:boergerhus@awo-rostock.de
END:VEVENT
BEGIN:VEVENT
DTSTART;TZID=Europe/Berlin:20260217T160000
DTEND;TZID=Europe/Berlin:20260217T170000
DTSTAMP:20260422T000525
CREATED:20220406T073323Z
LAST-MODIFIED:20220406T073323Z
UID:22693-1771344000-1771347600@boergerhus.de
SUMMARY:Familien am Ball - Bewegungsraum
DESCRIPTION:Familien am Ball\nBewegungsraum Börgerhus
URL:https://boergerhus.de/event/familien-am-ball-bewegungsraum-boergerhus/2026-02-17/
LOCATION:Börgerhus\, Bewegungsraum
ATTACH;FMTTYPE=image/jpeg:https://boergerhus.de/wp-content/uploads/2022/04/family-gd49efca77_1280.jpg
ORGANIZER;CN="AWO B%C3%B6rgerhus":MAILTO:boergerhus@awo-rostock.de
END:VEVENT
BEGIN:VEVENT
DTSTART;TZID=Europe/Berlin:20260224T160000
DTEND;TZID=Europe/Berlin:20260224T170000
DTSTAMP:20260422T000525
CREATED:20220406T073323Z
LAST-MODIFIED:20220406T073323Z
UID:22736-1771948800-1771952400@boergerhus.de
SUMMARY:Familien am Ball - Bewegungsraum
DESCRIPTION:Familien am Ball\nBewegungsraum Börgerhus
URL:https://boergerhus.de/event/familien-am-ball-bewegungsraum-boergerhus/2026-02-24/
LOCATION:Börgerhus\, Bewegungsraum
ATTACH;FMTTYPE=image/jpeg:https://boergerhus.de/wp-content/uploads/2022/04/family-gd49efca77_1280.jpg
ORGANIZER;CN="AWO B%C3%B6rgerhus":MAILTO:boergerhus@awo-rostock.de
END:VEVENT
BEGIN:VEVENT
DTSTART;TZID=Europe/Berlin:20260303T160000
DTEND;TZID=Europe/Berlin:20260303T170000
DTSTAMP:20260422T000525
CREATED:20220406T073323Z
LAST-MODIFIED:20220406T073323Z
UID:22820-1772553600-1772557200@boergerhus.de
SUMMARY:Familien am Ball - Bewegungsraum
DESCRIPTION:Familien am Ball\nBewegungsraum Börgerhus
URL:https://boergerhus.de/event/familien-am-ball-bewegungsraum-boergerhus/2026-03-03/
LOCATION:Börgerhus\, Bewegungsraum
ATTACH;FMTTYPE=image/jpeg:https://boergerhus.de/wp-content/uploads/2022/04/family-gd49efca77_1280.jpg
ORGANIZER;CN="AWO B%C3%B6rgerhus":MAILTO:boergerhus@awo-rostock.de
END:VEVENT
BEGIN:VEVENT
DTSTART;TZID=Europe/Berlin:20260310T160000
DTEND;TZID=Europe/Berlin:20260310T170000
DTSTAMP:20260422T000525
CREATED:20220406T073323Z
LAST-MODIFIED:20220406T073323Z
UID:22862-1773158400-1773162000@boergerhus.de
SUMMARY:Familien am Ball - Bewegungsraum
DESCRIPTION:Familien am Ball\nBewegungsraum Börgerhus
URL:https://boergerhus.de/event/familien-am-ball-bewegungsraum-boergerhus/2026-03-10/
LOCATION:Börgerhus\, Bewegungsraum
ATTACH;FMTTYPE=image/jpeg:https://boergerhus.de/wp-content/uploads/2022/04/family-gd49efca77_1280.jpg
ORGANIZER;CN="AWO B%C3%B6rgerhus":MAILTO:boergerhus@awo-rostock.de
END:VEVENT
BEGIN:VEVENT
DTSTART;TZID=Europe/Berlin:20260317T090000
DTEND;TZID=Europe/Berlin:20260317T110000
DTSTAMP:20260422T000525
CREATED:20260310T114249Z
LAST-MODIFIED:20260310T114249Z
UID:34624-1773738000-1773745200@boergerhus.de
SUMMARY:Familienfrühstück
DESCRIPTION:Liebe Familien\, \nwir laden sie ganz herzlich ein\, am 17.03.2026 ab 9 Uhr mit anderen Eltern bei einem leckeren Frühstück in den Tag zu starten. \nGern können Sie auch Ihr Baby oder Kleinkind mitbringen. \nNutzen Sie die Möglichkeit\, sich auszutauschen\, neue Menschen kennenzulernen und Ideen für Groß Klein zu sammeln. \nDie Kosten belaufen sich auf 3\,00€ p.P. Das Frühstück findet in den Räumlichkeiten des AWO Horts (Taklerring 45) statt. \nWir freuen uns auf Sie! \n[Der Elternrat des AWO Horts und die Familienarbeit Börgerhus]
URL:https://boergerhus.de/event/familienfruehstueck-3/
LOCATION:AWO Hort\, Taklerring 45\, Rostock\, 18109\, Germany
ATTACH;FMTTYPE=image/jpeg:https://boergerhus.de/wp-content/uploads/2026/03/Familienfruehstueck-Homepagebild.jpg
END:VEVENT
BEGIN:VEVENT
DTSTART;TZID=Europe/Berlin:20260317T160000
DTEND;TZID=Europe/Berlin:20260317T170000
DTSTAMP:20260422T000525
CREATED:20220406T073323Z
LAST-MODIFIED:20220406T073323Z
UID:22907-1773763200-1773766800@boergerhus.de
SUMMARY:Familien am Ball - Bewegungsraum
DESCRIPTION:Familien am Ball\nBewegungsraum Börgerhus
URL:https://boergerhus.de/event/familien-am-ball-bewegungsraum-boergerhus/2026-03-17/
LOCATION:Börgerhus\, Bewegungsraum
ATTACH;FMTTYPE=image/jpeg:https://boergerhus.de/wp-content/uploads/2022/04/family-gd49efca77_1280.jpg
ORGANIZER;CN="AWO B%C3%B6rgerhus":MAILTO:boergerhus@awo-rostock.de
END:VEVENT
END:VCALENDAR