BEGIN:VCALENDAR
VERSION:2.0
PRODID:-//Börgerhus Rostock - Stadtteil- und Begegnungszentrum Groß Klein - ECPv6.15.20//NONSGML v1.0//EN
CALSCALE:GREGORIAN
METHOD:PUBLISH
X-WR-CALNAME:Börgerhus Rostock - Stadtteil- und Begegnungszentrum Groß Klein
X-ORIGINAL-URL:https://boergerhus.de
X-WR-CALDESC:Veranstaltungen für Börgerhus Rostock - Stadtteil- und Begegnungszentrum Groß Klein
REFRESH-INTERVAL;VALUE=DURATION:PT1H
X-Robots-Tag:noindex
X-PUBLISHED-TTL:PT1H
BEGIN:VTIMEZONE
TZID:Europe/Berlin
BEGIN:DAYLIGHT
TZOFFSETFROM:+0100
TZOFFSETTO:+0200
TZNAME:CEST
DTSTART:20240331T010000
END:DAYLIGHT
BEGIN:STANDARD
TZOFFSETFROM:+0200
TZOFFSETTO:+0100
TZNAME:CET
DTSTART:20241027T010000
END:STANDARD
BEGIN:DAYLIGHT
TZOFFSETFROM:+0100
TZOFFSETTO:+0200
TZNAME:CEST
DTSTART:20250330T010000
END:DAYLIGHT
BEGIN:STANDARD
TZOFFSETFROM:+0200
TZOFFSETTO:+0100
TZNAME:CET
DTSTART:20251026T010000
END:STANDARD
BEGIN:DAYLIGHT
TZOFFSETFROM:+0100
TZOFFSETTO:+0200
TZNAME:CEST
DTSTART:20260329T010000
END:DAYLIGHT
BEGIN:STANDARD
TZOFFSETFROM:+0200
TZOFFSETTO:+0100
TZNAME:CET
DTSTART:20261025T010000
END:STANDARD
END:VTIMEZONE
BEGIN:VEVENT
DTSTART;TZID=Europe/Berlin:20251007T160000
DTEND;TZID=Europe/Berlin:20251007T170000
DTSTAMP:20260421T025746
CREATED:20220406T073323Z
LAST-MODIFIED:20220406T073323Z
UID:21689-1759852800-1759856400@boergerhus.de
SUMMARY:Familien am Ball - Bewegungsraum
DESCRIPTION:Familien am Ball\nBewegungsraum Börgerhus
URL:https://boergerhus.de/event/familien-am-ball-bewegungsraum-boergerhus/2025-10-07/
LOCATION:Börgerhus\, Bewegungsraum
ATTACH;FMTTYPE=image/jpeg:https://boergerhus.de/wp-content/uploads/2022/04/family-gd49efca77_1280.jpg
ORGANIZER;CN="AWO B%C3%B6rgerhus":MAILTO:boergerhus@awo-rostock.de
END:VEVENT
BEGIN:VEVENT
DTSTART;TZID=Europe/Berlin:20251014T160000
DTEND;TZID=Europe/Berlin:20251014T170000
DTSTAMP:20260421T025746
CREATED:20220406T073323Z
LAST-MODIFIED:20220406T073323Z
UID:21750-1760457600-1760461200@boergerhus.de
SUMMARY:Familien am Ball - Bewegungsraum
DESCRIPTION:Familien am Ball\nBewegungsraum Börgerhus
URL:https://boergerhus.de/event/familien-am-ball-bewegungsraum-boergerhus/2025-10-14/
LOCATION:Börgerhus\, Bewegungsraum
ATTACH;FMTTYPE=image/jpeg:https://boergerhus.de/wp-content/uploads/2022/04/family-gd49efca77_1280.jpg
ORGANIZER;CN="AWO B%C3%B6rgerhus":MAILTO:boergerhus@awo-rostock.de
END:VEVENT
BEGIN:VEVENT
DTSTART;TZID=Europe/Berlin:20251021T160000
DTEND;TZID=Europe/Berlin:20251021T170000
DTSTAMP:20260421T025746
CREATED:20220406T073323Z
LAST-MODIFIED:20220406T073323Z
UID:21795-1761062400-1761066000@boergerhus.de
SUMMARY:Familien am Ball - Bewegungsraum
DESCRIPTION:Familien am Ball\nBewegungsraum Börgerhus
URL:https://boergerhus.de/event/familien-am-ball-bewegungsraum-boergerhus/2025-10-21/
LOCATION:Börgerhus\, Bewegungsraum
ATTACH;FMTTYPE=image/jpeg:https://boergerhus.de/wp-content/uploads/2022/04/family-gd49efca77_1280.jpg
ORGANIZER;CN="AWO B%C3%B6rgerhus":MAILTO:boergerhus@awo-rostock.de
END:VEVENT
BEGIN:VEVENT
DTSTART;TZID=Europe/Berlin:20251028T160000
DTEND;TZID=Europe/Berlin:20251028T170000
DTSTAMP:20260421T025746
CREATED:20220406T073323Z
LAST-MODIFIED:20220406T073323Z
UID:21851-1761667200-1761670800@boergerhus.de
SUMMARY:Familien am Ball - Bewegungsraum
DESCRIPTION:Familien am Ball\nBewegungsraum Börgerhus
URL:https://boergerhus.de/event/familien-am-ball-bewegungsraum-boergerhus/2025-10-28/
LOCATION:Börgerhus\, Bewegungsraum
ATTACH;FMTTYPE=image/jpeg:https://boergerhus.de/wp-content/uploads/2022/04/family-gd49efca77_1280.jpg
ORGANIZER;CN="AWO B%C3%B6rgerhus":MAILTO:boergerhus@awo-rostock.de
END:VEVENT
END:VCALENDAR