BEGIN:VCALENDAR
VERSION:2.0
PRODID:-//Börgerhus Rostock - Stadtteil- und Begegnungszentrum Groß Klein - ECPv6.15.20//NONSGML v1.0//EN
CALSCALE:GREGORIAN
METHOD:PUBLISH
X-ORIGINAL-URL:https://boergerhus.de
X-WR-CALDESC:Veranstaltungen für Börgerhus Rostock - Stadtteil- und Begegnungszentrum Groß Klein
REFRESH-INTERVAL;VALUE=DURATION:PT1H
X-Robots-Tag:noindex
X-PUBLISHED-TTL:PT1H
BEGIN:VTIMEZONE
TZID:Europe/Berlin
BEGIN:DAYLIGHT
TZOFFSETFROM:+0100
TZOFFSETTO:+0200
TZNAME:CEST
DTSTART:20240331T010000
END:DAYLIGHT
BEGIN:STANDARD
TZOFFSETFROM:+0200
TZOFFSETTO:+0100
TZNAME:CET
DTSTART:20241027T010000
END:STANDARD
BEGIN:DAYLIGHT
TZOFFSETFROM:+0100
TZOFFSETTO:+0200
TZNAME:CEST
DTSTART:20250330T010000
END:DAYLIGHT
BEGIN:STANDARD
TZOFFSETFROM:+0200
TZOFFSETTO:+0100
TZNAME:CET
DTSTART:20251026T010000
END:STANDARD
BEGIN:DAYLIGHT
TZOFFSETFROM:+0100
TZOFFSETTO:+0200
TZNAME:CEST
DTSTART:20260329T010000
END:DAYLIGHT
BEGIN:STANDARD
TZOFFSETFROM:+0200
TZOFFSETTO:+0100
TZNAME:CET
DTSTART:20261025T010000
END:STANDARD
END:VTIMEZONE
BEGIN:VEVENT
DTSTART;TZID=Europe/Berlin:20250902T160000
DTEND;TZID=Europe/Berlin:20250902T170000
DTSTAMP:20260420T160205
CREATED:20220406T073323Z
LAST-MODIFIED:20220406T073323Z
UID:21310-1756828800-1756832400@boergerhus.de
SUMMARY:Familien am Ball - Bewegungsraum
DESCRIPTION:Familien am Ball\nBewegungsraum Börgerhus
URL:https://boergerhus.de/event/familien-am-ball-bewegungsraum-boergerhus/2025-09-02/
LOCATION:Börgerhus\, Bewegungsraum
ATTACH;FMTTYPE=image/jpeg:https://boergerhus.de/wp-content/uploads/2022/04/family-gd49efca77_1280.jpg
ORGANIZER;CN="AWO B%C3%B6rgerhus":MAILTO:boergerhus@awo-rostock.de
END:VEVENT
BEGIN:VEVENT
DTSTART;TZID=Europe/Berlin:20250909T160000
DTEND;TZID=Europe/Berlin:20250909T170000
DTSTAMP:20260420T160205
CREATED:20220406T073323Z
LAST-MODIFIED:20220406T073323Z
UID:21356-1757433600-1757437200@boergerhus.de
SUMMARY:Familien am Ball - Bewegungsraum
DESCRIPTION:Familien am Ball\nBewegungsraum Börgerhus
URL:https://boergerhus.de/event/familien-am-ball-bewegungsraum-boergerhus/2025-09-09/
LOCATION:Börgerhus\, Bewegungsraum
ATTACH;FMTTYPE=image/jpeg:https://boergerhus.de/wp-content/uploads/2022/04/family-gd49efca77_1280.jpg
ORGANIZER;CN="AWO B%C3%B6rgerhus":MAILTO:boergerhus@awo-rostock.de
END:VEVENT
BEGIN:VEVENT
DTSTART;TZID=Europe/Berlin:20250916T160000
DTEND;TZID=Europe/Berlin:20250916T170000
DTSTAMP:20260420T160205
CREATED:20220406T073323Z
LAST-MODIFIED:20220406T073323Z
UID:21527-1758038400-1758042000@boergerhus.de
SUMMARY:Familien am Ball - Bewegungsraum
DESCRIPTION:Familien am Ball\nBewegungsraum Börgerhus
URL:https://boergerhus.de/event/familien-am-ball-bewegungsraum-boergerhus/2025-09-16/
LOCATION:Börgerhus\, Bewegungsraum
ATTACH;FMTTYPE=image/jpeg:https://boergerhus.de/wp-content/uploads/2022/04/family-gd49efca77_1280.jpg
ORGANIZER;CN="AWO B%C3%B6rgerhus":MAILTO:boergerhus@awo-rostock.de
END:VEVENT
BEGIN:VEVENT
DTSTART;TZID=Europe/Berlin:20250923T160000
DTEND;TZID=Europe/Berlin:20250923T170000
DTSTAMP:20260420T160205
CREATED:20220406T073323Z
LAST-MODIFIED:20220406T073323Z
UID:21578-1758643200-1758646800@boergerhus.de
SUMMARY:Familien am Ball - Bewegungsraum
DESCRIPTION:Familien am Ball\nBewegungsraum Börgerhus
URL:https://boergerhus.de/event/familien-am-ball-bewegungsraum-boergerhus/2025-09-23/
LOCATION:Börgerhus\, Bewegungsraum
ATTACH;FMTTYPE=image/jpeg:https://boergerhus.de/wp-content/uploads/2022/04/family-gd49efca77_1280.jpg
ORGANIZER;CN="AWO B%C3%B6rgerhus":MAILTO:boergerhus@awo-rostock.de
END:VEVENT
BEGIN:VEVENT
DTSTART;TZID=Europe/Berlin:20250930T160000
DTEND;TZID=Europe/Berlin:20250930T170000
DTSTAMP:20260420T160205
CREATED:20220406T073323Z
LAST-MODIFIED:20220406T073323Z
UID:21623-1759248000-1759251600@boergerhus.de
SUMMARY:Familien am Ball - Bewegungsraum
DESCRIPTION:Familien am Ball\nBewegungsraum Börgerhus
URL:https://boergerhus.de/event/familien-am-ball-bewegungsraum-boergerhus/2025-09-30/
LOCATION:Börgerhus\, Bewegungsraum
ATTACH;FMTTYPE=image/jpeg:https://boergerhus.de/wp-content/uploads/2022/04/family-gd49efca77_1280.jpg
ORGANIZER;CN="AWO B%C3%B6rgerhus":MAILTO:boergerhus@awo-rostock.de
END:VEVENT
END:VCALENDAR