BEGIN:VCALENDAR
VERSION:2.0
PRODID:-//Börgerhus Rostock - Stadtteil- und Begegnungszentrum Groß Klein - ECPv6.15.20//NONSGML v1.0//EN
CALSCALE:GREGORIAN
METHOD:PUBLISH
X-WR-CALNAME:Börgerhus Rostock - Stadtteil- und Begegnungszentrum Groß Klein
X-ORIGINAL-URL:https://boergerhus.de
X-WR-CALDESC:Veranstaltungen für Börgerhus Rostock - Stadtteil- und Begegnungszentrum Groß Klein
REFRESH-INTERVAL;VALUE=DURATION:PT1H
X-Robots-Tag:noindex
X-PUBLISHED-TTL:PT1H
BEGIN:VTIMEZONE
TZID:Europe/Berlin
BEGIN:DAYLIGHT
TZOFFSETFROM:+0100
TZOFFSETTO:+0200
TZNAME:CEST
DTSTART:20240331T010000
END:DAYLIGHT
BEGIN:STANDARD
TZOFFSETFROM:+0200
TZOFFSETTO:+0100
TZNAME:CET
DTSTART:20241027T010000
END:STANDARD
BEGIN:DAYLIGHT
TZOFFSETFROM:+0100
TZOFFSETTO:+0200
TZNAME:CEST
DTSTART:20250330T010000
END:DAYLIGHT
BEGIN:STANDARD
TZOFFSETFROM:+0200
TZOFFSETTO:+0100
TZNAME:CET
DTSTART:20251026T010000
END:STANDARD
BEGIN:DAYLIGHT
TZOFFSETFROM:+0100
TZOFFSETTO:+0200
TZNAME:CEST
DTSTART:20260329T010000
END:DAYLIGHT
BEGIN:STANDARD
TZOFFSETFROM:+0200
TZOFFSETTO:+0100
TZNAME:CET
DTSTART:20261025T010000
END:STANDARD
END:VTIMEZONE
BEGIN:VEVENT
DTSTART;TZID=Europe/Berlin:20250701T160000
DTEND;TZID=Europe/Berlin:20250701T170000
DTSTAMP:20260421T200457
CREATED:20220406T073323Z
LAST-MODIFIED:20220406T073323Z
UID:16620-1751385600-1751389200@boergerhus.de
SUMMARY:Familien am Ball - Bewegungsraum
DESCRIPTION:Familien am Ball Bewegungsraum Börgerhus
URL:https://boergerhus.de/event/familien-am-ball-bewegungsraum-boergerhus/2025-07-01/
LOCATION:Börgerhus\, Bewegungsraum
ATTACH;FMTTYPE=image/jpeg:https://boergerhus.de/wp-content/uploads/2022/04/family-gd49efca77_1280.jpg
ORGANIZER;CN="AWO B%C3%B6rgerhus":MAILTO:boergerhus@awo-rostock.de
END:VEVENT
BEGIN:VEVENT
DTSTART;TZID=Europe/Berlin:20250708T160000
DTEND;TZID=Europe/Berlin:20250708T170000
DTSTAMP:20260421T200457
CREATED:20220406T073323Z
LAST-MODIFIED:20220406T073323Z
UID:16659-1751990400-1751994000@boergerhus.de
SUMMARY:Familien am Ball - Bewegungsraum
DESCRIPTION:Familien am Ball Bewegungsraum Börgerhus
URL:https://boergerhus.de/event/familien-am-ball-bewegungsraum-boergerhus/2025-07-08/
LOCATION:Börgerhus\, Bewegungsraum
ATTACH;FMTTYPE=image/jpeg:https://boergerhus.de/wp-content/uploads/2022/04/family-gd49efca77_1280.jpg
ORGANIZER;CN="AWO B%C3%B6rgerhus":MAILTO:boergerhus@awo-rostock.de
END:VEVENT
BEGIN:VEVENT
DTSTART;TZID=Europe/Berlin:20250715T160000
DTEND;TZID=Europe/Berlin:20250715T170000
DTSTAMP:20260421T200457
CREATED:20220406T073323Z
LAST-MODIFIED:20220406T073323Z
UID:16813-1752595200-1752598800@boergerhus.de
SUMMARY:Familien am Ball - Bewegungsraum
DESCRIPTION:Familien am Ball Bewegungsraum Börgerhus
URL:https://boergerhus.de/event/familien-am-ball-bewegungsraum-boergerhus/2025-07-15/
LOCATION:Börgerhus\, Bewegungsraum
ATTACH;FMTTYPE=image/jpeg:https://boergerhus.de/wp-content/uploads/2022/04/family-gd49efca77_1280.jpg
ORGANIZER;CN="AWO B%C3%B6rgerhus":MAILTO:boergerhus@awo-rostock.de
END:VEVENT
BEGIN:VEVENT
DTSTART;TZID=Europe/Berlin:20250722T160000
DTEND;TZID=Europe/Berlin:20250722T170000
DTSTAMP:20260421T200457
CREATED:20220406T073323Z
LAST-MODIFIED:20220406T073323Z
UID:16814-1753200000-1753203600@boergerhus.de
SUMMARY:Familien am Ball - Bewegungsraum
DESCRIPTION:Familien am Ball Bewegungsraum Börgerhus
URL:https://boergerhus.de/event/familien-am-ball-bewegungsraum-boergerhus/2025-07-22/
LOCATION:Börgerhus\, Bewegungsraum
ATTACH;FMTTYPE=image/jpeg:https://boergerhus.de/wp-content/uploads/2022/04/family-gd49efca77_1280.jpg
ORGANIZER;CN="AWO B%C3%B6rgerhus":MAILTO:boergerhus@awo-rostock.de
END:VEVENT
BEGIN:VEVENT
DTSTART;TZID=Europe/Berlin:20250729T160000
DTEND;TZID=Europe/Berlin:20250729T170000
DTSTAMP:20260421T200457
CREATED:20220406T073323Z
LAST-MODIFIED:20220406T073323Z
UID:16815-1753804800-1753808400@boergerhus.de
SUMMARY:Familien am Ball - Bewegungsraum
DESCRIPTION:Familien am Ball Bewegungsraum Börgerhus
URL:https://boergerhus.de/event/familien-am-ball-bewegungsraum-boergerhus/2025-07-29/
LOCATION:Börgerhus\, Bewegungsraum
ATTACH;FMTTYPE=image/jpeg:https://boergerhus.de/wp-content/uploads/2022/04/family-gd49efca77_1280.jpg
ORGANIZER;CN="AWO B%C3%B6rgerhus":MAILTO:boergerhus@awo-rostock.de
END:VEVENT
END:VCALENDAR