BEGIN:VCALENDAR
VERSION:2.0
PRODID:-//Börgerhus Rostock - Stadtteil- und Begegnungszentrum Groß Klein - ECPv6.15.20//NONSGML v1.0//EN
CALSCALE:GREGORIAN
METHOD:PUBLISH
X-ORIGINAL-URL:https://boergerhus.de
X-WR-CALDESC:Veranstaltungen für Börgerhus Rostock - Stadtteil- und Begegnungszentrum Groß Klein
REFRESH-INTERVAL;VALUE=DURATION:PT1H
X-Robots-Tag:noindex
X-PUBLISHED-TTL:PT1H
BEGIN:VTIMEZONE
TZID:Europe/Berlin
BEGIN:DAYLIGHT
TZOFFSETFROM:+0100
TZOFFSETTO:+0200
TZNAME:CEST
DTSTART:20240331T010000
END:DAYLIGHT
BEGIN:STANDARD
TZOFFSETFROM:+0200
TZOFFSETTO:+0100
TZNAME:CET
DTSTART:20241027T010000
END:STANDARD
BEGIN:DAYLIGHT
TZOFFSETFROM:+0100
TZOFFSETTO:+0200
TZNAME:CEST
DTSTART:20250330T010000
END:DAYLIGHT
BEGIN:STANDARD
TZOFFSETFROM:+0200
TZOFFSETTO:+0100
TZNAME:CET
DTSTART:20251026T010000
END:STANDARD
BEGIN:DAYLIGHT
TZOFFSETFROM:+0100
TZOFFSETTO:+0200
TZNAME:CEST
DTSTART:20260329T010000
END:DAYLIGHT
BEGIN:STANDARD
TZOFFSETFROM:+0200
TZOFFSETTO:+0100
TZNAME:CET
DTSTART:20261025T010000
END:STANDARD
END:VTIMEZONE
BEGIN:VEVENT
DTSTART;TZID=Europe/Berlin:20250205T100000
DTEND;TZID=Europe/Berlin:20250205T110000
DTSTAMP:20260425T215107
CREATED:20230808T110428Z
LAST-MODIFIED:20230808T110428Z
UID:34012-1738749600-1738753200@boergerhus.de
SUMMARY:Bewegung und Entspannung für Senior*innen
DESCRIPTION:draußen oder Bewegungsraum
URL:https://boergerhus.de/event/bewegung-und-entspannung-fuer-seniorinnen/2025-02-05/
ATTACH;FMTTYPE=image/jpeg:https://boergerhus.de/wp-content/uploads/2022/04/medicine-ball-g4e00851d0_1280.jpg
END:VEVENT
BEGIN:VEVENT
DTSTART;TZID=Europe/Berlin:20250212T100000
DTEND;TZID=Europe/Berlin:20250212T110000
DTSTAMP:20260425T215107
CREATED:20230808T110428Z
LAST-MODIFIED:20230808T110428Z
UID:34013-1739354400-1739358000@boergerhus.de
SUMMARY:Bewegung und Entspannung für Senior*innen
DESCRIPTION:draußen oder Bewegungsraum
URL:https://boergerhus.de/event/bewegung-und-entspannung-fuer-seniorinnen/2025-02-12/
ATTACH;FMTTYPE=image/jpeg:https://boergerhus.de/wp-content/uploads/2022/04/medicine-ball-g4e00851d0_1280.jpg
END:VEVENT
BEGIN:VEVENT
DTSTART;TZID=Europe/Berlin:20250219T100000
DTEND;TZID=Europe/Berlin:20250219T110000
DTSTAMP:20260425T215107
CREATED:20230808T110428Z
LAST-MODIFIED:20230808T110428Z
UID:34014-1739959200-1739962800@boergerhus.de
SUMMARY:Bewegung und Entspannung für Senior*innen
DESCRIPTION:draußen oder Bewegungsraum
URL:https://boergerhus.de/event/bewegung-und-entspannung-fuer-seniorinnen/2025-02-19/
ATTACH;FMTTYPE=image/jpeg:https://boergerhus.de/wp-content/uploads/2022/04/medicine-ball-g4e00851d0_1280.jpg
END:VEVENT
BEGIN:VEVENT
DTSTART;TZID=Europe/Berlin:20250226T100000
DTEND;TZID=Europe/Berlin:20250226T110000
DTSTAMP:20260425T215107
CREATED:20230808T110428Z
LAST-MODIFIED:20230808T110428Z
UID:34015-1740564000-1740567600@boergerhus.de
SUMMARY:Bewegung und Entspannung für Senior*innen
DESCRIPTION:draußen oder Bewegungsraum
URL:https://boergerhus.de/event/bewegung-und-entspannung-fuer-seniorinnen/2025-02-26/
ATTACH;FMTTYPE=image/jpeg:https://boergerhus.de/wp-content/uploads/2022/04/medicine-ball-g4e00851d0_1280.jpg
END:VEVENT
END:VCALENDAR