BEGIN:VCALENDAR
VERSION:2.0
PRODID:-//Börgerhus Rostock - Stadtteil- und Begegnungszentrum Groß Klein - ECPv6.15.20//NONSGML v1.0//EN
CALSCALE:GREGORIAN
METHOD:PUBLISH
X-WR-CALNAME:Börgerhus Rostock - Stadtteil- und Begegnungszentrum Groß Klein
X-ORIGINAL-URL:https://boergerhus.de
X-WR-CALDESC:Veranstaltungen für Börgerhus Rostock - Stadtteil- und Begegnungszentrum Groß Klein
REFRESH-INTERVAL;VALUE=DURATION:PT1H
X-Robots-Tag:noindex
X-PUBLISHED-TTL:PT1H
BEGIN:VTIMEZONE
TZID:Europe/Berlin
BEGIN:DAYLIGHT
TZOFFSETFROM:+0100
TZOFFSETTO:+0200
TZNAME:CEST
DTSTART:20230326T010000
END:DAYLIGHT
BEGIN:STANDARD
TZOFFSETFROM:+0200
TZOFFSETTO:+0100
TZNAME:CET
DTSTART:20231029T010000
END:STANDARD
BEGIN:DAYLIGHT
TZOFFSETFROM:+0100
TZOFFSETTO:+0200
TZNAME:CEST
DTSTART:20240331T010000
END:DAYLIGHT
BEGIN:STANDARD
TZOFFSETFROM:+0200
TZOFFSETTO:+0100
TZNAME:CET
DTSTART:20241027T010000
END:STANDARD
BEGIN:DAYLIGHT
TZOFFSETFROM:+0100
TZOFFSETTO:+0200
TZNAME:CEST
DTSTART:20250330T010000
END:DAYLIGHT
BEGIN:STANDARD
TZOFFSETFROM:+0200
TZOFFSETTO:+0100
TZNAME:CET
DTSTART:20251026T010000
END:STANDARD
END:VTIMEZONE
BEGIN:VEVENT
DTSTART;TZID=Europe/Berlin:20241104T150000
DTEND;TZID=Europe/Berlin:20241104T170000
DTSTAMP:20260424T080852
CREATED:20220915T094733Z
LAST-MODIFIED:20220915T094733Z
UID:13841-1730732400-1730739600@boergerhus.de
SUMMARY:Sprachpraxis Deutsch im Multifunktionsraum
DESCRIPTION:Deutsch lernen mit Hilfe von Sprachpat*innen. \nTreff im Multifunktionsraum. \nInfos und Anmeldung über Info-Punkt Tel. 877 299 23
URL:https://boergerhus.de/event/sprachpraxis-deutsch-im-multifunktionsraum/2024-11-04/
ATTACH;FMTTYPE=image/png:https://boergerhus.de/wp-content/uploads/2022/09/Sprechen.png
END:VEVENT
BEGIN:VEVENT
DTSTART;TZID=Europe/Berlin:20241111T150000
DTEND;TZID=Europe/Berlin:20241111T170000
DTSTAMP:20260424T080852
CREATED:20220915T094733Z
LAST-MODIFIED:20220915T094733Z
UID:14012-1731337200-1731344400@boergerhus.de
SUMMARY:Sprachpraxis Deutsch im Multifunktionsraum
DESCRIPTION:Deutsch lernen mit Hilfe von Sprachpat*innen. \nTreff im Multifunktionsraum. \nInfos und Anmeldung über Info-Punkt Tel. 877 299 23
URL:https://boergerhus.de/event/sprachpraxis-deutsch-im-multifunktionsraum/2024-11-11/
ATTACH;FMTTYPE=image/png:https://boergerhus.de/wp-content/uploads/2022/09/Sprechen.png
END:VEVENT
BEGIN:VEVENT
DTSTART;TZID=Europe/Berlin:20241118T150000
DTEND;TZID=Europe/Berlin:20241118T170000
DTSTAMP:20260424T080852
CREATED:20220915T094733Z
LAST-MODIFIED:20220915T094733Z
UID:14053-1731942000-1731949200@boergerhus.de
SUMMARY:Sprachpraxis Deutsch im Multifunktionsraum
DESCRIPTION:Deutsch lernen mit Hilfe von Sprachpat*innen. \nTreff im Multifunktionsraum. \nInfos und Anmeldung über Info-Punkt Tel. 877 299 23
URL:https://boergerhus.de/event/sprachpraxis-deutsch-im-multifunktionsraum/2024-11-18/
ATTACH;FMTTYPE=image/png:https://boergerhus.de/wp-content/uploads/2022/09/Sprechen.png
END:VEVENT
BEGIN:VEVENT
DTSTART;TZID=Europe/Berlin:20241125T150000
DTEND;TZID=Europe/Berlin:20241125T170000
DTSTAMP:20260424T080852
CREATED:20220915T094733Z
LAST-MODIFIED:20220915T094733Z
UID:14118-1732546800-1732554000@boergerhus.de
SUMMARY:Sprachpraxis Deutsch im Multifunktionsraum
DESCRIPTION:Deutsch lernen mit Hilfe von Sprachpat*innen. \nTreff im Multifunktionsraum. \nInfos und Anmeldung über Info-Punkt Tel. 877 299 23
URL:https://boergerhus.de/event/sprachpraxis-deutsch-im-multifunktionsraum/2024-11-25/
ATTACH;FMTTYPE=image/png:https://boergerhus.de/wp-content/uploads/2022/09/Sprechen.png
END:VEVENT
END:VCALENDAR