BEGIN:VCALENDAR
VERSION:2.0
PRODID:-//Börgerhus Rostock - Stadtteil- und Begegnungszentrum Groß Klein - ECPv6.15.20//NONSGML v1.0//EN
CALSCALE:GREGORIAN
METHOD:PUBLISH
X-ORIGINAL-URL:https://boergerhus.de
X-WR-CALDESC:Veranstaltungen für Börgerhus Rostock - Stadtteil- und Begegnungszentrum Groß Klein
REFRESH-INTERVAL;VALUE=DURATION:PT1H
X-Robots-Tag:noindex
X-PUBLISHED-TTL:PT1H
BEGIN:VTIMEZONE
TZID:Europe/Berlin
BEGIN:DAYLIGHT
TZOFFSETFROM:+0100
TZOFFSETTO:+0200
TZNAME:CEST
DTSTART:20250330T010000
END:DAYLIGHT
BEGIN:STANDARD
TZOFFSETFROM:+0200
TZOFFSETTO:+0100
TZNAME:CET
DTSTART:20251026T010000
END:STANDARD
BEGIN:DAYLIGHT
TZOFFSETFROM:+0100
TZOFFSETTO:+0200
TZNAME:CEST
DTSTART:20260329T010000
END:DAYLIGHT
BEGIN:STANDARD
TZOFFSETFROM:+0200
TZOFFSETTO:+0100
TZNAME:CET
DTSTART:20261025T010000
END:STANDARD
BEGIN:DAYLIGHT
TZOFFSETFROM:+0100
TZOFFSETTO:+0200
TZNAME:CEST
DTSTART:20270328T010000
END:DAYLIGHT
BEGIN:STANDARD
TZOFFSETFROM:+0200
TZOFFSETTO:+0100
TZNAME:CET
DTSTART:20271031T010000
END:STANDARD
END:VTIMEZONE
BEGIN:VEVENT
DTSTART;TZID=Europe/Berlin:20261207T150000
DTEND;TZID=Europe/Berlin:20261207T170000
DTSTAMP:20260420T014700
CREATED:20220915T094733Z
LAST-MODIFIED:20220915T094733Z
UID:27143-1796655600-1796662800@boergerhus.de
SUMMARY:Sprachpraxis Deutsch im Multifunktionsraum
DESCRIPTION:Deutsch lernen mit Hilfe von Sprachpat*innen. \nTreff im Multifunktionsraum. \nInfos und Anmeldung über Info-Punkt Tel. 877 299 23
URL:https://boergerhus.de/event/sprachpraxis-deutsch-im-multifunktionsraum/2026-12-07/
ATTACH;FMTTYPE=image/png:https://boergerhus.de/wp-content/uploads/2022/09/Sprechen.png
END:VEVENT
BEGIN:VEVENT
DTSTART;TZID=Europe/Berlin:20261208T140000
DTEND;TZID=Europe/Berlin:20261208T170000
DTSTAMP:20260420T014700
CREATED:20220503T103021Z
LAST-MODIFIED:20220503T103021Z
UID:27148-1796738400-1796749200@boergerhus.de
SUMMARY:Fahrradwerkstatt - Werkstatt
DESCRIPTION:jeden 2. und 4. Dienstag im Monat \neinfache Reparaturen \nehrenamtlich begleitet
URL:https://boergerhus.de/event/fahrradwerkstatt-werkstatt/2026-12-08/
ATTACH;FMTTYPE=image/png:https://boergerhus.de/wp-content/uploads/2021/10/Fahhrad.png
END:VEVENT
BEGIN:VEVENT
DTSTART;TZID=Europe/Berlin:20261208T140000
DTEND;TZID=Europe/Berlin:20261208T170000
DTSTAMP:20260420T014700
CREATED:20220503T103220Z
LAST-MODIFIED:20220503T103220Z
UID:28900-1796738400-1796749200@boergerhus.de
SUMMARY:Fahrradwerkstatt - Werkstatt
DESCRIPTION:jeden 2. und 4. Dienstag im Monat \neinfache Reparaturen \nehrenamtlich begleitet
URL:https://boergerhus.de/event/fahrradwerkstatt-werkstatt-2/2026-12-08/
ATTACH;FMTTYPE=image/png:https://boergerhus.de/wp-content/uploads/2021/10/Fahhrad.png
END:VEVENT
BEGIN:VEVENT
DTSTART;TZID=Europe/Berlin:20261214T150000
DTEND;TZID=Europe/Berlin:20261214T170000
DTSTAMP:20260420T014700
CREATED:20220915T094733Z
LAST-MODIFIED:20220915T094733Z
UID:27188-1797260400-1797267600@boergerhus.de
SUMMARY:Sprachpraxis Deutsch im Multifunktionsraum
DESCRIPTION:Deutsch lernen mit Hilfe von Sprachpat*innen. \nTreff im Multifunktionsraum. \nInfos und Anmeldung über Info-Punkt Tel. 877 299 23
URL:https://boergerhus.de/event/sprachpraxis-deutsch-im-multifunktionsraum/2026-12-14/
ATTACH;FMTTYPE=image/png:https://boergerhus.de/wp-content/uploads/2022/09/Sprechen.png
END:VEVENT
BEGIN:VEVENT
DTSTART;TZID=Europe/Berlin:20261221T150000
DTEND;TZID=Europe/Berlin:20261221T170000
DTSTAMP:20260420T014700
CREATED:20220915T094733Z
LAST-MODIFIED:20220915T094733Z
UID:27254-1797865200-1797872400@boergerhus.de
SUMMARY:Sprachpraxis Deutsch im Multifunktionsraum
DESCRIPTION:Deutsch lernen mit Hilfe von Sprachpat*innen. \nTreff im Multifunktionsraum. \nInfos und Anmeldung über Info-Punkt Tel. 877 299 23
URL:https://boergerhus.de/event/sprachpraxis-deutsch-im-multifunktionsraum/2026-12-21/
ATTACH;FMTTYPE=image/png:https://boergerhus.de/wp-content/uploads/2022/09/Sprechen.png
END:VEVENT
BEGIN:VEVENT
DTSTART;TZID=Europe/Berlin:20261222T140000
DTEND;TZID=Europe/Berlin:20261222T170000
DTSTAMP:20260420T014700
CREATED:20220503T103220Z
LAST-MODIFIED:20250204T141846Z
UID:27260-1797948000-1797958800@boergerhus.de
SUMMARY:Fahrradwerkstatt - Werkstatt
DESCRIPTION:jeden 2. und 4. Dienstag im Monat \nSelbsthilfefahrradwerkstatt \neinfache Reparaturen \nehrenamtlich begleitet
URL:https://boergerhus.de/event/fahrradwerkstatt-werkstatt-2/2026-12-22/
ATTACH;FMTTYPE=image/png:https://boergerhus.de/wp-content/uploads/2021/10/Fahhrad.png
END:VEVENT
BEGIN:VEVENT
DTSTART;TZID=Europe/Berlin:20261228T150000
DTEND;TZID=Europe/Berlin:20261228T170000
DTSTAMP:20260420T014700
CREATED:20220915T094733Z
LAST-MODIFIED:20220915T094733Z
UID:27300-1798470000-1798477200@boergerhus.de
SUMMARY:Sprachpraxis Deutsch im Multifunktionsraum
DESCRIPTION:Deutsch lernen mit Hilfe von Sprachpat*innen. \nTreff im Multifunktionsraum. \nInfos und Anmeldung über Info-Punkt Tel. 877 299 23
URL:https://boergerhus.de/event/sprachpraxis-deutsch-im-multifunktionsraum/2026-12-28/
ATTACH;FMTTYPE=image/png:https://boergerhus.de/wp-content/uploads/2022/09/Sprechen.png
END:VEVENT
END:VCALENDAR