BEGIN:VCALENDAR
VERSION:2.0
PRODID:-//Börgerhus Rostock - Stadtteil- und Begegnungszentrum Groß Klein - ECPv6.15.20//NONSGML v1.0//EN
CALSCALE:GREGORIAN
METHOD:PUBLISH
X-WR-CALNAME:Börgerhus Rostock - Stadtteil- und Begegnungszentrum Groß Klein
X-ORIGINAL-URL:https://boergerhus.de
X-WR-CALDESC:Veranstaltungen für Börgerhus Rostock - Stadtteil- und Begegnungszentrum Groß Klein
REFRESH-INTERVAL;VALUE=DURATION:PT1H
X-Robots-Tag:noindex
X-PUBLISHED-TTL:PT1H
BEGIN:VTIMEZONE
TZID:Europe/Berlin
BEGIN:DAYLIGHT
TZOFFSETFROM:+0100
TZOFFSETTO:+0200
TZNAME:CEST
DTSTART:20230326T010000
END:DAYLIGHT
BEGIN:STANDARD
TZOFFSETFROM:+0200
TZOFFSETTO:+0100
TZNAME:CET
DTSTART:20231029T010000
END:STANDARD
BEGIN:DAYLIGHT
TZOFFSETFROM:+0100
TZOFFSETTO:+0200
TZNAME:CEST
DTSTART:20240331T010000
END:DAYLIGHT
BEGIN:STANDARD
TZOFFSETFROM:+0200
TZOFFSETTO:+0100
TZNAME:CET
DTSTART:20241027T010000
END:STANDARD
BEGIN:DAYLIGHT
TZOFFSETFROM:+0100
TZOFFSETTO:+0200
TZNAME:CEST
DTSTART:20250330T010000
END:DAYLIGHT
BEGIN:STANDARD
TZOFFSETFROM:+0200
TZOFFSETTO:+0100
TZNAME:CET
DTSTART:20251026T010000
END:STANDARD
BEGIN:DAYLIGHT
TZOFFSETFROM:+0100
TZOFFSETTO:+0200
TZNAME:CEST
DTSTART:20260329T010000
END:DAYLIGHT
BEGIN:STANDARD
TZOFFSETFROM:+0200
TZOFFSETTO:+0100
TZNAME:CET
DTSTART:20261025T010000
END:STANDARD
END:VTIMEZONE
BEGIN:VEVENT
DTSTART;TZID=Europe/Berlin:20241106T100000
DTEND;TZID=Europe/Berlin:20241106T110000
DTSTAMP:20260419T224227
CREATED:20220406T080934Z
LAST-MODIFIED:20220406T080934Z
UID:13855-1730887200-1730890800@boergerhus.de
SUMMARY:Bewegung und Entspannung für Senioren - Bewegungsraum
DESCRIPTION:Bewegung + Entspannung für Senioren im Bewegungsraum
URL:https://boergerhus.de/event/bewegung-entspannung-senioren-im-bewegungsraum/2024-11-06/
LOCATION:Börgerhus\, Bewegungsraum
ATTACH;FMTTYPE=image/jpeg:https://boergerhus.de/wp-content/uploads/2022/04/medicine-ball-g4e00851d0_1280.jpg
ORGANIZER;CN="AWO B%C3%B6rgerhus":MAILTO:boergerhus@awo-rostock.de
END:VEVENT
BEGIN:VEVENT
DTSTART;TZID=Europe/Berlin:20241106T100000
DTEND;TZID=Europe/Berlin:20241106T110000
DTSTAMP:20260419T224227
CREATED:20230808T110428Z
LAST-MODIFIED:20230808T110428Z
UID:33999-1730887200-1730890800@boergerhus.de
SUMMARY:Bewegung und Entspannung für Senior*innen
DESCRIPTION:draußen oder Bewegungsraum
URL:https://boergerhus.de/event/bewegung-und-entspannung-fuer-seniorinnen/2024-11-06/
ATTACH;FMTTYPE=image/jpeg:https://boergerhus.de/wp-content/uploads/2022/04/medicine-ball-g4e00851d0_1280.jpg
END:VEVENT
BEGIN:VEVENT
DTSTART;TZID=Europe/Berlin:20241113T100000
DTEND;TZID=Europe/Berlin:20241113T110000
DTSTAMP:20260419T224227
CREATED:20220406T080934Z
LAST-MODIFIED:20220406T080934Z
UID:14030-1731492000-1731495600@boergerhus.de
SUMMARY:Bewegung und Entspannung für Senioren - Bewegungsraum
DESCRIPTION:Bewegung + Entspannung für Senioren im Bewegungsraum
URL:https://boergerhus.de/event/bewegung-entspannung-senioren-im-bewegungsraum/2024-11-13/
LOCATION:Börgerhus\, Bewegungsraum
ATTACH;FMTTYPE=image/jpeg:https://boergerhus.de/wp-content/uploads/2022/04/medicine-ball-g4e00851d0_1280.jpg
ORGANIZER;CN="AWO B%C3%B6rgerhus":MAILTO:boergerhus@awo-rostock.de
END:VEVENT
BEGIN:VEVENT
DTSTART;TZID=Europe/Berlin:20241113T100000
DTEND;TZID=Europe/Berlin:20241113T110000
DTSTAMP:20260419T224227
CREATED:20230808T110428Z
LAST-MODIFIED:20230808T110428Z
UID:34000-1731492000-1731495600@boergerhus.de
SUMMARY:Bewegung und Entspannung für Senior*innen
DESCRIPTION:draußen oder Bewegungsraum
URL:https://boergerhus.de/event/bewegung-und-entspannung-fuer-seniorinnen/2024-11-13/
ATTACH;FMTTYPE=image/jpeg:https://boergerhus.de/wp-content/uploads/2022/04/medicine-ball-g4e00851d0_1280.jpg
END:VEVENT
BEGIN:VEVENT
DTSTART;TZID=Europe/Berlin:20241120T100000
DTEND;TZID=Europe/Berlin:20241120T110000
DTSTAMP:20260419T224227
CREATED:20220406T080934Z
LAST-MODIFIED:20220406T080934Z
UID:14071-1732096800-1732100400@boergerhus.de
SUMMARY:Bewegung und Entspannung für Senioren - Bewegungsraum
DESCRIPTION:Bewegung + Entspannung für Senioren im Bewegungsraum
URL:https://boergerhus.de/event/bewegung-entspannung-senioren-im-bewegungsraum/2024-11-20/
LOCATION:Börgerhus\, Bewegungsraum
ATTACH;FMTTYPE=image/jpeg:https://boergerhus.de/wp-content/uploads/2022/04/medicine-ball-g4e00851d0_1280.jpg
ORGANIZER;CN="AWO B%C3%B6rgerhus":MAILTO:boergerhus@awo-rostock.de
END:VEVENT
BEGIN:VEVENT
DTSTART;TZID=Europe/Berlin:20241120T100000
DTEND;TZID=Europe/Berlin:20241120T110000
DTSTAMP:20260419T224227
CREATED:20230808T110428Z
LAST-MODIFIED:20230808T110428Z
UID:34001-1732096800-1732100400@boergerhus.de
SUMMARY:Bewegung und Entspannung für Senior*innen
DESCRIPTION:draußen oder Bewegungsraum
URL:https://boergerhus.de/event/bewegung-und-entspannung-fuer-seniorinnen/2024-11-20/
ATTACH;FMTTYPE=image/jpeg:https://boergerhus.de/wp-content/uploads/2022/04/medicine-ball-g4e00851d0_1280.jpg
END:VEVENT
BEGIN:VEVENT
DTSTART;TZID=Europe/Berlin:20241127T100000
DTEND;TZID=Europe/Berlin:20241127T110000
DTSTAMP:20260419T224227
CREATED:20220406T080934Z
LAST-MODIFIED:20220406T080934Z
UID:14136-1732701600-1732705200@boergerhus.de
SUMMARY:Bewegung und Entspannung für Senioren - Bewegungsraum
DESCRIPTION:Bewegung + Entspannung für Senioren im Bewegungsraum
URL:https://boergerhus.de/event/bewegung-entspannung-senioren-im-bewegungsraum/2024-11-27/
LOCATION:Börgerhus\, Bewegungsraum
ATTACH;FMTTYPE=image/jpeg:https://boergerhus.de/wp-content/uploads/2022/04/medicine-ball-g4e00851d0_1280.jpg
ORGANIZER;CN="AWO B%C3%B6rgerhus":MAILTO:boergerhus@awo-rostock.de
END:VEVENT
BEGIN:VEVENT
DTSTART;TZID=Europe/Berlin:20241127T100000
DTEND;TZID=Europe/Berlin:20241127T110000
DTSTAMP:20260419T224227
CREATED:20230808T110428Z
LAST-MODIFIED:20230808T110428Z
UID:34002-1732701600-1732705200@boergerhus.de
SUMMARY:Bewegung und Entspannung für Senior*innen
DESCRIPTION:draußen oder Bewegungsraum
URL:https://boergerhus.de/event/bewegung-und-entspannung-fuer-seniorinnen/2024-11-27/
ATTACH;FMTTYPE=image/jpeg:https://boergerhus.de/wp-content/uploads/2022/04/medicine-ball-g4e00851d0_1280.jpg
END:VEVENT
BEGIN:VEVENT
DTSTART;TZID=Europe/Berlin:20241204T100000
DTEND;TZID=Europe/Berlin:20241204T110000
DTSTAMP:20260419T224227
CREATED:20220406T080934Z
LAST-MODIFIED:20220406T080934Z
UID:14177-1733306400-1733310000@boergerhus.de
SUMMARY:Bewegung und Entspannung für Senioren - Bewegungsraum
DESCRIPTION:Bewegung + Entspannung für Senioren im Bewegungsraum
URL:https://boergerhus.de/event/bewegung-entspannung-senioren-im-bewegungsraum/2024-12-04/
LOCATION:Börgerhus\, Bewegungsraum
ATTACH;FMTTYPE=image/jpeg:https://boergerhus.de/wp-content/uploads/2022/04/medicine-ball-g4e00851d0_1280.jpg
ORGANIZER;CN="AWO B%C3%B6rgerhus":MAILTO:boergerhus@awo-rostock.de
END:VEVENT
BEGIN:VEVENT
DTSTART;TZID=Europe/Berlin:20241204T100000
DTEND;TZID=Europe/Berlin:20241204T110000
DTSTAMP:20260419T224227
CREATED:20230808T110428Z
LAST-MODIFIED:20230808T110428Z
UID:34003-1733306400-1733310000@boergerhus.de
SUMMARY:Bewegung und Entspannung für Senior*innen
DESCRIPTION:draußen oder Bewegungsraum
URL:https://boergerhus.de/event/bewegung-und-entspannung-fuer-seniorinnen/2024-12-04/
ATTACH;FMTTYPE=image/jpeg:https://boergerhus.de/wp-content/uploads/2022/04/medicine-ball-g4e00851d0_1280.jpg
END:VEVENT
BEGIN:VEVENT
DTSTART;TZID=Europe/Berlin:20241211T100000
DTEND;TZID=Europe/Berlin:20241211T110000
DTSTAMP:20260419T224227
CREATED:20220406T080934Z
LAST-MODIFIED:20220406T080934Z
UID:14221-1733911200-1733914800@boergerhus.de
SUMMARY:Bewegung und Entspannung für Senioren - Bewegungsraum
DESCRIPTION:Bewegung + Entspannung für Senioren im Bewegungsraum
URL:https://boergerhus.de/event/bewegung-entspannung-senioren-im-bewegungsraum/2024-12-11/
LOCATION:Börgerhus\, Bewegungsraum
ATTACH;FMTTYPE=image/jpeg:https://boergerhus.de/wp-content/uploads/2022/04/medicine-ball-g4e00851d0_1280.jpg
ORGANIZER;CN="AWO B%C3%B6rgerhus":MAILTO:boergerhus@awo-rostock.de
END:VEVENT
BEGIN:VEVENT
DTSTART;TZID=Europe/Berlin:20241211T100000
DTEND;TZID=Europe/Berlin:20241211T110000
DTSTAMP:20260419T224227
CREATED:20230808T110428Z
LAST-MODIFIED:20230808T110428Z
UID:34004-1733911200-1733914800@boergerhus.de
SUMMARY:Bewegung und Entspannung für Senior*innen
DESCRIPTION:draußen oder Bewegungsraum
URL:https://boergerhus.de/event/bewegung-und-entspannung-fuer-seniorinnen/2024-12-11/
ATTACH;FMTTYPE=image/jpeg:https://boergerhus.de/wp-content/uploads/2022/04/medicine-ball-g4e00851d0_1280.jpg
END:VEVENT
BEGIN:VEVENT
DTSTART;TZID=Europe/Berlin:20241218T100000
DTEND;TZID=Europe/Berlin:20241218T110000
DTSTAMP:20260419T224228
CREATED:20220406T080934Z
LAST-MODIFIED:20220406T080934Z
UID:14258-1734516000-1734519600@boergerhus.de
SUMMARY:Bewegung und Entspannung für Senioren - Bewegungsraum
DESCRIPTION:Bewegung + Entspannung für Senioren im Bewegungsraum
URL:https://boergerhus.de/event/bewegung-entspannung-senioren-im-bewegungsraum/2024-12-18/
LOCATION:Börgerhus\, Bewegungsraum
ATTACH;FMTTYPE=image/jpeg:https://boergerhus.de/wp-content/uploads/2022/04/medicine-ball-g4e00851d0_1280.jpg
ORGANIZER;CN="AWO B%C3%B6rgerhus":MAILTO:boergerhus@awo-rostock.de
END:VEVENT
BEGIN:VEVENT
DTSTART;TZID=Europe/Berlin:20241218T100000
DTEND;TZID=Europe/Berlin:20241218T110000
DTSTAMP:20260419T224228
CREATED:20230808T110428Z
LAST-MODIFIED:20230808T110428Z
UID:34005-1734516000-1734519600@boergerhus.de
SUMMARY:Bewegung und Entspannung für Senior*innen
DESCRIPTION:draußen oder Bewegungsraum
URL:https://boergerhus.de/event/bewegung-und-entspannung-fuer-seniorinnen/2024-12-18/
ATTACH;FMTTYPE=image/jpeg:https://boergerhus.de/wp-content/uploads/2022/04/medicine-ball-g4e00851d0_1280.jpg
END:VEVENT
BEGIN:VEVENT
DTSTART;TZID=Europe/Berlin:20241225T100000
DTEND;TZID=Europe/Berlin:20241225T110000
DTSTAMP:20260419T224228
CREATED:20220406T080934Z
LAST-MODIFIED:20220406T080934Z
UID:14298-1735120800-1735124400@boergerhus.de
SUMMARY:Bewegung und Entspannung für Senioren - Bewegungsraum
DESCRIPTION:Bewegung + Entspannung für Senioren im Bewegungsraum
URL:https://boergerhus.de/event/bewegung-entspannung-senioren-im-bewegungsraum/2024-12-25/
LOCATION:Börgerhus\, Bewegungsraum
ATTACH;FMTTYPE=image/jpeg:https://boergerhus.de/wp-content/uploads/2022/04/medicine-ball-g4e00851d0_1280.jpg
ORGANIZER;CN="AWO B%C3%B6rgerhus":MAILTO:boergerhus@awo-rostock.de
END:VEVENT
BEGIN:VEVENT
DTSTART;TZID=Europe/Berlin:20241225T100000
DTEND;TZID=Europe/Berlin:20241225T110000
DTSTAMP:20260419T224228
CREATED:20230808T110428Z
LAST-MODIFIED:20230808T110428Z
UID:34006-1735120800-1735124400@boergerhus.de
SUMMARY:Bewegung und Entspannung für Senior*innen
DESCRIPTION:draußen oder Bewegungsraum
URL:https://boergerhus.de/event/bewegung-und-entspannung-fuer-seniorinnen/2024-12-25/
ATTACH;FMTTYPE=image/jpeg:https://boergerhus.de/wp-content/uploads/2022/04/medicine-ball-g4e00851d0_1280.jpg
END:VEVENT
BEGIN:VEVENT
DTSTART;TZID=Europe/Berlin:20250101T100000
DTEND;TZID=Europe/Berlin:20250101T110000
DTSTAMP:20260419T224228
CREATED:20220406T080934Z
LAST-MODIFIED:20220406T080934Z
UID:14332-1735725600-1735729200@boergerhus.de
SUMMARY:Bewegung und Entspannung für Senioren - Bewegungsraum
DESCRIPTION:Bewegung + Entspannung für Senioren im Bewegungsraum
URL:https://boergerhus.de/event/bewegung-entspannung-senioren-im-bewegungsraum/2025-01-01/
LOCATION:Börgerhus\, Bewegungsraum
ATTACH;FMTTYPE=image/jpeg:https://boergerhus.de/wp-content/uploads/2022/04/medicine-ball-g4e00851d0_1280.jpg
ORGANIZER;CN="AWO B%C3%B6rgerhus":MAILTO:boergerhus@awo-rostock.de
END:VEVENT
BEGIN:VEVENT
DTSTART;TZID=Europe/Berlin:20250101T100000
DTEND;TZID=Europe/Berlin:20250101T110000
DTSTAMP:20260419T224228
CREATED:20230808T110428Z
LAST-MODIFIED:20230808T110428Z
UID:34007-1735725600-1735729200@boergerhus.de
SUMMARY:Bewegung und Entspannung für Senior*innen
DESCRIPTION:draußen oder Bewegungsraum
URL:https://boergerhus.de/event/bewegung-und-entspannung-fuer-seniorinnen/2025-01-01/
ATTACH;FMTTYPE=image/jpeg:https://boergerhus.de/wp-content/uploads/2022/04/medicine-ball-g4e00851d0_1280.jpg
END:VEVENT
BEGIN:VEVENT
DTSTART;TZID=Europe/Berlin:20250108T100000
DTEND;TZID=Europe/Berlin:20250108T110000
DTSTAMP:20260419T224228
CREATED:20220406T080934Z
LAST-MODIFIED:20220406T080934Z
UID:14452-1736330400-1736334000@boergerhus.de
SUMMARY:Bewegung und Entspannung für Senioren - Bewegungsraum
DESCRIPTION:Bewegung + Entspannung für Senioren im Bewegungsraum
URL:https://boergerhus.de/event/bewegung-entspannung-senioren-im-bewegungsraum/2025-01-08/
LOCATION:Börgerhus\, Bewegungsraum
ATTACH;FMTTYPE=image/jpeg:https://boergerhus.de/wp-content/uploads/2022/04/medicine-ball-g4e00851d0_1280.jpg
ORGANIZER;CN="AWO B%C3%B6rgerhus":MAILTO:boergerhus@awo-rostock.de
END:VEVENT
BEGIN:VEVENT
DTSTART;TZID=Europe/Berlin:20250108T100000
DTEND;TZID=Europe/Berlin:20250108T110000
DTSTAMP:20260419T224228
CREATED:20230808T110428Z
LAST-MODIFIED:20230808T110428Z
UID:34008-1736330400-1736334000@boergerhus.de
SUMMARY:Bewegung und Entspannung für Senior*innen
DESCRIPTION:draußen oder Bewegungsraum
URL:https://boergerhus.de/event/bewegung-und-entspannung-fuer-seniorinnen/2025-01-08/
ATTACH;FMTTYPE=image/jpeg:https://boergerhus.de/wp-content/uploads/2022/04/medicine-ball-g4e00851d0_1280.jpg
END:VEVENT
BEGIN:VEVENT
DTSTART;TZID=Europe/Berlin:20250115T100000
DTEND;TZID=Europe/Berlin:20250115T110000
DTSTAMP:20260419T224228
CREATED:20220406T080934Z
LAST-MODIFIED:20220406T080934Z
UID:14524-1736935200-1736938800@boergerhus.de
SUMMARY:Bewegung und Entspannung für Senioren - Bewegungsraum
DESCRIPTION:Bewegung + Entspannung für Senioren im Bewegungsraum
URL:https://boergerhus.de/event/bewegung-entspannung-senioren-im-bewegungsraum/2025-01-15/
LOCATION:Börgerhus\, Bewegungsraum
ATTACH;FMTTYPE=image/jpeg:https://boergerhus.de/wp-content/uploads/2022/04/medicine-ball-g4e00851d0_1280.jpg
ORGANIZER;CN="AWO B%C3%B6rgerhus":MAILTO:boergerhus@awo-rostock.de
END:VEVENT
BEGIN:VEVENT
DTSTART;TZID=Europe/Berlin:20250115T100000
DTEND;TZID=Europe/Berlin:20250115T110000
DTSTAMP:20260419T224228
CREATED:20230808T110428Z
LAST-MODIFIED:20230808T110428Z
UID:34009-1736935200-1736938800@boergerhus.de
SUMMARY:Bewegung und Entspannung für Senior*innen
DESCRIPTION:draußen oder Bewegungsraum
URL:https://boergerhus.de/event/bewegung-und-entspannung-fuer-seniorinnen/2025-01-15/
ATTACH;FMTTYPE=image/jpeg:https://boergerhus.de/wp-content/uploads/2022/04/medicine-ball-g4e00851d0_1280.jpg
END:VEVENT
BEGIN:VEVENT
DTSTART;TZID=Europe/Berlin:20250122T100000
DTEND;TZID=Europe/Berlin:20250122T110000
DTSTAMP:20260419T224228
CREATED:20220406T080934Z
LAST-MODIFIED:20220406T080934Z
UID:14569-1737540000-1737543600@boergerhus.de
SUMMARY:Bewegung und Entspannung für Senioren - Bewegungsraum
DESCRIPTION:Bewegung + Entspannung für Senioren im Bewegungsraum
URL:https://boergerhus.de/event/bewegung-entspannung-senioren-im-bewegungsraum/2025-01-22/
LOCATION:Börgerhus\, Bewegungsraum
ATTACH;FMTTYPE=image/jpeg:https://boergerhus.de/wp-content/uploads/2022/04/medicine-ball-g4e00851d0_1280.jpg
ORGANIZER;CN="AWO B%C3%B6rgerhus":MAILTO:boergerhus@awo-rostock.de
END:VEVENT
BEGIN:VEVENT
DTSTART;TZID=Europe/Berlin:20250122T100000
DTEND;TZID=Europe/Berlin:20250122T110000
DTSTAMP:20260419T224228
CREATED:20230808T110428Z
LAST-MODIFIED:20230808T110428Z
UID:34010-1737540000-1737543600@boergerhus.de
SUMMARY:Bewegung und Entspannung für Senior*innen
DESCRIPTION:draußen oder Bewegungsraum
URL:https://boergerhus.de/event/bewegung-und-entspannung-fuer-seniorinnen/2025-01-22/
ATTACH;FMTTYPE=image/jpeg:https://boergerhus.de/wp-content/uploads/2022/04/medicine-ball-g4e00851d0_1280.jpg
END:VEVENT
BEGIN:VEVENT
DTSTART;TZID=Europe/Berlin:20250129T100000
DTEND;TZID=Europe/Berlin:20250129T110000
DTSTAMP:20260419T224228
CREATED:20220406T080934Z
LAST-MODIFIED:20220406T080934Z
UID:15082-1738144800-1738148400@boergerhus.de
SUMMARY:Bewegung und Entspannung für Senioren - Bewegungsraum
DESCRIPTION:Bewegung + Entspannung für Senioren im Bewegungsraum
URL:https://boergerhus.de/event/bewegung-entspannung-senioren-im-bewegungsraum/2025-01-29/
LOCATION:Börgerhus\, Bewegungsraum
ATTACH;FMTTYPE=image/jpeg:https://boergerhus.de/wp-content/uploads/2022/04/medicine-ball-g4e00851d0_1280.jpg
ORGANIZER;CN="AWO B%C3%B6rgerhus":MAILTO:boergerhus@awo-rostock.de
END:VEVENT
BEGIN:VEVENT
DTSTART;TZID=Europe/Berlin:20250129T100000
DTEND;TZID=Europe/Berlin:20250129T110000
DTSTAMP:20260419T224228
CREATED:20230808T110428Z
LAST-MODIFIED:20230808T110428Z
UID:34011-1738144800-1738148400@boergerhus.de
SUMMARY:Bewegung und Entspannung für Senior*innen
DESCRIPTION:draußen oder Bewegungsraum
URL:https://boergerhus.de/event/bewegung-und-entspannung-fuer-seniorinnen/2025-01-29/
ATTACH;FMTTYPE=image/jpeg:https://boergerhus.de/wp-content/uploads/2022/04/medicine-ball-g4e00851d0_1280.jpg
END:VEVENT
BEGIN:VEVENT
DTSTART;TZID=Europe/Berlin:20250203T100500
DTEND;TZID=Europe/Berlin:20250203T110500
DTSTAMP:20260419T224228
CREATED:20250203T153003Z
LAST-MODIFIED:20250203T153003Z
UID:27646-1738577100-1738580700@boergerhus.de
SUMMARY:Gymnastik für Alle
DESCRIPTION:im Bewegungsraum\nKursleitung: Nadine Kühne\nKosten: ja\nAnmeldung über Kursleitung
URL:https://boergerhus.de/event/gymnastik-fuer-alle/2025-02-03/
ATTACH;FMTTYPE=image/jpeg:https://boergerhus.de/wp-content/uploads/2022/04/medicine-ball-g4e00851d0_1280.jpg
END:VEVENT
BEGIN:VEVENT
DTSTART;TZID=Europe/Berlin:20250203T160000
DTEND;TZID=Europe/Berlin:20250203T170000
DTSTAMP:20260419T224228
CREATED:20250203T154001Z
LAST-MODIFIED:20250805T150512Z
UID:27941-1738598400-1738602000@boergerhus.de
SUMMARY:Fit und beweglich im Alltag
DESCRIPTION:im Bewegungsraum\nKursleitung: Herr Wolff\nKosten: ja\nAnmeldung über Kursleitung
URL:https://boergerhus.de/event/fit-und-beweglich-im-alltag-2/2025-02-03/
ATTACH;FMTTYPE=image/jpeg:https://boergerhus.de/wp-content/uploads/2022/04/medicine-ball-g4e00851d0_1280.jpg
END:VEVENT
BEGIN:VEVENT
DTSTART;TZID=Europe/Berlin:20250205T100000
DTEND;TZID=Europe/Berlin:20250205T110000
DTSTAMP:20260419T224228
CREATED:20220406T080934Z
LAST-MODIFIED:20220406T080934Z
UID:15119-1738749600-1738753200@boergerhus.de
SUMMARY:Bewegung und Entspannung für Senioren - Bewegungsraum
DESCRIPTION:Bewegung + Entspannung für Senioren im Bewegungsraum
URL:https://boergerhus.de/event/bewegung-entspannung-senioren-im-bewegungsraum/2025-02-05/
LOCATION:Börgerhus\, Bewegungsraum
ATTACH;FMTTYPE=image/jpeg:https://boergerhus.de/wp-content/uploads/2022/04/medicine-ball-g4e00851d0_1280.jpg
ORGANIZER;CN="AWO B%C3%B6rgerhus":MAILTO:boergerhus@awo-rostock.de
END:VEVENT
BEGIN:VEVENT
DTSTART;TZID=Europe/Berlin:20250205T100000
DTEND;TZID=Europe/Berlin:20250205T110000
DTSTAMP:20260419T224228
CREATED:20230808T110428Z
LAST-MODIFIED:20230808T110428Z
UID:34012-1738749600-1738753200@boergerhus.de
SUMMARY:Bewegung und Entspannung für Senior*innen
DESCRIPTION:draußen oder Bewegungsraum
URL:https://boergerhus.de/event/bewegung-und-entspannung-fuer-seniorinnen/2025-02-05/
ATTACH;FMTTYPE=image/jpeg:https://boergerhus.de/wp-content/uploads/2022/04/medicine-ball-g4e00851d0_1280.jpg
END:VEVENT
END:VCALENDAR