BEGIN:VCALENDAR
VERSION:2.0
PRODID:-//Börgerhus Rostock - Stadtteil- und Begegnungszentrum Groß Klein - ECPv6.15.20//NONSGML v1.0//EN
CALSCALE:GREGORIAN
METHOD:PUBLISH
X-WR-CALNAME:Börgerhus Rostock - Stadtteil- und Begegnungszentrum Groß Klein
X-ORIGINAL-URL:https://boergerhus.de
X-WR-CALDESC:Veranstaltungen für Börgerhus Rostock - Stadtteil- und Begegnungszentrum Groß Klein
REFRESH-INTERVAL;VALUE=DURATION:PT1H
X-Robots-Tag:noindex
X-PUBLISHED-TTL:PT1H
BEGIN:VTIMEZONE
TZID:Europe/Berlin
BEGIN:DAYLIGHT
TZOFFSETFROM:+0100
TZOFFSETTO:+0200
TZNAME:CEST
DTSTART:20260329T010000
END:DAYLIGHT
BEGIN:STANDARD
TZOFFSETFROM:+0200
TZOFFSETTO:+0100
TZNAME:CET
DTSTART:20261025T010000
END:STANDARD
BEGIN:DAYLIGHT
TZOFFSETFROM:+0100
TZOFFSETTO:+0200
TZNAME:CEST
DTSTART:20270328T010000
END:DAYLIGHT
BEGIN:STANDARD
TZOFFSETFROM:+0200
TZOFFSETTO:+0100
TZNAME:CET
DTSTART:20271031T010000
END:STANDARD
BEGIN:DAYLIGHT
TZOFFSETFROM:+0100
TZOFFSETTO:+0200
TZNAME:CEST
DTSTART:20280326T010000
END:DAYLIGHT
BEGIN:STANDARD
TZOFFSETFROM:+0200
TZOFFSETTO:+0100
TZNAME:CET
DTSTART:20281029T010000
END:STANDARD
END:VTIMEZONE
BEGIN:VEVENT
DTSTART;TZID=Europe/Berlin:20271007T160000
DTEND;TZID=Europe/Berlin:20271007T170000
DTSTAMP:20260420T164246
CREATED:20220915T100011Z
LAST-MODIFIED:20220915T100011Z
UID:32581-1822924800-1822928400@boergerhus.de
SUMMARY:Fit und beweglich im Alltag
DESCRIPTION:Angebot von Herrn Wolff \nim Bewegungsraum \n5€/Termin
URL:https://boergerhus.de/event/fit-und-beweglich-im-alltag/2027-10-07/
ATTACH;FMTTYPE=image/jpeg:https://boergerhus.de/wp-content/uploads/2022/04/medicine-ball-g4e00851d0_1280.jpg
END:VEVENT
BEGIN:VEVENT
DTSTART;TZID=Europe/Berlin:20271014T160000
DTEND;TZID=Europe/Berlin:20271014T170000
DTSTAMP:20260420T164246
CREATED:20220915T100011Z
LAST-MODIFIED:20220915T100011Z
UID:32668-1823529600-1823533200@boergerhus.de
SUMMARY:Fit und beweglich im Alltag
DESCRIPTION:Angebot von Herrn Wolff \nim Bewegungsraum \n5€/Termin
URL:https://boergerhus.de/event/fit-und-beweglich-im-alltag/2027-10-14/
ATTACH;FMTTYPE=image/jpeg:https://boergerhus.de/wp-content/uploads/2022/04/medicine-ball-g4e00851d0_1280.jpg
END:VEVENT
BEGIN:VEVENT
DTSTART;TZID=Europe/Berlin:20271021T160000
DTEND;TZID=Europe/Berlin:20271021T170000
DTSTAMP:20260420T164246
CREATED:20220915T100011Z
LAST-MODIFIED:20220915T100011Z
UID:32724-1824134400-1824138000@boergerhus.de
SUMMARY:Fit und beweglich im Alltag
DESCRIPTION:Angebot von Herrn Wolff \nim Bewegungsraum \n5€/Termin
URL:https://boergerhus.de/event/fit-und-beweglich-im-alltag/2027-10-21/
ATTACH;FMTTYPE=image/jpeg:https://boergerhus.de/wp-content/uploads/2022/04/medicine-ball-g4e00851d0_1280.jpg
END:VEVENT
BEGIN:VEVENT
DTSTART;TZID=Europe/Berlin:20271028T160000
DTEND;TZID=Europe/Berlin:20271028T170000
DTSTAMP:20260420T164246
CREATED:20220915T100011Z
LAST-MODIFIED:20220915T100011Z
UID:32771-1824739200-1824742800@boergerhus.de
SUMMARY:Fit und beweglich im Alltag
DESCRIPTION:Angebot von Herrn Wolff \nim Bewegungsraum \n5€/Termin
URL:https://boergerhus.de/event/fit-und-beweglich-im-alltag/2027-10-28/
ATTACH;FMTTYPE=image/jpeg:https://boergerhus.de/wp-content/uploads/2022/04/medicine-ball-g4e00851d0_1280.jpg
END:VEVENT
END:VCALENDAR