BEGIN:VCALENDAR
VERSION:2.0
PRODID:-//Börgerhus Rostock - Stadtteil- und Begegnungszentrum Groß Klein - ECPv6.15.20//NONSGML v1.0//EN
CALSCALE:GREGORIAN
METHOD:PUBLISH
X-ORIGINAL-URL:https://boergerhus.de
X-WR-CALDESC:Veranstaltungen für Börgerhus Rostock - Stadtteil- und Begegnungszentrum Groß Klein
REFRESH-INTERVAL;VALUE=DURATION:PT1H
X-Robots-Tag:noindex
X-PUBLISHED-TTL:PT1H
BEGIN:VTIMEZONE
TZID:Europe/Berlin
BEGIN:DAYLIGHT
TZOFFSETFROM:+0100
TZOFFSETTO:+0200
TZNAME:CEST
DTSTART:20260329T010000
END:DAYLIGHT
BEGIN:STANDARD
TZOFFSETFROM:+0200
TZOFFSETTO:+0100
TZNAME:CET
DTSTART:20261025T010000
END:STANDARD
BEGIN:DAYLIGHT
TZOFFSETFROM:+0100
TZOFFSETTO:+0200
TZNAME:CEST
DTSTART:20270328T010000
END:DAYLIGHT
BEGIN:STANDARD
TZOFFSETFROM:+0200
TZOFFSETTO:+0100
TZNAME:CET
DTSTART:20271031T010000
END:STANDARD
BEGIN:DAYLIGHT
TZOFFSETFROM:+0100
TZOFFSETTO:+0200
TZNAME:CEST
DTSTART:20280326T010000
END:DAYLIGHT
BEGIN:STANDARD
TZOFFSETFROM:+0200
TZOFFSETTO:+0100
TZNAME:CET
DTSTART:20281029T010000
END:STANDARD
END:VTIMEZONE
BEGIN:VEVENT
DTSTART;TZID=Europe/Berlin:20270805T150000
DTEND;TZID=Europe/Berlin:20270805T163000
DTSTAMP:20260419T231955
CREATED:20240802T080555Z
LAST-MODIFIED:20240802T080555Z
UID:32069-1817478000-1817483400@boergerhus.de
SUMMARY:Rap and Beats im "224"
DESCRIPTION:Songwriting mit Tino Bartos \noffenes Angebot für Kinder und Jugendliche \ndas Angebot findet nicht während der Ferienzeiten statt
URL:https://boergerhus.de/event/rap-and-beats-im-224/2027-08-05/
ATTACH;FMTTYPE=image/png:https://boergerhus.de/wp-content/uploads/2023/12/Vorlage-Header-mit-Logo-Boergerhus_JZ224.png
END:VEVENT
BEGIN:VEVENT
DTSTART;TZID=Europe/Berlin:20270812T150000
DTEND;TZID=Europe/Berlin:20270812T163000
DTSTAMP:20260419T231955
CREATED:20240802T080555Z
LAST-MODIFIED:20240802T080555Z
UID:32121-1818082800-1818088200@boergerhus.de
SUMMARY:Rap and Beats im "224"
DESCRIPTION:Songwriting mit Tino Bartos \noffenes Angebot für Kinder und Jugendliche \ndas Angebot findet nicht während der Ferienzeiten statt
URL:https://boergerhus.de/event/rap-and-beats-im-224/2027-08-12/
ATTACH;FMTTYPE=image/png:https://boergerhus.de/wp-content/uploads/2023/12/Vorlage-Header-mit-Logo-Boergerhus_JZ224.png
END:VEVENT
BEGIN:VEVENT
DTSTART;TZID=Europe/Berlin:20270819T150000
DTEND;TZID=Europe/Berlin:20270819T163000
DTSTAMP:20260419T231955
CREATED:20240802T080555Z
LAST-MODIFIED:20240802T080555Z
UID:32183-1818687600-1818693000@boergerhus.de
SUMMARY:Rap and Beats im "224"
DESCRIPTION:Songwriting mit Tino Bartos \noffenes Angebot für Kinder und Jugendliche \ndas Angebot findet nicht während der Ferienzeiten statt
URL:https://boergerhus.de/event/rap-and-beats-im-224/2027-08-19/
ATTACH;FMTTYPE=image/png:https://boergerhus.de/wp-content/uploads/2023/12/Vorlage-Header-mit-Logo-Boergerhus_JZ224.png
END:VEVENT
BEGIN:VEVENT
DTSTART;TZID=Europe/Berlin:20270826T150000
DTEND;TZID=Europe/Berlin:20270826T163000
DTSTAMP:20260419T231955
CREATED:20240802T080555Z
LAST-MODIFIED:20240802T080555Z
UID:32236-1819292400-1819297800@boergerhus.de
SUMMARY:Rap and Beats im "224"
DESCRIPTION:Songwriting mit Tino Bartos \noffenes Angebot für Kinder und Jugendliche \ndas Angebot findet nicht während der Ferienzeiten statt
URL:https://boergerhus.de/event/rap-and-beats-im-224/2027-08-26/
ATTACH;FMTTYPE=image/png:https://boergerhus.de/wp-content/uploads/2023/12/Vorlage-Header-mit-Logo-Boergerhus_JZ224.png
END:VEVENT
END:VCALENDAR