BEGIN:VCALENDAR
VERSION:2.0
PRODID:-//Börgerhus Rostock - Stadtteil- und Begegnungszentrum Groß Klein - ECPv6.15.20//NONSGML v1.0//EN
CALSCALE:GREGORIAN
METHOD:PUBLISH
X-ORIGINAL-URL:https://boergerhus.de
X-WR-CALDESC:Veranstaltungen für Börgerhus Rostock - Stadtteil- und Begegnungszentrum Groß Klein
REFRESH-INTERVAL;VALUE=DURATION:PT1H
X-Robots-Tag:noindex
X-PUBLISHED-TTL:PT1H
BEGIN:VTIMEZONE
TZID:Europe/Berlin
BEGIN:DAYLIGHT
TZOFFSETFROM:+0100
TZOFFSETTO:+0200
TZNAME:CEST
DTSTART:20230326T010000
END:DAYLIGHT
BEGIN:STANDARD
TZOFFSETFROM:+0200
TZOFFSETTO:+0100
TZNAME:CET
DTSTART:20231029T010000
END:STANDARD
BEGIN:DAYLIGHT
TZOFFSETFROM:+0100
TZOFFSETTO:+0200
TZNAME:CEST
DTSTART:20240331T010000
END:DAYLIGHT
BEGIN:STANDARD
TZOFFSETFROM:+0200
TZOFFSETTO:+0100
TZNAME:CET
DTSTART:20241027T010000
END:STANDARD
BEGIN:DAYLIGHT
TZOFFSETFROM:+0100
TZOFFSETTO:+0200
TZNAME:CEST
DTSTART:20250330T010000
END:DAYLIGHT
BEGIN:STANDARD
TZOFFSETFROM:+0200
TZOFFSETTO:+0100
TZNAME:CET
DTSTART:20251026T010000
END:STANDARD
END:VTIMEZONE
BEGIN:VEVENT
DTSTART;TZID=Europe/Berlin:20241003T150000
DTEND;TZID=Europe/Berlin:20241003T163000
DTSTAMP:20260421T032836
CREATED:20240802T080555Z
LAST-MODIFIED:20240802T080555Z
UID:24587-1727967600-1727973000@boergerhus.de
SUMMARY:Rap and Beats im "224"
DESCRIPTION:Songwriting mit Tino Bartos \noffenes Angebot für Kinder und Jugendliche \ndas Angebot findet nicht während der Ferienzeiten statt
URL:https://boergerhus.de/event/rap-and-beats-im-224/2024-10-03/
ATTACH;FMTTYPE=image/png:https://boergerhus.de/wp-content/uploads/2023/12/Vorlage-Header-mit-Logo-Boergerhus_JZ224.png
END:VEVENT
BEGIN:VEVENT
DTSTART;TZID=Europe/Berlin:20241010T150000
DTEND;TZID=Europe/Berlin:20241010T163000
DTSTAMP:20260421T032836
CREATED:20240802T080555Z
LAST-MODIFIED:20240802T080555Z
UID:24588-1728572400-1728577800@boergerhus.de
SUMMARY:Rap and Beats im "224"
DESCRIPTION:Songwriting mit Tino Bartos \noffenes Angebot für Kinder und Jugendliche \ndas Angebot findet nicht während der Ferienzeiten statt
URL:https://boergerhus.de/event/rap-and-beats-im-224/2024-10-10/
ATTACH;FMTTYPE=image/png:https://boergerhus.de/wp-content/uploads/2023/12/Vorlage-Header-mit-Logo-Boergerhus_JZ224.png
END:VEVENT
BEGIN:VEVENT
DTSTART;TZID=Europe/Berlin:20241017T150000
DTEND;TZID=Europe/Berlin:20241017T163000
DTSTAMP:20260421T032836
CREATED:20240802T080555Z
LAST-MODIFIED:20240802T080555Z
UID:24589-1729177200-1729182600@boergerhus.de
SUMMARY:Rap and Beats im "224"
DESCRIPTION:Songwriting mit Tino Bartos \noffenes Angebot für Kinder und Jugendliche \ndas Angebot findet nicht während der Ferienzeiten statt
URL:https://boergerhus.de/event/rap-and-beats-im-224/2024-10-17/
ATTACH;FMTTYPE=image/png:https://boergerhus.de/wp-content/uploads/2023/12/Vorlage-Header-mit-Logo-Boergerhus_JZ224.png
END:VEVENT
BEGIN:VEVENT
DTSTART;TZID=Europe/Berlin:20241024T150000
DTEND;TZID=Europe/Berlin:20241024T163000
DTSTAMP:20260421T032836
CREATED:20240802T080555Z
LAST-MODIFIED:20240802T080555Z
UID:24591-1729782000-1729787400@boergerhus.de
SUMMARY:Rap and Beats im "224"
DESCRIPTION:Songwriting mit Tino Bartos \noffenes Angebot für Kinder und Jugendliche \ndas Angebot findet nicht während der Ferienzeiten statt
URL:https://boergerhus.de/event/rap-and-beats-im-224/2024-10-24/
ATTACH;FMTTYPE=image/png:https://boergerhus.de/wp-content/uploads/2023/12/Vorlage-Header-mit-Logo-Boergerhus_JZ224.png
END:VEVENT
BEGIN:VEVENT
DTSTART;TZID=Europe/Berlin:20241031T150000
DTEND;TZID=Europe/Berlin:20241031T163000
DTSTAMP:20260421T032836
CREATED:20240802T080555Z
LAST-MODIFIED:20240802T080555Z
UID:24592-1730386800-1730392200@boergerhus.de
SUMMARY:Rap and Beats im "224"
DESCRIPTION:Songwriting mit Tino Bartos \noffenes Angebot für Kinder und Jugendliche \ndas Angebot findet nicht während der Ferienzeiten statt
URL:https://boergerhus.de/event/rap-and-beats-im-224/2024-10-31/
ATTACH;FMTTYPE=image/png:https://boergerhus.de/wp-content/uploads/2023/12/Vorlage-Header-mit-Logo-Boergerhus_JZ224.png
END:VEVENT
END:VCALENDAR