BEGIN:VCALENDAR
VERSION:2.0
PRODID:-//Börgerhus Rostock - Stadtteil- und Begegnungszentrum Groß Klein - ECPv6.15.20//NONSGML v1.0//EN
CALSCALE:GREGORIAN
METHOD:PUBLISH
X-ORIGINAL-URL:https://boergerhus.de
X-WR-CALDESC:Veranstaltungen für Börgerhus Rostock - Stadtteil- und Begegnungszentrum Groß Klein
REFRESH-INTERVAL;VALUE=DURATION:PT1H
X-Robots-Tag:noindex
X-PUBLISHED-TTL:PT1H
BEGIN:VTIMEZONE
TZID:Europe/Berlin
BEGIN:DAYLIGHT
TZOFFSETFROM:+0100
TZOFFSETTO:+0200
TZNAME:CEST
DTSTART:20260329T010000
END:DAYLIGHT
BEGIN:STANDARD
TZOFFSETFROM:+0200
TZOFFSETTO:+0100
TZNAME:CET
DTSTART:20261025T010000
END:STANDARD
BEGIN:DAYLIGHT
TZOFFSETFROM:+0100
TZOFFSETTO:+0200
TZNAME:CEST
DTSTART:20270328T010000
END:DAYLIGHT
BEGIN:STANDARD
TZOFFSETFROM:+0200
TZOFFSETTO:+0100
TZNAME:CET
DTSTART:20271031T010000
END:STANDARD
BEGIN:DAYLIGHT
TZOFFSETFROM:+0100
TZOFFSETTO:+0200
TZNAME:CEST
DTSTART:20280326T010000
END:DAYLIGHT
BEGIN:STANDARD
TZOFFSETFROM:+0200
TZOFFSETTO:+0100
TZNAME:CET
DTSTART:20281029T010000
END:STANDARD
END:VTIMEZONE
BEGIN:VEVENT
DTSTART;TZID=Europe/Berlin:20270503T171500
DTEND;TZID=Europe/Berlin:20270503T181500
DTSTAMP:20260423T143332
CREATED:20250203T154001Z
LAST-MODIFIED:20250203T154001Z
UID:29907-1809364500-1809368100@boergerhus.de
SUMMARY:Fit und beweglich im Alltag
DESCRIPTION:im Bewegungsraum\nKursleitung: Herr Wolff\nKosten: ja\nAnmeldung über Kursleitung
URL:https://boergerhus.de/event/fit-und-beweglich-im-alltag-2/2027-05-03/
ATTACH;FMTTYPE=image/jpeg:https://boergerhus.de/wp-content/uploads/2022/04/medicine-ball-g4e00851d0_1280.jpg
END:VEVENT
BEGIN:VEVENT
DTSTART;TZID=Europe/Berlin:20270510T171500
DTEND;TZID=Europe/Berlin:20270510T181500
DTSTAMP:20260423T143332
CREATED:20250203T154001Z
LAST-MODIFIED:20250203T154001Z
UID:29948-1809969300-1809972900@boergerhus.de
SUMMARY:Fit und beweglich im Alltag
DESCRIPTION:im Bewegungsraum\nKursleitung: Herr Wolff\nKosten: ja\nAnmeldung über Kursleitung
URL:https://boergerhus.de/event/fit-und-beweglich-im-alltag-2/2027-05-10/
ATTACH;FMTTYPE=image/jpeg:https://boergerhus.de/wp-content/uploads/2022/04/medicine-ball-g4e00851d0_1280.jpg
END:VEVENT
BEGIN:VEVENT
DTSTART;TZID=Europe/Berlin:20270517T171500
DTEND;TZID=Europe/Berlin:20270517T181500
DTSTAMP:20260423T143332
CREATED:20250203T154001Z
LAST-MODIFIED:20250203T154001Z
UID:29998-1810574100-1810577700@boergerhus.de
SUMMARY:Fit und beweglich im Alltag
DESCRIPTION:im Bewegungsraum\nKursleitung: Herr Wolff\nKosten: ja\nAnmeldung über Kursleitung
URL:https://boergerhus.de/event/fit-und-beweglich-im-alltag-2/2027-05-17/
ATTACH;FMTTYPE=image/jpeg:https://boergerhus.de/wp-content/uploads/2022/04/medicine-ball-g4e00851d0_1280.jpg
END:VEVENT
BEGIN:VEVENT
DTSTART;TZID=Europe/Berlin:20270524T171500
DTEND;TZID=Europe/Berlin:20270524T181500
DTSTAMP:20260423T143332
CREATED:20250203T154001Z
LAST-MODIFIED:20250203T154001Z
UID:30068-1811178900-1811182500@boergerhus.de
SUMMARY:Fit und beweglich im Alltag
DESCRIPTION:im Bewegungsraum\nKursleitung: Herr Wolff\nKosten: ja\nAnmeldung über Kursleitung
URL:https://boergerhus.de/event/fit-und-beweglich-im-alltag-2/2027-05-24/
ATTACH;FMTTYPE=image/jpeg:https://boergerhus.de/wp-content/uploads/2022/04/medicine-ball-g4e00851d0_1280.jpg
END:VEVENT
BEGIN:VEVENT
DTSTART;TZID=Europe/Berlin:20270531T171500
DTEND;TZID=Europe/Berlin:20270531T181500
DTSTAMP:20260423T143332
CREATED:20250203T154001Z
LAST-MODIFIED:20250203T154001Z
UID:30125-1811783700-1811787300@boergerhus.de
SUMMARY:Fit und beweglich im Alltag
DESCRIPTION:im Bewegungsraum\nKursleitung: Herr Wolff\nKosten: ja\nAnmeldung über Kursleitung
URL:https://boergerhus.de/event/fit-und-beweglich-im-alltag-2/2027-05-31/
ATTACH;FMTTYPE=image/jpeg:https://boergerhus.de/wp-content/uploads/2022/04/medicine-ball-g4e00851d0_1280.jpg
END:VEVENT
END:VCALENDAR