BEGIN:VCALENDAR
VERSION:2.0
PRODID:-//Börgerhus Rostock - Stadtteil- und Begegnungszentrum Groß Klein - ECPv6.15.20//NONSGML v1.0//EN
CALSCALE:GREGORIAN
METHOD:PUBLISH
X-WR-CALNAME:Börgerhus Rostock - Stadtteil- und Begegnungszentrum Groß Klein
X-ORIGINAL-URL:https://boergerhus.de
X-WR-CALDESC:Veranstaltungen für Börgerhus Rostock - Stadtteil- und Begegnungszentrum Groß Klein
REFRESH-INTERVAL;VALUE=DURATION:PT1H
X-Robots-Tag:noindex
X-PUBLISHED-TTL:PT1H
BEGIN:VTIMEZONE
TZID:Europe/Berlin
BEGIN:DAYLIGHT
TZOFFSETFROM:+0100
TZOFFSETTO:+0200
TZNAME:CEST
DTSTART:20260329T010000
END:DAYLIGHT
BEGIN:STANDARD
TZOFFSETFROM:+0200
TZOFFSETTO:+0100
TZNAME:CET
DTSTART:20261025T010000
END:STANDARD
BEGIN:DAYLIGHT
TZOFFSETFROM:+0100
TZOFFSETTO:+0200
TZNAME:CEST
DTSTART:20270328T010000
END:DAYLIGHT
BEGIN:STANDARD
TZOFFSETFROM:+0200
TZOFFSETTO:+0100
TZNAME:CET
DTSTART:20271031T010000
END:STANDARD
BEGIN:DAYLIGHT
TZOFFSETFROM:+0100
TZOFFSETTO:+0200
TZNAME:CEST
DTSTART:20280326T010000
END:DAYLIGHT
BEGIN:STANDARD
TZOFFSETFROM:+0200
TZOFFSETTO:+0100
TZNAME:CET
DTSTART:20281029T010000
END:STANDARD
END:VTIMEZONE
BEGIN:VEVENT
DTSTART;TZID=Europe/Berlin:20270405T171500
DTEND;TZID=Europe/Berlin:20270405T181500
DTSTAMP:20260420T092322
CREATED:20250203T154001Z
LAST-MODIFIED:20250203T154001Z
UID:29705-1806945300-1806948900@boergerhus.de
SUMMARY:Fit und beweglich im Alltag
DESCRIPTION:im Bewegungsraum\nKursleitung: Herr Wolff\nKosten: ja\nAnmeldung über Kursleitung
URL:https://boergerhus.de/event/fit-und-beweglich-im-alltag-2/2027-04-05/
ATTACH;FMTTYPE=image/jpeg:https://boergerhus.de/wp-content/uploads/2022/04/medicine-ball-g4e00851d0_1280.jpg
END:VEVENT
BEGIN:VEVENT
DTSTART;TZID=Europe/Berlin:20270412T171500
DTEND;TZID=Europe/Berlin:20270412T181500
DTSTAMP:20260420T092322
CREATED:20250203T154001Z
LAST-MODIFIED:20250203T154001Z
UID:29759-1807550100-1807553700@boergerhus.de
SUMMARY:Fit und beweglich im Alltag
DESCRIPTION:im Bewegungsraum\nKursleitung: Herr Wolff\nKosten: ja\nAnmeldung über Kursleitung
URL:https://boergerhus.de/event/fit-und-beweglich-im-alltag-2/2027-04-12/
ATTACH;FMTTYPE=image/jpeg:https://boergerhus.de/wp-content/uploads/2022/04/medicine-ball-g4e00851d0_1280.jpg
END:VEVENT
BEGIN:VEVENT
DTSTART;TZID=Europe/Berlin:20270419T171500
DTEND;TZID=Europe/Berlin:20270419T181500
DTSTAMP:20260420T092322
CREATED:20250203T154001Z
LAST-MODIFIED:20250203T154001Z
UID:29805-1808154900-1808158500@boergerhus.de
SUMMARY:Fit und beweglich im Alltag
DESCRIPTION:im Bewegungsraum\nKursleitung: Herr Wolff\nKosten: ja\nAnmeldung über Kursleitung
URL:https://boergerhus.de/event/fit-und-beweglich-im-alltag-2/2027-04-19/
ATTACH;FMTTYPE=image/jpeg:https://boergerhus.de/wp-content/uploads/2022/04/medicine-ball-g4e00851d0_1280.jpg
END:VEVENT
BEGIN:VEVENT
DTSTART;TZID=Europe/Berlin:20270426T171500
DTEND;TZID=Europe/Berlin:20270426T181500
DTSTAMP:20260420T092322
CREATED:20250203T154001Z
LAST-MODIFIED:20250203T154001Z
UID:29848-1808759700-1808763300@boergerhus.de
SUMMARY:Fit und beweglich im Alltag
DESCRIPTION:im Bewegungsraum\nKursleitung: Herr Wolff\nKosten: ja\nAnmeldung über Kursleitung
URL:https://boergerhus.de/event/fit-und-beweglich-im-alltag-2/2027-04-26/
ATTACH;FMTTYPE=image/jpeg:https://boergerhus.de/wp-content/uploads/2022/04/medicine-ball-g4e00851d0_1280.jpg
END:VEVENT
END:VCALENDAR