BEGIN:VCALENDAR
VERSION:2.0
PRODID:-//Börgerhus Rostock - Stadtteil- und Begegnungszentrum Groß Klein - ECPv6.15.20//NONSGML v1.0//EN
CALSCALE:GREGORIAN
METHOD:PUBLISH
X-WR-CALNAME:Börgerhus Rostock - Stadtteil- und Begegnungszentrum Groß Klein
X-ORIGINAL-URL:https://boergerhus.de
X-WR-CALDESC:Veranstaltungen für Börgerhus Rostock - Stadtteil- und Begegnungszentrum Groß Klein
REFRESH-INTERVAL;VALUE=DURATION:PT1H
X-Robots-Tag:noindex
X-PUBLISHED-TTL:PT1H
BEGIN:VTIMEZONE
TZID:Europe/Berlin
BEGIN:DAYLIGHT
TZOFFSETFROM:+0100
TZOFFSETTO:+0200
TZNAME:CEST
DTSTART:20250330T010000
END:DAYLIGHT
BEGIN:STANDARD
TZOFFSETFROM:+0200
TZOFFSETTO:+0100
TZNAME:CET
DTSTART:20251026T010000
END:STANDARD
BEGIN:DAYLIGHT
TZOFFSETFROM:+0100
TZOFFSETTO:+0200
TZNAME:CEST
DTSTART:20260329T010000
END:DAYLIGHT
BEGIN:STANDARD
TZOFFSETFROM:+0200
TZOFFSETTO:+0100
TZNAME:CET
DTSTART:20261025T010000
END:STANDARD
BEGIN:DAYLIGHT
TZOFFSETFROM:+0100
TZOFFSETTO:+0200
TZNAME:CEST
DTSTART:20270328T010000
END:DAYLIGHT
BEGIN:STANDARD
TZOFFSETFROM:+0200
TZOFFSETTO:+0100
TZNAME:CET
DTSTART:20271031T010000
END:STANDARD
END:VTIMEZONE
BEGIN:VEVENT
DTSTART;TZID=Europe/Berlin:20261102T171500
DTEND;TZID=Europe/Berlin:20261102T181500
DTSTAMP:20260420T183859
CREATED:20250203T154001Z
LAST-MODIFIED:20250203T161609Z
UID:28579-1793639700-1793643300@boergerhus.de
SUMMARY:Fit und beweglich im Alltag
DESCRIPTION:im Bewegungsraum\nKursleitung: Herr Wolff\nKosten: ja\nAnmeldung über Kursleitung
URL:https://boergerhus.de/event/fit-und-beweglich-im-alltag-2/2026-11-02/
ATTACH;FMTTYPE=image/jpeg:https://boergerhus.de/wp-content/uploads/2022/04/medicine-ball-g4e00851d0_1280.jpg
END:VEVENT
BEGIN:VEVENT
DTSTART;TZID=Europe/Berlin:20261109T171500
DTEND;TZID=Europe/Berlin:20261109T181500
DTSTAMP:20260420T183859
CREATED:20250203T154001Z
LAST-MODIFIED:20250203T161610Z
UID:28580-1794244500-1794248100@boergerhus.de
SUMMARY:Fit und beweglich im Alltag
DESCRIPTION:im Bewegungsraum\nKursleitung: Herr Wolff\nKosten: ja\nAnmeldung über Kursleitung
URL:https://boergerhus.de/event/fit-und-beweglich-im-alltag-2/2026-11-09/
ATTACH;FMTTYPE=image/jpeg:https://boergerhus.de/wp-content/uploads/2022/04/medicine-ball-g4e00851d0_1280.jpg
END:VEVENT
BEGIN:VEVENT
DTSTART;TZID=Europe/Berlin:20261116T171500
DTEND;TZID=Europe/Berlin:20261116T181500
DTSTAMP:20260420T183859
CREATED:20250203T154001Z
LAST-MODIFIED:20250203T161610Z
UID:28581-1794849300-1794852900@boergerhus.de
SUMMARY:Fit und beweglich im Alltag
DESCRIPTION:im Bewegungsraum\nKursleitung: Herr Wolff\nKosten: ja\nAnmeldung über Kursleitung
URL:https://boergerhus.de/event/fit-und-beweglich-im-alltag-2/2026-11-16/
ATTACH;FMTTYPE=image/jpeg:https://boergerhus.de/wp-content/uploads/2022/04/medicine-ball-g4e00851d0_1280.jpg
END:VEVENT
BEGIN:VEVENT
DTSTART;TZID=Europe/Berlin:20261123T171500
DTEND;TZID=Europe/Berlin:20261123T181500
DTSTAMP:20260420T183859
CREATED:20250203T154001Z
LAST-MODIFIED:20250203T161610Z
UID:28582-1795454100-1795457700@boergerhus.de
SUMMARY:Fit und beweglich im Alltag
DESCRIPTION:im Bewegungsraum\nKursleitung: Herr Wolff\nKosten: ja\nAnmeldung über Kursleitung
URL:https://boergerhus.de/event/fit-und-beweglich-im-alltag-2/2026-11-23/
ATTACH;FMTTYPE=image/jpeg:https://boergerhus.de/wp-content/uploads/2022/04/medicine-ball-g4e00851d0_1280.jpg
END:VEVENT
BEGIN:VEVENT
DTSTART;TZID=Europe/Berlin:20261130T171500
DTEND;TZID=Europe/Berlin:20261130T181500
DTSTAMP:20260420T183859
CREATED:20250203T154001Z
LAST-MODIFIED:20250203T161610Z
UID:28583-1796058900-1796062500@boergerhus.de
SUMMARY:Fit und beweglich im Alltag
DESCRIPTION:im Bewegungsraum\nKursleitung: Herr Wolff\nKosten: ja\nAnmeldung über Kursleitung
URL:https://boergerhus.de/event/fit-und-beweglich-im-alltag-2/2026-11-30/
ATTACH;FMTTYPE=image/jpeg:https://boergerhus.de/wp-content/uploads/2022/04/medicine-ball-g4e00851d0_1280.jpg
END:VEVENT
END:VCALENDAR