BEGIN:VCALENDAR
VERSION:2.0
PRODID:-//Börgerhus Rostock - Stadtteil- und Begegnungszentrum Groß Klein - ECPv6.15.20//NONSGML v1.0//EN
CALSCALE:GREGORIAN
METHOD:PUBLISH
X-WR-CALNAME:Börgerhus Rostock - Stadtteil- und Begegnungszentrum Groß Klein
X-ORIGINAL-URL:https://boergerhus.de
X-WR-CALDESC:Veranstaltungen für Börgerhus Rostock - Stadtteil- und Begegnungszentrum Groß Klein
REFRESH-INTERVAL;VALUE=DURATION:PT1H
X-Robots-Tag:noindex
X-PUBLISHED-TTL:PT1H
BEGIN:VTIMEZONE
TZID:Europe/Berlin
BEGIN:DAYLIGHT
TZOFFSETFROM:+0100
TZOFFSETTO:+0200
TZNAME:CEST
DTSTART:20250330T010000
END:DAYLIGHT
BEGIN:STANDARD
TZOFFSETFROM:+0200
TZOFFSETTO:+0100
TZNAME:CET
DTSTART:20251026T010000
END:STANDARD
BEGIN:DAYLIGHT
TZOFFSETFROM:+0100
TZOFFSETTO:+0200
TZNAME:CEST
DTSTART:20260329T010000
END:DAYLIGHT
BEGIN:STANDARD
TZOFFSETFROM:+0200
TZOFFSETTO:+0100
TZNAME:CET
DTSTART:20261025T010000
END:STANDARD
BEGIN:DAYLIGHT
TZOFFSETFROM:+0100
TZOFFSETTO:+0200
TZNAME:CEST
DTSTART:20270328T010000
END:DAYLIGHT
BEGIN:STANDARD
TZOFFSETFROM:+0200
TZOFFSETTO:+0100
TZNAME:CET
DTSTART:20271031T010000
END:STANDARD
END:VTIMEZONE
BEGIN:VEVENT
DTSTART;TZID=Europe/Berlin:20260223T085500
DTEND;TZID=Europe/Berlin:20260223T095500
DTSTAMP:20260420T145632
CREATED:20250203T152746Z
LAST-MODIFIED:20250203T152746Z
UID:27630-1771836900-1771840500@boergerhus.de
SUMMARY:Sicher und aktiv im Alter\, Sturzprävention
DESCRIPTION:im Bewegungsraum\nKursleitung: Nadine Kühne\nKosten: keine\nAnmeldung über Börgerhus
URL:https://boergerhus.de/event/sicher-und-aktiv-im-alter-sturzpraevention-2/2026-02-23/
ATTACH;FMTTYPE=image/jpeg:https://boergerhus.de/wp-content/uploads/2022/04/medicine-ball-g4e00851d0_1280.jpg
END:VEVENT
BEGIN:VEVENT
DTSTART;TZID=Europe/Berlin:20260223T100000
DTEND;TZID=Europe/Berlin:20260223T113000
DTSTAMP:20260420T145632
CREATED:20250203T153543Z
LAST-MODIFIED:20250203T153543Z
UID:27891-1771840800-1771846200@boergerhus.de
SUMMARY:Sprachpraxis Deutsch im Multifunktionsraum
DESCRIPTION:Deutsch lernen mit Hilfe von Sprachpat*innen. \nTreff im Multifunktionsraum. \nInfos und Anmeldung über Info-Punkt Tel. 877 299 23
URL:https://boergerhus.de/event/sprachpraxis-deutsch-im-multifunktionsraum-2/2026-02-23/
ATTACH;FMTTYPE=image/png:https://boergerhus.de/wp-content/uploads/2022/09/Sprechen.png
END:VEVENT
BEGIN:VEVENT
DTSTART;TZID=Europe/Berlin:20260223T100000
DTEND;TZID=Europe/Berlin:20260223T120000
DTSTAMP:20260420T145632
CREATED:20220404T111631Z
LAST-MODIFIED:20220404T111631Z
UID:22724-1771840800-1771848000@boergerhus.de
SUMMARY:Montagsmaler - Kreativraum
DESCRIPTION:Montagsmaler im Kreativraum Börgerhus
URL:https://boergerhus.de/event/montagsmaler-2/2026-02-23/
LOCATION:Börgerhus\, Kreativraum
ATTACH;FMTTYPE=image/jpeg:https://boergerhus.de/wp-content/uploads/2022/04/painting-g8b2f677c8_1280.jpg
ORGANIZER;CN="AWO B%C3%B6rgerhus":MAILTO:boergerhus@awo-rostock.de
END:VEVENT
BEGIN:VEVENT
DTSTART;TZID=Europe/Berlin:20260223T100500
DTEND;TZID=Europe/Berlin:20260223T110500
DTSTAMP:20260420T145632
CREATED:20250203T153003Z
LAST-MODIFIED:20250203T153003Z
UID:27702-1771841100-1771844700@boergerhus.de
SUMMARY:Gymnastik für Alle
DESCRIPTION:im Bewegungsraum\nKursleitung: Nadine Kühne\nKosten: ja\nAnmeldung über Kursleitung
URL:https://boergerhus.de/event/gymnastik-fuer-alle/2026-02-23/
ATTACH;FMTTYPE=image/jpeg:https://boergerhus.de/wp-content/uploads/2022/04/medicine-ball-g4e00851d0_1280.jpg
END:VEVENT
BEGIN:VEVENT
DTSTART;TZID=Europe/Berlin:20260223T134500
DTEND;TZID=Europe/Berlin:20260223T154500
DTSTAMP:20260420T145632
CREATED:20260127T160148Z
LAST-MODIFIED:20260127T160148Z
UID:33579-1771854300-1771861500@boergerhus.de
SUMMARY:Spiele-Nachmittag
DESCRIPTION:Hier treffen sich mehrere Gruppen in der Cafeteria\, um gemeinsam zu spielen (Karten- und Brettspiele). Einfach dazukommen ist jederzeit möglich!
URL:https://boergerhus.de/event/spiele-nachmittag/2026-02-23/
END:VEVENT
BEGIN:VEVENT
DTSTART;TZID=Europe/Berlin:20260223T140000
DTEND;TZID=Europe/Berlin:20260223T160000
DTSTAMP:20260420T145632
CREATED:20260127T160746Z
LAST-MODIFIED:20260127T160746Z
UID:33604-1771855200-1771862400@boergerhus.de
SUMMARY:Sportspiele für 10-14jährige
DESCRIPTION:in der Sporthalle Gerüstbauerring 27 \nInformation unter Tel. 0381 120 11 36 (Jugendtreff 224)
URL:https://boergerhus.de/event/sportspiele-fuer-10-14jaehrige/2026-02-23/
END:VEVENT
BEGIN:VEVENT
DTSTART;TZID=Europe/Berlin:20260223T140000
DTEND;TZID=Europe/Berlin:20260223T173000
DTSTAMP:20260420T145632
CREATED:20250805T155303Z
LAST-MODIFIED:20250805T155303Z
UID:31960-1771855200-1771867800@boergerhus.de
SUMMARY:Sprachunterricht B1 + B2
DESCRIPTION:Teilnahme kostenfrei \n14 Uhr B1 / 15:45 B2 \nOrganisation und Durchführung „Freundeskreis Flüchtlinge Biestow“ \nAnsprechpartner: Stephan Koepke
URL:https://boergerhus.de/event/sprachunterricht-b1-b2/2026-02-23/
ATTACH;FMTTYPE=image/jpeg:https://boergerhus.de/wp-content/uploads/2023/02/Familie.jpg
END:VEVENT
BEGIN:VEVENT
DTSTART;TZID=Europe/Berlin:20260223T150000
DTEND;TZID=Europe/Berlin:20260223T160000
DTSTAMP:20260420T145632
CREATED:20260127T161119Z
LAST-MODIFIED:20260127T161119Z
UID:33656-1771858800-1771862400@boergerhus.de
SUMMARY:Kinder- und Familiensport
DESCRIPTION:Liebe Familien\, \nwir laden Sie ein\, sich gemeinsam mit Ihren Kindern zu bewegen. Jeden Montag findet von 15-16 Uhr unser Kinder- und Familiensport in der Sporthalle Gerüstbauerring 27 statt. \nDas Angebot ist kostenlos und richtet sich an Familien mit Kindern ab 2 Jahren.\nAnmeldungen nehmen wir im Börgerhus unter boergerhus@awo-rostock.de/ Tel.: 0381/1217355 oder bei Maria Meier im KiFaZ unter maria.meier@vs-hro.de/ Tel.: 015779016284 entgegen. \nBitte bringen Sie Sportsachen\, Hallenschuhe (mit nicht färbender Sohle) und etwas zu trinken mit. \nKommen Sie gerne vorbei und probieren sich aus. Wir freuen uns auf viele sportbegeisterte Familien! \nBei Fragen\, melden Sie sich gern!
URL:https://boergerhus.de/event/kinder-und-familiensport/2026-02-23/
END:VEVENT
BEGIN:VEVENT
DTSTART;TZID=Europe/Berlin:20260223T150000
DTEND;TZID=Europe/Berlin:20260223T170000
DTSTAMP:20260420T145632
CREATED:20220915T094733Z
LAST-MODIFIED:20220915T094733Z
UID:22728-1771858800-1771866000@boergerhus.de
SUMMARY:Sprachpraxis Deutsch im Multifunktionsraum
DESCRIPTION:Deutsch lernen mit Hilfe von Sprachpat*innen. \nTreff im Multifunktionsraum. \nInfos und Anmeldung über Info-Punkt Tel. 877 299 23
URL:https://boergerhus.de/event/sprachpraxis-deutsch-im-multifunktionsraum/2026-02-23/
ATTACH;FMTTYPE=image/png:https://boergerhus.de/wp-content/uploads/2022/09/Sprechen.png
END:VEVENT
BEGIN:VEVENT
DTSTART;TZID=Europe/Berlin:20260223T160000
DTEND;TZID=Europe/Berlin:20260223T170000
DTSTAMP:20260420T145632
CREATED:20260109T083854Z
LAST-MODIFIED:20260109T083854Z
UID:33306-1771862400-1771866000@boergerhus.de
SUMMARY:Entdeckerkinder
DESCRIPTION:Kreativangebote\, Experimente und Bewegung für Kinder im Alter von 3-6 Jahren \nim Multifunktionsraum \ndas Angebot findet alle 2 Wochen statt (in den ungeraden Kalenderwochen) \nLeitung: Franka Herfurth \nAnmeldung über Börgerhus
URL:https://boergerhus.de/event/entdeckerkinder/2026-02-23/
ATTACH;FMTTYPE=image/png:https://boergerhus.de/wp-content/uploads/2026/01/Kinder.png
END:VEVENT
BEGIN:VEVENT
DTSTART;TZID=Europe/Berlin:20260223T160000
DTEND;TZID=Europe/Berlin:20260223T170000
DTSTAMP:20260420T145632
CREATED:20260127T161343Z
LAST-MODIFIED:20260127T161343Z
UID:33678-1771862400-1771866000@boergerhus.de
SUMMARY:Fit und beweglich im Alltag
DESCRIPTION:im Bewegungsraum \nKursleitung Herr Wolff
URL:https://boergerhus.de/event/fit-und-beweglich-im-alltag-3/2026-02-23/
ATTACH;FMTTYPE=image/jpeg:https://boergerhus.de/wp-content/uploads/2024/03/woman-8415734_1280.jpg
END:VEVENT
BEGIN:VEVENT
DTSTART;TZID=Europe/Berlin:20260223T171500
DTEND;TZID=Europe/Berlin:20260223T181500
DTSTAMP:20260420T145632
CREATED:20240828T111943Z
LAST-MODIFIED:20250805T150933Z
UID:30778-1771866900-1771870500@boergerhus.de
SUMMARY:Fit ab 50 im Bewegungsraum
DESCRIPTION:Kursleiterin: Vera Radu
URL:https://boergerhus.de/event/fit-ab-50-im-bewegungsraum/2026-02-23/
ATTACH;FMTTYPE=image/jpeg:https://boergerhus.de/wp-content/uploads/2022/04/medicine-ball-g4e00851d0_1280.jpg
END:VEVENT
BEGIN:VEVENT
DTSTART;TZID=Europe/Berlin:20260223T183000
DTEND;TZID=Europe/Berlin:20260223T193000
DTSTAMP:20260420T145632
CREATED:20260127T161500Z
LAST-MODIFIED:20260127T161500Z
UID:33690-1771871400-1771875000@boergerhus.de
SUMMARY:Wirbelsäulengymnastik
DESCRIPTION:im Bewegungsraum
URL:https://boergerhus.de/event/wirbelsaeulengymnastik-2/2026-02-23/
END:VEVENT
END:VCALENDAR