BEGIN:VCALENDAR
VERSION:2.0
PRODID:-//Börgerhus Rostock - Stadtteil- und Begegnungszentrum Groß Klein - ECPv6.15.20//NONSGML v1.0//EN
CALSCALE:GREGORIAN
METHOD:PUBLISH
X-ORIGINAL-URL:https://boergerhus.de
X-WR-CALDESC:Veranstaltungen für Börgerhus Rostock - Stadtteil- und Begegnungszentrum Groß Klein
REFRESH-INTERVAL;VALUE=DURATION:PT1H
X-Robots-Tag:noindex
X-PUBLISHED-TTL:PT1H
BEGIN:VTIMEZONE
TZID:Europe/Berlin
BEGIN:DAYLIGHT
TZOFFSETFROM:+0100
TZOFFSETTO:+0200
TZNAME:CEST
DTSTART:20240331T010000
END:DAYLIGHT
BEGIN:STANDARD
TZOFFSETFROM:+0200
TZOFFSETTO:+0100
TZNAME:CET
DTSTART:20241027T010000
END:STANDARD
BEGIN:DAYLIGHT
TZOFFSETFROM:+0100
TZOFFSETTO:+0200
TZNAME:CEST
DTSTART:20250330T010000
END:DAYLIGHT
BEGIN:STANDARD
TZOFFSETFROM:+0200
TZOFFSETTO:+0100
TZNAME:CET
DTSTART:20251026T010000
END:STANDARD
BEGIN:DAYLIGHT
TZOFFSETFROM:+0100
TZOFFSETTO:+0200
TZNAME:CEST
DTSTART:20260329T010000
END:DAYLIGHT
BEGIN:STANDARD
TZOFFSETFROM:+0200
TZOFFSETTO:+0100
TZNAME:CET
DTSTART:20261025T010000
END:STANDARD
END:VTIMEZONE
BEGIN:VEVENT
DTSTART;TZID=Europe/Berlin:20251104T090000
DTEND;TZID=Europe/Berlin:20251104T100000
DTSTAMP:20260424T030525
CREATED:20220406T072342Z
LAST-MODIFIED:20220406T072342Z
UID:21888-1762246800-1762250400@boergerhus.de
SUMMARY:Gesundheitssport draußen oder Bewegungsraum
DESCRIPTION:Gesundheitssport draußen oder Bewegungsraum
URL:https://boergerhus.de/event/gesundheitssport-draussen-oder-bewegungsraum/2025-11-04/
LOCATION:Börgerhus\, Bewegungsraum
ATTACH;FMTTYPE=image/jpeg:https://boergerhus.de/wp-content/uploads/2022/04/medicine-ball-g4e00851d0_1280.jpg
ORGANIZER;CN="AWO B%C3%B6rgerhus":MAILTO:boergerhus@awo-rostock.de
END:VEVENT
BEGIN:VEVENT
DTSTART;TZID=Europe/Berlin:20251104T100000
DTEND;TZID=Europe/Berlin:20251104T120000
DTSTAMP:20260424T030525
CREATED:20220406T072615Z
LAST-MODIFIED:20220406T072615Z
UID:21889-1762250400-1762257600@boergerhus.de
SUMMARY:Dienstagsmaler - Kreativraum
DESCRIPTION:Dienstagsmaler Kreativraum Börgerhus
URL:https://boergerhus.de/event/dienstagsmaler-kreativraum-boergerhus/2025-11-04/
LOCATION:Börgerhus\, Kreativraum
ATTACH;FMTTYPE=image/jpeg:https://boergerhus.de/wp-content/uploads/2022/04/painting-g8b2f677c8_1280.jpg
ORGANIZER;CN="AWO B%C3%B6rgerhus":MAILTO:boergerhus@awo-rostock.de
END:VEVENT
BEGIN:VEVENT
DTSTART;TZID=Europe/Berlin:20251104T103000
DTEND;TZID=Europe/Berlin:20251104T113000
DTSTAMP:20260424T030525
CREATED:20220422T123110Z
LAST-MODIFIED:20220422T123110Z
UID:21894-1762252200-1762255800@boergerhus.de
SUMMARY:Reha-Sport - Bewegungsraum
DESCRIPTION:Reha-Sport – Bewegungsraum
URL:https://boergerhus.de/event/reha-sport-bewegungsraum/2025-11-04/
ATTACH;FMTTYPE=image/jpeg:https://boergerhus.de/wp-content/uploads/2022/04/medicine-ball-g4e00851d0_1280.jpg
END:VEVENT
BEGIN:VEVENT
DTSTART;TZID=Europe/Berlin:20251104T160000
DTEND;TZID=Europe/Berlin:20251104T170000
DTSTAMP:20260424T030525
CREATED:20220406T073323Z
LAST-MODIFIED:20220406T073323Z
UID:21892-1762272000-1762275600@boergerhus.de
SUMMARY:Familien am Ball - Bewegungsraum
DESCRIPTION:Familien am Ball\nBewegungsraum Börgerhus
URL:https://boergerhus.de/event/familien-am-ball-bewegungsraum-boergerhus/2025-11-04/
LOCATION:Börgerhus\, Bewegungsraum
ATTACH;FMTTYPE=image/jpeg:https://boergerhus.de/wp-content/uploads/2022/04/family-gd49efca77_1280.jpg
ORGANIZER;CN="AWO B%C3%B6rgerhus":MAILTO:boergerhus@awo-rostock.de
END:VEVENT
BEGIN:VEVENT
DTSTART;TZID=Europe/Berlin:20251104T163000
DTEND;TZID=Europe/Berlin:20251104T190000
DTSTAMP:20260424T030525
CREATED:20240802T080015Z
LAST-MODIFIED:20240802T080015Z
UID:24519-1762273800-1762282800@boergerhus.de
SUMMARY:Kochen und  Backen im "224"
DESCRIPTION:offenes Angebot für Kinder und Jugendliche im Jugendclub „224“
URL:https://boergerhus.de/event/kochen-und-backen-im-224/2025-11-04/
ATTACH;FMTTYPE=image/png:https://boergerhus.de/wp-content/uploads/2023/12/Vorlage-Header-mit-Logo-Boergerhus_JZ224.png
END:VEVENT
BEGIN:VEVENT
DTSTART;TZID=Europe/Berlin:20251104T173000
DTEND;TZID=Europe/Berlin:20251104T183000
DTSTAMP:20260424T030525
CREATED:20220406T073555Z
LAST-MODIFIED:20220406T073555Z
UID:21890-1762277400-1762281000@boergerhus.de
SUMMARY:Reha-Sport - Bewegungsraum
DESCRIPTION:Reha-Sport Bewegungsraum Börgerhus
URL:https://boergerhus.de/event/reha-sport-bewegungsraum-boergerhus-2/2025-11-04/
LOCATION:Börgerhus\, Bewegungsraum
ATTACH;FMTTYPE=image/jpeg:https://boergerhus.de/wp-content/uploads/2022/04/medicine-ball-g4e00851d0_1280.jpg
ORGANIZER;CN="AWO B%C3%B6rgerhus":MAILTO:boergerhus@awo-rostock.de
END:VEVENT
BEGIN:VEVENT
DTSTART;TZID=Europe/Berlin:20251104T190000
DTEND;TZID=Europe/Berlin:20251104T200000
DTSTAMP:20260424T030525
CREATED:20250805T152001Z
LAST-MODIFIED:20250805T152053Z
UID:31009-1762282800-1762286400@boergerhus.de
SUMMARY:Qi Gong - im Bewegungsraum
DESCRIPTION:Kursleiterin: Vera Radu
URL:https://boergerhus.de/event/qi-gong-im-bewegungsraum/2025-11-04/
ATTACH;FMTTYPE=image/jpeg:https://boergerhus.de/wp-content/uploads/2025/08/qi-1583809_1280.jpg
END:VEVENT
END:VCALENDAR